BEGIN:VCALENDAR
VERSION:2.0
PRODID:-//ppc - ECPv6.6.3//NONSGML v1.0//EN
CALSCALE:GREGORIAN
METHOD:PUBLISH
X-WR-CALNAME:ppc
X-ORIGINAL-URL:https://popculture.at
X-WR-CALDESC:Veranstaltungen für ppc
REFRESH-INTERVAL;VALUE=DURATION:PT1H
X-Robots-Tag:noindex
X-PUBLISHED-TTL:PT1H
BEGIN:VTIMEZONE
TZID:Europe/Berlin
BEGIN:DAYLIGHT
TZOFFSETFROM:+0100
TZOFFSETTO:+0200
TZNAME:CEST
DTSTART:20220327T010000
END:DAYLIGHT
BEGIN:STANDARD
TZOFFSETFROM:+0200
TZOFFSETTO:+0100
TZNAME:CET
DTSTART:20221030T010000
END:STANDARD
END:VTIMEZONE
BEGIN:VEVENT
DTSTART;TZID=Europe/Berlin:20221212T190000
DTEND;TZID=Europe/Berlin:20221212T223000
DTSTAMP:20260424T223140
CREATED:20211129T124550Z
LAST-MODIFIED:20220713T081709Z
UID:10000389-1670871600-1670884200@popculture.at
SUMMARY:Shantel & Bucovoina Club Orkestar
DESCRIPTION:The Disko Partizani Years TOUR 2022 \n\n\n\nMit seinem kreativen Ansatz Kulturen zu vermischen wurde Shantel weltweit das hörbare Gesicht eines anderen Deutschlands\, ist er doch der erste\, der hier der Popkultur einen kosmopolitischen Sound einimpfte. Bei ihm ist Migration hör- und tanzbar. Musikalische Preziosen aus Südosteuropa\, dem nahen Osten oder vom Mittelmeer erscheinen in einem neuen\, vielschichtigen Kontext\, damit wird auch die \n\n\n\nKultur\, aus der sie entstammen\, intuitiv erfahrbar. Seine Methode ist kulturelles Mixing und Sampling: Dinge aus dem Zusammenhang reißen und in einen neuen überführen.Clubkultur als Konzept\, das sich permanent weiterentwickelt und nicht als Museum\, in dem das ewig Gleiche repetiert wird – wie in Berlin\, wo tausende von Touristen vor dem Berghain warten\, um das Vorhersehbare erleben zu dürfen. Nun schlägt Shantel mit 30 Jahre Club Guerilla ein neues Kapitel seiner never ending Tour unter dem Motto „Shantology // 30 Years of Club Guerilla“ auf. Zum Fest erscheint eine aufwändige 4-LP-\, 2-CD-Box mit opulentem Begleitbuch mit Texten und Bildern\, die Shantels Weg nachzeichnen. Die Alben werden voll mit unveröffentlichtem\, neu aufgenommenem und bestens abgehangenem Material sein\, das eindrücklich die zeitlose Hit-Qualität seiner Musik herausarbeitet. Rückschau – eher nicht\, rückblickende Vorausschau – schon eher. Der Disko Partizane liebt es spannend und bleibt für Überraschungen gut. \n\n\n\n Kartenvorverkauf zum günstigsten Preis auf www.sparkasse.at/ticketing\, Ermäßigung für Sparkassenkunden \n\n\n\n\n\n\nTickets kaufen\nBuy Tickets on Eventbrite
URL:https://popculture.at/event/shantel-bucovoina-club-orkestar-2/
CATEGORIES:Konzert
ATTACH;FMTTYPE=image/jpeg:https://popculture.at/wp-content/uploads/2021/09/shantel.jpg
END:VEVENT
END:VCALENDAR