BEGIN:VCALENDAR
VERSION:2.0
PRODID:-//ppc - ECPv6.6.3//NONSGML v1.0//EN
CALSCALE:GREGORIAN
METHOD:PUBLISH
X-WR-CALNAME:ppc
X-ORIGINAL-URL:https://popculture.at
X-WR-CALDESC:Veranstaltungen für ppc
REFRESH-INTERVAL;VALUE=DURATION:PT1H
X-Robots-Tag:noindex
X-PUBLISHED-TTL:PT1H
BEGIN:VTIMEZONE
TZID:Europe/Berlin
BEGIN:DAYLIGHT
TZOFFSETFROM:+0100
TZOFFSETTO:+0200
TZNAME:CEST
DTSTART:20220327T010000
END:DAYLIGHT
BEGIN:STANDARD
TZOFFSETFROM:+0200
TZOFFSETTO:+0100
TZNAME:CET
DTSTART:20221030T010000
END:STANDARD
END:VTIMEZONE
BEGIN:VEVENT
DTSTART;TZID=Europe/Berlin:20221202T190000
DTEND;TZID=Europe/Berlin:20221202T223000
DTSTAMP:20260424T210013
CREATED:20221017T113455Z
LAST-MODIFIED:20221017T113457Z
UID:10000668-1670007600-1670020200@popculture.at
SUMMARY:MOTHER'S CAKE
DESCRIPTION:Support: BLITZPOP \n\n\n\nDas international phänomenale Psych-Rock-(ehem.)Trio Mother’s Cake gibt sich auf seinem fünften Album passend:sky high\, far out und trotzdem erdig. Über ein Jahr vorbereitet\, an mehreren schlafentzogenen72-Stunden-Sessions produziert\, konzentrieren sich Mother’sCake in den zwölf neuen Tracks von „CYBERFUNK!“ auf das Wesentliche: sie bündeln ihre roughe Live-Energie zu einem dynamisch dichten und immer wieder überraschenden Album\, das nach Vintage-Wahnsinn klingt und voll in den Moment passt. „CYBERFUNK!“ entstand\, dem Albumtitel zum Trotz\, nahezu klassisch\, zu dritt in einem Raum\, immer gleich so wie es klingen soll\, mit deutlich weniger Overdubs\, mehr echtem Bandsound und der Magie des gemeinsamen Band-recording. Dass dabei die Vocals von Yves Krismer mehr ins Mark treffen und in den Vordergrund treten\, spricht für die Entwicklung der Band. Es gibt schließlich keinen Weg\, so weiß es der Postkartenlyriker\, der nicht irgendwann nach Hause führt. Am besten natürlich im übertragenen Sinne –zu sich. Der Weg von Mother‘s Cake hat die Band über hunderte von Konzerten zwischen Manchester\, Melbourne und Mumbai\, Auftritten mit Wolfmother\, Iggy & The Stooges\, Omar Rodriguez Lopez\, Alice In Chains oder Limp Bizkit\, dazu drei erfolgreiche Studioalben und ihr megalomanisches „Live at Pompeji“-Tribut auf der Ski-Schanze von Bergisl direkt zurück zu den eigenen Wurzeln geleitet\, aber nun halt zu viert! Denn Raphael Neikes der CYBERFUNK! mit produziert hat\, macht das Quartett komplett. Man darf gespannt sein…. \n\n\n\n \n\n\n\n Kartenvorverkauf zum günstigsten Preis auf www.sparkasse.at/ticketing\, Ermäßigung für Sparkassenkunden
URL:https://popculture.at/event/motherscake/
CATEGORIES:Konzert
ATTACH;FMTTYPE=image/png:https://popculture.at/wp-content/uploads/2022/10/motherscake-fb-va.png
END:VEVENT
BEGIN:VEVENT
DTSTART;TZID=Europe/Berlin:20221202T223000
DTEND;TZID=Europe/Berlin:20221203T040000
DTSTAMP:20260424T210013
CREATED:20210916T090746Z
LAST-MODIFIED:20250630T105125Z
UID:10000544-1670020200-1670040000@popculture.at
SUMMARY:Hey Ya! Die 00er Party (Gratis bis Mitternacht)
DESCRIPTION:Just dance! Die besten Tracks des Jahrzehnts “Get the party started: 2000 -2009 in the mix!”“Eingenullt werden” von den unvergessenen Charthits\, den Rockhymnen aller Art\, den extrem tanzbaren Tracks aber auch fast vergessenen One-Hit-Wonder-Songs\, aufgepeppt mit einer Prise HipHop und RnB.Wir marschieren querbeet durch die Jahre 2000 bis 2009; ganz egal ob Alicia Keys\, The Black Eyed Peas\, Usher\, Linkin Park\, Gigi D’Agostino\, Eminem\, Shakira\, Christina Aguilera\, System Of A Down\, Justin Timberlake\, Enrique Iglesias\, Kylie Minogue\, Destiny’s Child\, Avril Lavigne\,  Lady Gaga\, Blue\, Nickelback\,  Rihanna\, Shaggy\, Usher\, The Gossip\, oder aber auch Groove Coverage –  tanzen\, shaken\, mitsingen! \n\n\n\nSUMMERSPECIALGRATISEINTRITT bis Mitternachtab 24 Uhr: 10€Die Facebook Fanpage (Gratis-Eintritt gewinnen!) zur 00er Party \n\n\n\n Ermäßigung für spark7 Kunden gegen Vorlage der spark7 Debitkarte oder spark7 Student Identity Debitkarte \n\n\n\nEinlass ab 18 Jahren – das ppc behält sich jederzeit Alterskontrollen vor. Dafür werden nur amtlich ausgestellte Lichtbildausweise anerkannt (z.B. Personalausweis\, Reisepass). Kopien oder Fotos von Ausweisen sind ungültig!
URL:https://popculture.at/event/hey-ya-die-00er-party/2022-12-02/
CATEGORIES:Party
ATTACH;FMTTYPE=image/jpeg:https://popculture.at/wp-content/uploads/2025/06/hayya.jpg
END:VEVENT
BEGIN:VEVENT
DTSTART;TZID=Europe/Berlin:20221202T223000
DTEND;TZID=Europe/Berlin:20221203T040000
DTSTAMP:20260424T210013
CREATED:20250630T105133Z
LAST-MODIFIED:20250828T130320Z
UID:10001269-1670020200-1670040000@popculture.at
SUMMARY:Hey Ya! Die 00er Party (Gratis bis Mitternacht)
DESCRIPTION:Just dance! Die besten Tracks des Jahrzehnts “Get the party started: 2000 -2009 in the mix!”“Eingenullt werden” von den unvergessenen Charthits\, den Rockhymnen aller Art\, den extrem tanzbaren Tracks aber auch fast vergessenen One-Hit-Wonder-Songs\, aufgepeppt mit einer Prise HipHop und RnB.Wir marschieren querbeet durch die Jahre 2000 bis 2009; ganz egal ob Alicia Keys\, The Black Eyed Peas\, Usher\, Linkin Park\, Gigi D’Agostino\, Eminem\, Shakira\, Christina Aguilera\, System Of A Down\, Justin Timberlake\, Enrique Iglesias\, Kylie Minogue\, Destiny’s Child\, Avril Lavigne\,  Lady Gaga\, Blue\, Nickelback\,  Rihanna\, Shaggy\, Usher\, The Gossip\, oder aber auch Groove Coverage –  tanzen\, shaken\, mitsingen! \n\n\n\nSUMMERSPECIALGRATISEINTRITT bis Mitternachtab 24 Uhr: 10€Die Facebook Fanpage (Gratis-Eintritt gewinnen!) zur 00er Party \n\n\n\n Ermäßigung für spark7 Kunden gegen Vorlage der spark7 Debitkarte oder spark7 Student Identity Debitkarte \n\n\n\nEinlass ab 18 Jahren – das ppc behält sich jederzeit Alterskontrollen vor. Dafür werden nur amtlich ausgestellte Lichtbildausweise anerkannt (z.B. Personalausweis\, Reisepass). Kopien oder Fotos von Ausweisen sind ungültig!
URL:https://popculture.at/event/hey-ya-die-00er-party-gratis-bis-mitternacht/2022-12-02/
CATEGORIES:Party
ATTACH;FMTTYPE=image/png:https://popculture.at/wp-content/uploads/2025/06/Fridays-Hey-Ya-Querformat.png
END:VEVENT
BEGIN:VEVENT
DTSTART;TZID=Europe/Berlin:20221207T190000
DTEND;TZID=Europe/Berlin:20221207T223000
DTSTAMP:20260424T210013
CREATED:20220920T114746Z
LAST-MODIFIED:20221206T112023Z
UID:10000422-1670439600-1670452200@popculture.at
SUMMARY:CHRISTOPH & LOLLO - VERSCHOBEN
DESCRIPTION:Liebes Graz\,es tut uns furchtbar leid\, aber wir müssen unseren p.p.c.-Termin vom 7.12. absagen. 50% der Band liegen krank und ohne Stimme im Bett\, so schaffen wir keine drei Funaki-Strophen\, geschweige denn einen Snowboarder oder Fidjestoel. Wir sind untröstlich und bitten um Nachsicht.Hier die gute Nachricht: Wir holen den Termin exakt fünf Wochen später nach: 11. Jänner p.p.c. Graz. Kommet alle\, es wird Schanzenrekord!HerzlichstChristoph & Lollo \n\n\n\nBereits gekaufte Tickets behalten ihre Gültigkeit.  \n\n\n\nAuf einer einmaligen Tournee spielen Christoph & Lollo wieder ihre legendären Schispringerlieder. Mittlerweile zu anerkannten Kabarettisten gereift\, kehren sie zurück zu ihren Wurzeln und singen während der Skisprungsaison 2022/23 wieder ausschließlich über Kazuyoshi Funaki\, Ari-Pekka Nikkola\, František Jež & Co. Wie damals zur Jahrtausendwende. Das wird groß. Das wird legendär. Das ist der Telemark. \n\n\n\n \n\n\n\n Kartenvorverkauf zum günstigsten Preis auf www.sparkasse.at/ticketing\, Ermäßigung für Sparkassenkunden
URL:https://popculture.at/event/christophlollo/
CATEGORIES:Konzert
ATTACH;FMTTYPE=image/jpeg:https://popculture.at/wp-content/uploads/2022/09/Pressefoto-Schispringerlieder-Tour-gross-scaled-e1665386132198.jpg
END:VEVENT
BEGIN:VEVENT
DTSTART;TZID=Europe/Berlin:20221210T190000
DTEND;TZID=Europe/Berlin:20221210T220000
DTSTAMP:20260424T210013
CREATED:20221201T135256Z
LAST-MODIFIED:20221202T131834Z
UID:10000445-1670698800-1670709600@popculture.at
SUMMARY:ROCK & ROLL NIGHT / RAWA ROCKSTAR
DESCRIPTION:GOATS AND SHEEP PRESENTS   ROCK & ROLL NIGHTRAWA ROCKSTAR      SUPPORT: MONTEVIDEOTickets auf https://www.oeticket.com/eventseries/rock-roll-night-rawa-rockstar-3257670/   
URL:https://popculture.at/event/rawa/
CATEGORIES:Konzert
ATTACH;FMTTYPE=image/jpeg:https://popculture.at/wp-content/uploads/2022/12/IMG-20221130-WA0019-e1669902695149.jpg
END:VEVENT
BEGIN:VEVENT
DTSTART;TZID=Europe/Berlin:20221210T190000
DTEND;TZID=Europe/Berlin:20221211T030000
DTSTAMP:20260424T210013
CREATED:20221124T082753Z
LAST-MODIFIED:20221124T082755Z
UID:10000441-1670698800-1670727600@popculture.at
SUMMARY:Austrian Beatbox Championship 2022
DESCRIPTION:Am 10.Dezember ist die offizielle österreichische Beatbox Meisterschaft!Erstmalig außerhalb der Hauptstadt in Graz. \n\n\n\nEs gibt 5 Kategorien Solo / Loop / Team / Tagteam / Junior. In einem “Face to Face” Battleformat messen sich die Teilnehmer miteinander und versuchen mit ihren Styles eine internationale Jury von sich zu überzeugen um am Ende den Titel mit nach Hause zu nehmen. \n\n\n\nEintritt: 12€ VK / 15€ AK \n\n\n\nDoors: 19:00Start: 20:00 \n\n\n\nFür die Teilnahme an dem Wettbewerb ist eine Anmeldung per Wildcard Video notwendig: \n\n\n\nEs gibt:16 SOLO WILDCARDS. (2min)4 LOOP WILDCARDS. (3min)4 JUNIOR WILDCARDS (90 sec)2 TEAM WILDCARDS (3min)4 TAG TEAM WILDCARDS (2min) \n\n\n\nLade deine Wildcard auf YouTube hoch und poste den Link in den Wildcardpost in dieser Veranstaltung. \n\n\n\nKONTAKT:Mundakrobaten@gmail.com
URL:https://popculture.at/event/beatbox/
CATEGORIES:Konzert
ATTACH;FMTTYPE=image/jpeg:https://popculture.at/wp-content/uploads/2022/11/309649044_10226765347393272_7858918622534090371_n.jpg
END:VEVENT
BEGIN:VEVENT
DTSTART;TZID=Europe/Berlin:20221210T220000
DTEND;TZID=Europe/Berlin:20221211T040000
DTSTAMP:20260424T210013
CREATED:20210916T085231Z
LAST-MODIFIED:20240418T144345Z
UID:10000517-1670709600-1670731200@popculture.at
SUMMARY:Arbeit Nervt! I Love To Party!
DESCRIPTION:80ies/90ies/00er und die größten aktuellen Partyhits \n\n\n\n#PartyPartyParty#HitsHitsHits \n\n\n\n to partyDIE SAMSTAG-NACHT PARTY im ppc.I  to party \n\n\n\nWir kennen und lieben sie alle … Wir haben zu ihnen getanzt und gefeiert …… und auch heute singen wir sie noch heimlich mit – die ultimativen Partyhits der letzten Jahrzehnte!#PartyPartyParty \n\n\n\n Ermäßigung für spark7 Kunden gegen Vorlage der spark7 Debitkarte oder spark7 Student Identity Debitkarte \n\n\n\nEinlass ab 18 Jahren – das ppc behält sich jederzeit Alterskontrollen vor. Dafür werden nur amtlich ausgestellte Lichtbildausweise anerkannt (z.B. Personalausweis\, Reisepass). Kopien oder Fotos von Ausweisen sind ungültig!
URL:https://popculture.at/event/arbeit-nervt-i-love-to-party-2022-07-30/2022-12-10/
CATEGORIES:Party
ATTACH;FMTTYPE=image/jpeg:https://popculture.at/wp-content/uploads/2021/09/arbeit-nervt-sujet.jpg
ORGANIZER;CN="Partystandard":MAILTO:ab 18 Jahren
END:VEVENT
BEGIN:VEVENT
DTSTART;TZID=Europe/Berlin:20221211T170000
DTEND;TZID=Europe/Berlin:20221211T230000
DTSTAMP:20260424T210013
CREATED:20221201T080904Z
LAST-MODIFIED:20221201T080906Z
UID:10000443-1670778000-1670799600@popculture.at
SUMMARY:Local Heroes Styria - Finale
DESCRIPTION:Was haben Millions Of Dreads\, Eliah\, Gnackwatschn oder Jimmy & The Goofballs gemeinsam? \n\n\n\nSie alle sind natürlich grossartige Künstler\, herausragende Performer\, fantastische Live Bands. Und sie alle machten ihre ersten grossen Erfahrungen im Rahmen des Soundportal Bandcontests! \n\n\n\nSeit 2005 wird im PPC der steirische LOCAL HERO gekürt. Fast 1.000 Bands haben mittlerweile die Challenge angenommen und die PPC Bühne gerockt! \n\n\n\nDie jungen Nachwuchsbands\, -künstlerInnen erhalten die Möglichkeit unter professionellsten Bedingungen live aufzutreten\, wichtige Erfahrungen zu sammeln\, neue Bands und Veranstalter kennenzulernen. Das Netzwerk „MUSICBIZ“ ist hier keine leer Hülse\, sondern wird tatsächlich auch gelebt: Radio\, Print & Onlinemedien\, Promoter\, Booking Agenturen\, Szene – und Labelvertreter werden eingebunden und begleiten den Contest.Teilnehmer FINALE : \n\n\n\nKantig \n\n\n\nKitar \n\n\n\nNihilist Dogma \n\n\n\nUmami \n\n\n\nEvent Horizon \n\n\n\nGreimeister Flammer Rojer \n\n\n\nColupaeo \n\n\n\nLivin’ Vintage \n\n\n\nsinc.  \n\n\n\nund die Lucky Loser \n\n\n\nBirdcage \n\n\n\nPsych \n\n\n\nAbynormal \n\n\n\nAlle weiteren Infos auf http://localheroes.st/
URL:https://popculture.at/event/lhstyria-2-2-2/
CATEGORIES:Konzert
ATTACH;FMTTYPE=image/jpeg:https://popculture.at/wp-content/uploads/2022/11/lhstyria-scaled.jpg
END:VEVENT
BEGIN:VEVENT
DTSTART;TZID=Europe/Berlin:20221212T190000
DTEND;TZID=Europe/Berlin:20221212T223000
DTSTAMP:20260424T210013
CREATED:20211129T124550Z
LAST-MODIFIED:20220713T081709Z
UID:10000389-1670871600-1670884200@popculture.at
SUMMARY:Shantel & Bucovoina Club Orkestar
DESCRIPTION:The Disko Partizani Years TOUR 2022 \n\n\n\nMit seinem kreativen Ansatz Kulturen zu vermischen wurde Shantel weltweit das hörbare Gesicht eines anderen Deutschlands\, ist er doch der erste\, der hier der Popkultur einen kosmopolitischen Sound einimpfte. Bei ihm ist Migration hör- und tanzbar. Musikalische Preziosen aus Südosteuropa\, dem nahen Osten oder vom Mittelmeer erscheinen in einem neuen\, vielschichtigen Kontext\, damit wird auch die \n\n\n\nKultur\, aus der sie entstammen\, intuitiv erfahrbar. Seine Methode ist kulturelles Mixing und Sampling: Dinge aus dem Zusammenhang reißen und in einen neuen überführen.Clubkultur als Konzept\, das sich permanent weiterentwickelt und nicht als Museum\, in dem das ewig Gleiche repetiert wird – wie in Berlin\, wo tausende von Touristen vor dem Berghain warten\, um das Vorhersehbare erleben zu dürfen. Nun schlägt Shantel mit 30 Jahre Club Guerilla ein neues Kapitel seiner never ending Tour unter dem Motto „Shantology // 30 Years of Club Guerilla“ auf. Zum Fest erscheint eine aufwändige 4-LP-\, 2-CD-Box mit opulentem Begleitbuch mit Texten und Bildern\, die Shantels Weg nachzeichnen. Die Alben werden voll mit unveröffentlichtem\, neu aufgenommenem und bestens abgehangenem Material sein\, das eindrücklich die zeitlose Hit-Qualität seiner Musik herausarbeitet. Rückschau – eher nicht\, rückblickende Vorausschau – schon eher. Der Disko Partizane liebt es spannend und bleibt für Überraschungen gut. \n\n\n\n Kartenvorverkauf zum günstigsten Preis auf www.sparkasse.at/ticketing\, Ermäßigung für Sparkassenkunden \n\n\n\n\n\n\nTickets kaufen\nBuy Tickets on Eventbrite
URL:https://popculture.at/event/shantel-bucovoina-club-orkestar-2/
CATEGORIES:Konzert
ATTACH;FMTTYPE=image/jpeg:https://popculture.at/wp-content/uploads/2021/09/shantel.jpg
END:VEVENT
BEGIN:VEVENT
DTSTART;TZID=Europe/Berlin:20221216T190000
DTEND;TZID=Europe/Berlin:20221216T230000
DTSTAMP:20260424T210013
CREATED:20221102T114601Z
LAST-MODIFIED:20221102T114603Z
UID:10000672-1671217200-1671231600@popculture.at
SUMMARY:VELVET WASTED
DESCRIPTION:“End of the Year Concert”Special Guest: GREYSHADOW \n\n\n\nMit dem “End of the year concert” laden die Newcomer Velvet Wasted am 16.12.2022 zum letzten Tanz des Jahres.Die vier Grazer verbinden Elemente des Rock und Soul mit modernen Anleihen aus Indie und Pop. Mit ihren Liedern stehen sie für menschliche Emotionen die sie in Texten verarbeiten die von Themen wie Verlust\, Trennung aber auch der Hoffnung an eine bessere Zukunft handeln. \n\n\n\nIhr Sound erinnert an Größen wie “Kings of Leon” – iIm Radio Soundportal sind sie seit ihrem ersten Single Release von “Blame it on the Nights” keine Unbekannten mehr und haben sich beim “Styrian Sounds” mit ihrer bewegenden live Performance in die Herzen der Besucher*innen gespielt. \n\n\n\nMit einem erfolgreichen Festival Sommer und zahlreichen AirPlay-Erfolgen\, kehren sie nun zum Jahresende in’s PPC zurück und feiern an diesem Abend den Release ihres ersten Tonträgers “So Far” der ihre ersten beiden Ep’s mit noch unveröffentlichten Songs vereint. \n\n\n\nFür diesen besonderen Anlass holen sie sich den Wiener Singer-Songwriter “Greyshadow” mit ins Boot\, der mit voller Band Besetzung nun endlich seinen Weg nach Graz findet. Seine Musik prägt eine Spannung aus verträumten Indie Sounds und eingängigen Popmelodien\, die mit treibenden Drums ein Klangbild a la “The War on Drugs” erschaffen. \n\n\n\nNeben vielen Showcase Festivals wie dem “Waves Vienna” konnte der Sänger auchzahlreiche Air-Plays im Ausland verbuchen (u.a. BBC\, MDR\, EGO FM\, Toxic FM).Am 16.12 kann man sich auf einen Konzertabend mit zwei ganz besonderen Bands freuen\, die mit ihrem internationalen Sound überzeugen und die Besucher*innen auf eine Reise zwischen Sehnsucht und Ekstase mitnehmen. \n\n\n\n Kartenvorverkauf zum günstigsten Preis auf www.sparkasse.at/ticketing\, Ermäßigung für Sparkassenkunden
URL:https://popculture.at/event/velvetwasted/
CATEGORIES:Konzert
ATTACH;FMTTYPE=image/jpeg:https://popculture.at/wp-content/uploads/2022/11/311623630_479073397582518_6996241361052694600_n.jpg
END:VEVENT
BEGIN:VEVENT
DTSTART;TZID=Europe/Berlin:20221217T190000
DTEND;TZID=Europe/Berlin:20221217T223000
DTSTAMP:20260424T210013
CREATED:20220505T122535Z
LAST-MODIFIED:20220505T122538Z
UID:10000650-1671303600-1671316200@popculture.at
SUMMARY:Waving The Guns
DESCRIPTION:Nachdem die wortgewandte & talentierte Reisegruppe mit ihrem letzten Album „Das muss eine Demokratie aushalten können“ in 2019 eine sehr erfolgreiche Tour durch Österreich\, die Schweiz und Schland bestritten hat und sich anschließend eine Livepause gegönnt hat\, wird jetzt folgerichtig und angemessen nachgelegt. Eingespielt\, tight und angriffslustig wird aufgespielt. Ein Konzert dieser Band reinigt deine Seele. Lang lebe WTG!präsentiert von DIFFUS Magazin\, Sea-Watch\, Plastic Bomb Fanzine & True Rebel Store–Waving the Guns (WTG) kommen aus Rostock und machen Rap.Statt eines plötzlichen\, großen Hypes ist der Bekanntheitsgrad über die letzten Jahre stetig und gesund gewachsen\, ohne irgendetwas künstlich zu erzwingen.Bei WTG geht es um die Artikulation von Antithesen zum Normalität werdenden Schwachsinn\, um Übertreibungen und Understatement\, um Gepöbel und Reflexion und darum\, Scheisselabern mit Haltung zu verweben. Meinungsäußerung und Auseinandersetzung sind wichtiger Bestandteil\, ebenso aber Entertainment und schlichtweg Bock auf Musik.Vor allem anderen ging es jedoch immer darum\, Konzerte zu spielen. Durch stetes Tingeln überall dorthin\, wo es Bühnen und Rückkopplungen gibt\, wissen WTG wie man eine Crowd zu unterhalten und Songs energiegeladen vorzutragen hat.Sicher ist\, dass Feste gefeiert werden\, der Scheisse zum Trotz. Sie haben Großes vor in kleinen Hallen. Endlich wird wieder getourt! \n\n\n\n Kartenvorverkauf zum günstigsten Preis auf www.sparkasse.at/ticketing\, Ermäßigung für Sparkassenkunden
URL:https://popculture.at/event/wavingtheguns/
CATEGORIES:Konzert
ATTACH;FMTTYPE=image/jpeg:https://popculture.at/wp-content/uploads/2022/05/waving.jpg
END:VEVENT
BEGIN:VEVENT
DTSTART;TZID=Europe/Berlin:20221217T220000
DTEND;TZID=Europe/Berlin:20221218T040000
DTSTAMP:20260424T210013
CREATED:20210831T122119Z
LAST-MODIFIED:20230704T125256Z
UID:10000459-1671314400-1671336000@popculture.at
SUMMARY:Völlig Losgelöst (Gratis bis 24 Uhr)
DESCRIPTION:VÖLLIG LOSGELÖST! – die extrabreite Soundportal 80er-PartyDie Zeitreise in die 80er mit den Hits einer ganzen Generation! 80er Klassiker und NDW-Kulthits bei der Soundportal 80er PartyDie legendäre 80ies Party mit den Soundportal DJs Drone & Joe LoveSeit dem 31. Mai 2002 geht der Kultclub bereits über die Bühne und ist seitdem aus dem Grazer Eventkalender nicht mehr wegzudenken!Unsere Völlig Losgelöst Facebook Fanpage findet ihr hier \n\n\n\nSUMMERSPECIALGRATISEINTRITT bis Mitternachtab 24 Uhr:: 10€ \n\n\n\nEinlass ab 18 Jahren – das ppc behält sich jederzeit Alterskontrollen vor. Dafür werden nur amtlich ausgestellte Lichtbildausweise anerkannt (z.B. Personalausweis\, Reisepass). Kopien oder Fotos von Ausweisen sind ungültig!
URL:https://popculture.at/event/voellig-losgeloest/2022-12-17/
CATEGORIES:Party
ATTACH;FMTTYPE=image/jpeg:https://popculture.at/wp-content/uploads/2021/08/voelliglosgeloest2-scaled-e1687936702673.jpg
END:VEVENT
BEGIN:VEVENT
DTSTART;TZID=Europe/Berlin:20221223T220000
DTEND;TZID=Europe/Berlin:20221224T230000
DTSTAMP:20260424T210013
CREATED:20210916T085231Z
LAST-MODIFIED:20221223T083630Z
UID:10000514-1671832800-1671922800@popculture.at
SUMMARY:I Love To Party - XMAS Edition
DESCRIPTION:“Last Minute Weihnachtsgeschenke” WEIHNACHTSTOMBOLA für die ersten 200 Gäste!80ies/90ies/00er\, 10er und X-Mas Trash + Damit die letzten Stunden vor dem 24. Dezember auch noch anständig gefeiert werden servieren wir am Mainfloor nicht nur einen großen Sack voller Last-Minute Geschenken\, Weihnachtsdeko und den besten (und schlimmsten) Hits aus mehreren Jahrzehnten\, sondern selbstverständlich auch alle Songs\, von denen man im Dezember nie genug bekommen kann..Getreu dem Motto “This year to save me from tears… “….  \n\n\n\nGROßE WEIHNACHTSTOMBOLA für die ersten 200 Gäste:Gewinnt fette Last-Minute Weihnachtsgeschenke gesponsert von unseren Partnern:– Radio Soundportal ppc Clubgutscheine– Soundportal In Concert Konzertticketts– Styrian Sounds Festivalpässe– John Reed Fitness Graz Abos– Präbichl Skitageskarten– Shopping Center Murpark Gutscheine– XTTX Konzert & Clubbing Tickets– Erlebnisregion Graz & Kaufmann Bogensport Bogenschießen Gutscheine– Circus Safari Tickets– Kunsthauscafe Graz Gutscheine– Zauberbox Sachpreise & Gutscheine– Brick Flip Lego Sachpreise– AXE X Mas Packs– Silent Disco Graz Packages– Regionalentwicklung Oststeiermark Wimmelbücher– Showfactory Tickets – Wood Heroes & Mei Graz Sachpreise– Saubermacher Sachpreise– div. Alben – div. DVD & Blu Rays– Sofortgewinn: ppc Getränkegutschein \n\n\n\n Ermäßigung für spark7 Kunden gegen Vorlage der spark7 Debitkarte oder spark7 Student Identity Debitkarte
URL:https://popculture.at/event/xmas/
CATEGORIES:Party
ATTACH;FMTTYPE=image/png:https://popculture.at/wp-content/uploads/2021/09/xmas-party-ppc-1.png
ORGANIZER;CN="Partystandard":MAILTO:ab 18 Jahren
END:VEVENT
END:VCALENDAR