BEGIN:VCALENDAR
VERSION:2.0
PRODID:-//ppc - ECPv6.6.3//NONSGML v1.0//EN
CALSCALE:GREGORIAN
METHOD:PUBLISH
X-WR-CALNAME:ppc
X-ORIGINAL-URL:https://popculture.at
X-WR-CALDESC:Veranstaltungen für ppc
REFRESH-INTERVAL;VALUE=DURATION:PT1H
X-Robots-Tag:noindex
X-PUBLISHED-TTL:PT1H
BEGIN:VTIMEZONE
TZID:Europe/Berlin
BEGIN:DAYLIGHT
TZOFFSETFROM:+0100
TZOFFSETTO:+0200
TZNAME:CEST
DTSTART:20250330T010000
END:DAYLIGHT
BEGIN:STANDARD
TZOFFSETFROM:+0200
TZOFFSETTO:+0100
TZNAME:CET
DTSTART:20251026T010000
END:STANDARD
END:VTIMEZONE
BEGIN:VEVENT
DTSTART;TZID=Europe/Berlin:20250103T220000
DTEND;TZID=Europe/Berlin:20250104T040000
DTSTAMP:20260423T082016
CREATED:20241112T084537Z
LAST-MODIFIED:20260414T123452Z
UID:10001147-1735941600-1735963200@popculture.at
SUMMARY:I Love to Party! ESC Special
DESCRIPTION:Bist du bereit für die ultimative musikalische Partyzeitreise durch die besten Hits aller Jahrzehnte? Passend vorm Feiertag auch noch aufgepeppt mit den besten ESC Songs aller Zeiten?!Von Disco-Klassikern\, über Partyhits bis zu den Chart-Stürmern – bei “I love to Party” wird die Tanzfläche zur Bühne für deine Lieblingssongs! Komm vorbei\, lass dich von der Musik mitreißen und feiere mit uns die perfekte Party-Nacht!80ies/90ies/00er/10er und die größten ESC Hits! \n\n\n\n Ermäßigung für spark7 Kunden gegen Vorlage der spark7 Debitkarte oder spark7 Student Identity Debitkarte
URL:https://popculture.at/event/i-love-to-party-3/2025-01-03/
CATEGORIES:Party
ATTACH;FMTTYPE=image/png:https://popculture.at/wp-content/uploads/2022/12/silvester-pre-party-ppc.png
END:VEVENT
BEGIN:VEVENT
DTSTART;TZID=Europe/Berlin:20250104T220000
DTEND;TZID=Europe/Berlin:20250105T040000
DTSTAMP:20260423T082016
CREATED:20241203T080954Z
LAST-MODIFIED:20260126T103347Z
UID:10001102-1736028000-1736049600@popculture.at
SUMMARY:KAYKO - Best of K-Pop & Anime Sound
DESCRIPTION:KAYKO steht für K-Pop\, Anime\, Cosplay und eine Szene die nicht mehr auf zu halten ist! Wir präsentieren euch die größten K-Pop Hymnen unserer Zeit kombiniert mit Tracks eurer Lieblings Anime Serien!Egal ob K-Pop Fan\, Anime Addict oder Cosplayer bei uns kommt jeder auf seine Kosten! Sei Teil der immer größer werdenden Community!Mit Songs von BTS\, Girls Generation\, SHINee\, UNB\, Stray Kids\, SEVENTEEN\, PSY\, PENTAGON\, ONEUS\, KARA\, Jessi\, Jay Park\, IZ*ONE\, iKON\, GOT7\, EXO\, Everglow\, BLACKPINK\, BIGBANG\, 2PM\, 2NE1\, SUPER JUNIOR\, und viele mehr! \n\n\n\nEinlass ab 16 Jahren – das ppc behält sich jederzeit Alterskontrollen vor. Dafür werden nur amtlich ausgestellte Lichtbildausweise anerkannt (z.B. Personalausweis\, Reisepass). Kopien oder Fotos von Ausweisen sind ungültig!
URL:https://popculture.at/event/kayko-best-of-k-pop-anime-sound/2025-01-04/
CATEGORIES:Party
ATTACH;FMTTYPE=image/jpeg:https://popculture.at/wp-content/uploads/2024/12/321351570_1191930291699118_7704028316076173610_n-e1735552834590.jpg
END:VEVENT
BEGIN:VEVENT
DTSTART;TZID=Europe/Berlin:20250110T220000
DTEND;TZID=Europe/Berlin:20250111T040000
DTSTAMP:20260423T082016
CREATED:20240821T073536Z
LAST-MODIFIED:20251209T154345Z
UID:10001108-1736546400-1736568000@popculture.at
SUMMARY:Friday I'm In Love: I love the 90’s
DESCRIPTION:Friday I’m In Love Special: I love the 90ies!Best of Pop / Rock / Dance / Alternative / Hip-HopSpecials:* Happy Hour Specials jeden Freitag von 23:00-00:00 Uhr!* Freier Eintritt für alle mit Geburtsjahr 1990 & 2000 \n\n\n\nNO PLACE FOR RACISM\, SEXISM\, HOMOPHOPIA! \n\n\n\nEinlass ab 18 Jahren – das ppc behält sich jederzeit Alterskontrollen vor. Dafür werden nur amtlich ausgestellte Lichtbildausweise anerkannt (z.B. Personalausweis\, Reisepass). Kopien oder Fotos von Ausweisen sind ungültig!
URL:https://popculture.at/event/i-love-the-90s-2/2025-01-10/
CATEGORIES:Party
ATTACH;FMTTYPE=image/jpeg:https://popculture.at/wp-content/uploads/2024/08/friday-flyer-90er.jpg
ORGANIZER;CN="Partystandard":MAILTO:ab 18 Jahren
END:VEVENT
BEGIN:VEVENT
DTSTART;TZID=Europe/Berlin:20250111T220000
DTEND;TZID=Europe/Berlin:20250112T030000
DTSTAMP:20260423T082016
CREATED:20231120T124246Z
LAST-MODIFIED:20251003T075913Z
UID:10000837-1736632800-1736650800@popculture.at
SUMMARY:Silent Disco
DESCRIPTION:Grazer*innen let’s get ready to paaarty – wir starten in die Indoor Saison bei euch im ppc!  \n\n\n\n▼▼▼▼▼▼▼▼▼▼▼▼▼▼▼▼▼▼▼▼▼▼▼▼ \n\n\n\nDas einzigartige Konzept funktioniert so:Jede*r Teilnehmer*in erhält einen kabellosen Kopfhörer und kann dort zwischen zwei unterschiedlichen DJs wählen. House\, Electronic\, HipHop & Popoder doch lieber Alternative\, Indie & RockIt’s up to you!Choose your channel\, make the most of the night.  \n\n\n\n▼▼▼▼▼▼▼▼▼▼▼▼▼▼▼▼▼▼▼▼▼▼▼▼ \n\n\n\nSilent Disco Austria im ppc Graz Graz | ppc Samstag\, 18.10.2025 | 22:00 – 03:00 Uhr VVK: € 11\,- // AK: 13\,- VVK Tickets: www.silentdisco.at/lxdw gemeinsam mit spark7 \n\n\n\n▼▼▼▼▼▼▼▼▼▼▼▼▼▼▼▼▼▼▼▼▼▼▼▼ \n\n\n\n#silentdiscoaustria➤ Instagram: instagram.com/silentdiscoaustria➤ TikTok: tiktok.com/@silentdiscoaustria➤ Facebook: facebook.com/silentdiscoaustria \n\n\n\n▼▼▼▼▼▼▼▼▼▼▼▼▼▼▼▼▼▼▼▼▼▼▼▼ \n\n\n\nEs wird darauf hingewiesen\, dass am Veranstaltungsort Fotos und Videos angefertigt werden und zu Zwecken der Dokumentation der Veranstaltung veröffentlicht werden können.  Einlass ab 18+
URL:https://popculture.at/event/silent-disco-2/2025-01-11/
CATEGORIES:Party
ATTACH;FMTTYPE=image/jpeg:https://popculture.at/wp-content/uploads/2023/11/540736650_1228502925969426_2827031383577965583_n.jpg
END:VEVENT
BEGIN:VEVENT
DTSTART;TZID=Europe/Berlin:20250117T190000
DTEND;TZID=Europe/Berlin:20250117T230000
DTSTAMP:20260423T082016
CREATED:20240308T124806Z
LAST-MODIFIED:20250116T090406Z
UID:10000912-1737140400-1737154800@popculture.at
SUMMARY:HE/RO
DESCRIPTION:Kein Grund zur Panik Live Tour& Support: BEVN  \n\n\n\nModerner Mix aus progressivem Pop und Rock \n\n\n\nAufhören\, wenn es am schönsten ist: Ein Ratschlag\, der gerne gegeben\, aber kaum beherzigt wird. Heiko und Roman Lochmann haben mit ihrem Projekt Die Lochis exakt das getan. Nach drei Top-5-Alben\, zahlreichen Awards\, mehr als einer Milliarde Plays ihrer Singles auf YouTube\, komplett ausverkauften Tourneen und zwei Kinofilmen starten die beiden seit 2021 erfolgreich mit neuer Musik\, Live-Tourneen und Chartplatzierungen als HE/RO durch. \n\n\n\n„WIR WOLLEN ETWAS BESONDERES SCHAFFEN“ \n\n\n\nDie künstlerische Vision von HE/RO ist deutlich reifer\, persönlicher\, unkonventioneller und mutiger. Nirgendwo wird diese Einstellung klarer als in ihrer Musik: „Wir wollen mit unseren Songs etwas Besonderes schaffen”\, so HE/RO. Die Fans sollen Spaß an der Musik haben. Natürlich wird es auch mal tiefgründig\, aber bleibt dabei immer zugänglich. \n\n\n\n„Wenn wir mit Alexis Troy im Studio sind\, verstehen wir uns blind\, weil wir genau die gleiche Vision haben”. Sie sind Kinder ihrer Zeit. Aufgewachsen mit dem Pop der 2010er Jahre. All das fließt in dem Pop-Rock-Sound von HE/RO zusammen. „Wir verbinden modernen Pop mit Rockelementen – aber wir feiern auch das Nischige und Experimentelle\, wollen verrückte Dinge tun und uns etwas trauen”. \n\n\n\nSo entstehen Songs über Momente\, in denen kurz die Welt stehen bleibt\, in denen man sich unverstanden und vielleicht fehl am Platz fühlt. Musik über Gefühle\, wie sie jeder kennt. Songs zum Mut machen\, eigene Wege zu gehen und dass es vollkommen okay ist\, wie man ist. Songs mit Ecken und Kanten. Progressiv und trotzdem nicht verkopft. Mit kleinen Tweaks und Kniffen – ob im Sound oder in den Texten. \n\n\n\nHE/RO haben eine Menge zu erzählen und sagen die Dinge einfach\, wie sie sind. Nicht durch die Blume und um die Ecke\, sondern ganz unmittelbar und direkt. Egal\, ob es dabei um die eigene Veränderung oder die der Welt geht\, um das Alte und das Neue\, um Vertrauen in sich und andere – und damit schließen sie gekonnt die Brücke zwischen der Gen Z und den Millenials. \n\n\n\nWie das klingt\, beweisen HE/RO nicht nur mit ihrem aktuell erfolgreichen Chart Hit “Jetzt weinst Du” oder Viral-Hit „Kuss an dich“\, der mittlerweile mehr als 20 Millionen Streams sammeln konnte\, sondern auch mit Singles wie “Verrückte Phase\, „Gar Nix” oder „Unsichtbar“ und schließlich ihrem Debütalbum „Teen Star Dilemma“\, das auf Platz 13 der offiziellen Albumcharts einstieg. \n\n\n\nAuch 2024 steht ganz im Zeichen neuer Musik – im Frühjahr 2024 geht’s los mit jeder Menge neuer Single Veröffentlichungen. \n\n\n\nLIVE? AUF DIE FRESSE UND MITTEN INS HERZ! \n\n\n\nFehlt noch was? Ja\, Live-Monster sind die beiden auch. Im Januar und Dezember 2023 ging es das erste Mal erfolgreich auf HE/RO-Tour. Wer nicht dabei war\, kann auf den Social-Media-Kanälen der Jungs nachverfolgen\, was bei den Konzerten los gewesen ist – Band-Action\, Moshpits und Zugaben inklusive. „Es war überkrass!“\, blicken HE/RO immer noch hyped auf die Shows zurück. „Wir haben gemerkt\, wie sehr uns das Livespielen gefehlt hat. Wir gehören einfach auf die Bühne\, fühlen uns dort richtig zuhause und haben die Fans im Griff.“ \n\n\n\nDiese besondere Energie\, die daraus entsteht\, kann man nicht beschreiben\, sondern muss man fühlen. Vielleicht lässt sich dies am ehesten damit erklären\, dass Heiko und Roman sich blind verstehen. Als Zwillinge von Geburt an eng verbunden und aufeinander eingespielt. Zwei Energiebündel\, die mit den Fans eine gute Zeit haben wollen. Auf die Fresse und mitten ins Herz! \n\n\n\nLEGENDEN EINER GENERATION \n\n\n\nMusiker. Entertainer. Social-Media-Legenden: HE/RO sind mehr als nur die Musik. Heiko und Roman haben ihre Karriere bereits mit zwölf Jahren gestartet und verbringen damit mehr als ihr halbes Leben auf der Bühne. Sie sind Social-Media-Pioniere\, die für Wandel und Neuanfang wie niemand sonst aus der Generation YouTube stehen. Als Personalities sind sie wichtiger Teil der deutschsprachigen Medienlandschaft – von TV-Shows über Social Media\, Dokumentationen\, Kinofilme\, Spiegelbestseller Buch bis hin zu ihrem Podcast „ZWEI LOCHMANN“. \n\n\n\n Kartenvorverkauf zum günstigsten Preis auf www.sparkasse.at/ticketing\, Ermäßigung für Sparkassenkunden
URL:https://popculture.at/event/he-ro/
CATEGORIES:Konzert
ATTACH;FMTTYPE=image/jpeg:https://popculture.at/wp-content/uploads/2024/03/430751508_758389353058759_8201647650714706693_n.jpg
END:VEVENT
BEGIN:VEVENT
DTSTART;TZID=Europe/Berlin:20250118T190000
DTEND;TZID=Europe/Berlin:20250118T223000
DTSTAMP:20260423T082016
CREATED:20241113T100347Z
LAST-MODIFIED:20241113T100349Z
UID:10001098-1737226800-1737239400@popculture.at
SUMMARY:Ankathie Koi
DESCRIPTION:“Ich komm jetzt deine Liebe abkassieren” Tour 2025 \n\n\n\nThe Kois are back in town and on the road again! Ankathie Koi ist seit 2014 eine feste Größe in der deutschsprachigen Musikszene\, eine Wiener Popinstitution mit punkiger Landei- Sozialisation und einer Überdosis Achtzigerjahre im Herzen.Und diese Frau kann zaubern: Mit ihrer Stimme\, ihrem uniquest selling point\, die sie gern zum Schabernack-Treiben verwendet\, die aber auch erschüttern\, durchrütteln\, beglücken kann in ihrer Tiefe und Eindringlichkeit.Die Musikerin hat die für das Jahrzehnt typischen Glam-Looks und Synth-Sounds erfolgreich in das neue Jahrtausend hinübergehievt und steckt ihr Publikum stets mit einer überbordenden Freude am grellbunten Chaos an. Sie buchstabiert POP in Großbuchstaben und hat in Sachen Trends stets die Nase vorn: Die aktuelle Welle der 80er Jahre orakelte Koi mit „Kate\, it’s hunting season“ bereits 2014 voraus.Erstmals wagt Ankathie Koi sich in großem Stil aus dem Sprachversteck und tauscht das über viele Jahre praktizierte Englisch gegen ihre Muttersprache. Oder genauer gesagt: eine Gesangssprache\, die „Eleganz“ auf „Penetranz“ reimt\, das Glänzende also problemlos mit dem Schroffen zusammenbringt und gleichzeitig keine Angst vor gutem Schlager kennt.PIKANT folgt auf PROMINENT LIBIDO\, Koi\, die Vierzigzigjährige selbst-ernannte Sugarmama\, singt dem unschuldigen jungen Lover in „Baby Boy“ ein Ständchen\, feiert ihn selbstironisch als Spielzeug („wie du zitterst find ich lieb“)\, zelebriert in „Amour Fou“ eine wilde und süß-selbstzerstörerische Liebe („bin in Amour Fou genauso mad wie du“) und lässt in „Tanz dich rein“ sprichwörtlich die Krokodile tanzen. Glaubt ihr nicht? Stimmt aber!Wenn Ankathie Koi auf Tour ist\, knallen die Korken! Also nicht verwunderlich\, dass ihre Konzerte gerne mal als ausschweifende Partys enden.Eines ist allen klar\, die jemals auf einem Ankathie Koi Konzert waren – es wird (auf gut wienerisch) ur arg und episch! Die Band ist berühmt-berüchtigt dafür\, ihre Klassiker zu 15-minütigen Tanzorgien auszweiten. Also gern ein bissi weniger anziehen\, weil heiß wird’s bestimmt! \n\n\n\n Kartenvorverkauf zum günstigsten Preis auf www.sparkasse.at/ticketing\, Ermäßigung für Sparkassenkunden
URL:https://popculture.at/event/ankathie-koi/
CATEGORIES:Konzert
ATTACH;FMTTYPE=image/jpeg:https://popculture.at/wp-content/uploads/2024/11/462169646_943742481115605_429296927371076086_n-scaled.jpg
END:VEVENT
BEGIN:VEVENT
DTSTART;TZID=Europe/Berlin:20250125T220000
DTEND;TZID=Europe/Berlin:20250126T040000
DTSTAMP:20260423T082016
CREATED:20240725T121356Z
LAST-MODIFIED:20260414T122717Z
UID:10001111-1737842400-1737864000@popculture.at
SUMMARY:Völlig Losgelöst
DESCRIPTION:VÖLLIG LOSGELÖST! – die extrabreite Soundportal 80er-PartyDie Zeitreise in die 80er mit den Hits einer ganzen Generation! 80er Klassiker und NDW-Kulthits bei der Soundportal 80er Party \n\n\n\nDie legendäre 80ies Party mit den Soundportal DJs Drone & Joe Love \n\n\n\nSeit dem 31. Mai 2002 geht der Kultclub bereits über die Bühne und ist seitdem aus dem Grazer Eventkalender nicht mehr wegzudenken! \n\n\n\nUnsere Völlig Losgelöst Facebook Fanpage findet ihr hier \n\n\n\nEinlass ab 18 Jahren – das ppc behält sich jederzeit Alterskontrollen vor. Dafür werden nur amtlich ausgestellte Lichtbildausweise anerkannt (z.B. Personalausweis\, Reisepass). Kopien oder Fotos von Ausweisen sind ungültig!
URL:https://popculture.at/event/voellig-losgeloest-gratiseintritt-bis-mitternacht/2025-01-25/
CATEGORIES:Party
ATTACH;FMTTYPE=image/jpeg:https://popculture.at/wp-content/uploads/2023/03/voelliglosgeloest2-scaled-e1687936702673-2048x1152-1.jpg
ORGANIZER;CN="Partystandard":MAILTO:ab 18 Jahren
END:VEVENT
BEGIN:VEVENT
DTSTART;TZID=Europe/Berlin:20250131T220000
DTEND;TZID=Europe/Berlin:20250201T040000
DTSTAMP:20260423T082016
CREATED:20240119T142300Z
LAST-MODIFIED:20250131T131239Z
UID:10000880-1738360800-1738382400@popculture.at
SUMMARY:PPC BIRTHDAY BASH (limitierte Freetickets!)
DESCRIPTION:CLASH OF THE DECADES PARTY FLOOR // mainThe decade’s hardest hitting party tracks! ab 22.00 Uhr:Völlig Losgelöst – die extrabreite 80iger Party I Best of 80’s  ab 23.30 Uhr: I Love The 90ies I Best of 90’sab 01.00 Uhr:Hey Ya – 00er Party I Best of 2000’sab 02.30 Uhr:Hangover – 10er Party I Best of 2010’s \n\n\n\nCHIC NOIR V.I.P. Lounge // barElectro Swing Sounds Hol dir jetzt dein FREETICKET inkl. Welcome Drink – einlösbar bis Mitternacht! (Anzahl limitiert\, 1 Freeticket pro Person)FREETICKETS sind alle vergeben – normaler Eintritt an der Abendkasse verfügbar!
URL:https://popculture.at/event/ppc-birthday-bash/
CATEGORIES:Party
ATTACH;FMTTYPE=image/jpeg:https://popculture.at/wp-content/uploads/2024/01/ppc-birthday-16x9-1.jpg
ORGANIZER;CN="Partystandard":MAILTO:ab 18 Jahren
END:VEVENT
END:VCALENDAR