BEGIN:VCALENDAR
VERSION:2.0
PRODID:-//ppc - ECPv6.6.3//NONSGML v1.0//EN
CALSCALE:GREGORIAN
METHOD:PUBLISH
X-ORIGINAL-URL:https://popculture.at
X-WR-CALDESC:Veranstaltungen für ppc
REFRESH-INTERVAL;VALUE=DURATION:PT1H
X-Robots-Tag:noindex
X-PUBLISHED-TTL:PT1H
BEGIN:VTIMEZONE
TZID:Europe/Berlin
BEGIN:DAYLIGHT
TZOFFSETFROM:+0100
TZOFFSETTO:+0200
TZNAME:CEST
DTSTART:20250330T010000
END:DAYLIGHT
BEGIN:STANDARD
TZOFFSETFROM:+0200
TZOFFSETTO:+0100
TZNAME:CET
DTSTART:20251026T010000
END:STANDARD
END:VTIMEZONE
BEGIN:VEVENT
DTSTART;TZID=Europe/Berlin:20250301T220000
DTEND;TZID=Europe/Berlin:20250302T040000
DTSTAMP:20260423T050420
CREATED:20241203T080954Z
LAST-MODIFIED:20260126T103347Z
UID:10001161-1740866400-1740888000@popculture.at
SUMMARY:KAYKO - Best of K-Pop & Anime Sound
DESCRIPTION:KAYKO steht für K-Pop\, Anime\, Cosplay und eine Szene die nicht mehr auf zu halten ist! Wir präsentieren euch die größten K-Pop Hymnen unserer Zeit kombiniert mit Tracks eurer Lieblings Anime Serien!Egal ob K-Pop Fan\, Anime Addict oder Cosplayer bei uns kommt jeder auf seine Kosten! Sei Teil der immer größer werdenden Community!Mit Songs von BTS\, Girls Generation\, SHINee\, UNB\, Stray Kids\, SEVENTEEN\, PSY\, PENTAGON\, ONEUS\, KARA\, Jessi\, Jay Park\, IZ*ONE\, iKON\, GOT7\, EXO\, Everglow\, BLACKPINK\, BIGBANG\, 2PM\, 2NE1\, SUPER JUNIOR\, und viele mehr! \n\n\n\nEinlass ab 16 Jahren – das ppc behält sich jederzeit Alterskontrollen vor. Dafür werden nur amtlich ausgestellte Lichtbildausweise anerkannt (z.B. Personalausweis\, Reisepass). Kopien oder Fotos von Ausweisen sind ungültig!
URL:https://popculture.at/event/kayko-best-of-k-pop-anime-sound/2025-03-01/
CATEGORIES:Party
ATTACH;FMTTYPE=image/jpeg:https://popculture.at/wp-content/uploads/2024/12/321351570_1191930291699118_7704028316076173610_n-e1735552834590.jpg
END:VEVENT
BEGIN:VEVENT
DTSTART;TZID=Europe/Berlin:20250306T183000
DTEND;TZID=Europe/Berlin:20250306T220000
DTSTAMP:20260423T050420
CREATED:20240617T111310Z
LAST-MODIFIED:20250214T095958Z
UID:10000978-1741285800-1741298400@popculture.at
SUMMARY:RIAN - SOLD OUT
DESCRIPTION:„Liebe RIAN-Fans\, wir müssen leider den Graz Termin vom 07.03. aufgrund einer Teminkollision um einen Tag auf den 06.03. verschieben. Es tut uns sehr Leid für die Umstände! Alle Tickets behalten ihre Gültigkeit! Sollte der Termin für euch nicht möglich sein\, könnt ihr die Tickets auch zurück geben.” \n\n\n\nInfektiöse Popsongs mit ordentlich Happy-Vibes\, dazu wohl dosierte Melancholie – dafür steht RIAN. Er mixt Pop\, Hip-Hop und Indie\,droppt tanzbare Beats mit einer ordentlichen Prise Humor und macht mit catchenden Tracks wie „Locker aus der Hüfte“oder „Heute geht’s um garnichts“ den Glücklich-Modus clubtauglich. Mit dem Ziegen-Song „Schwarzes Schaf“ ging er viral und konnte über 50 Mio.Klicks verbuchen. Tunes wie „Heimweg“ (das erfolgreiche Duett mit NESS)\,„Wenn du lachst“\, „Schluckauf“und „Zucker“ checken auf unpeinliche Weise ernstere Themen wie Verliebtheit\, Vermissen und Friends-Care an.Nach Supportshows für Max Giesinger und Josh auf Tour ging er 2023 auf seine erste Headliner-Tour in DE und AT;für den deutschen Festivalsommer stehen Termine für dasPropeller Festival\, bei der UEFA Fanzone oder beim häMMERsound Festivalfest.Er gehört zu den erfolgreichsten TikTokern des Landes -sowohl mit seiner Musik als auch mit seiner Comedy findet RIAN enormen Anklang.120k Follower auf Instagram und 620k auf TikTok\, 60k Subscriber auf YouTube und über 25 Millionen Streams auf Spotify beweisen:Wenn RIAN loslegt\, erliegt man in kürzester Zeit seinem charmanten Schmäh.Für Januar 2025 plant RIAN die VÖ seiner neuen EP und feiert den Release im Wiener Konzerthausmit noch geheimen special guests –und für den Februar kündigt er seine zweite Headlinertour in Deutschland und Österreich an. Hands up für ein Wiedersehen mit RIAN.
URL:https://popculture.at/event/rian-3/
CATEGORIES:Konzert
ATTACH;FMTTYPE=image/jpeg:https://popculture.at/wp-content/uploads/2024/06/yyDJcsWr.jpeg
END:VEVENT
BEGIN:VEVENT
DTSTART;TZID=Europe/Berlin:20250307T220000
DTEND;TZID=Europe/Berlin:20250308T040000
DTSTAMP:20260423T050420
CREATED:20240821T073536Z
LAST-MODIFIED:20251209T154345Z
UID:10001153-1741384800-1741406400@popculture.at
SUMMARY:Friday I'm In Love: I love the 90’s
DESCRIPTION:Friday I’m In Love Special: I love the 90ies!Best of Pop / Rock / Dance / Alternative / Hip-HopSpecials:* Happy Hour Specials jeden Freitag von 23:00-00:00 Uhr!* Freier Eintritt für alle mit Geburtsjahr 1990 & 2000 \n\n\n\nNO PLACE FOR RACISM\, SEXISM\, HOMOPHOPIA! \n\n\n\nEinlass ab 18 Jahren – das ppc behält sich jederzeit Alterskontrollen vor. Dafür werden nur amtlich ausgestellte Lichtbildausweise anerkannt (z.B. Personalausweis\, Reisepass). Kopien oder Fotos von Ausweisen sind ungültig!
URL:https://popculture.at/event/i-love-the-90s-2/2025-03-07/
CATEGORIES:Party
ATTACH;FMTTYPE=image/jpeg:https://popculture.at/wp-content/uploads/2024/08/friday-flyer-90er.jpg
ORGANIZER;CN="Partystandard":MAILTO:ab 18 Jahren
END:VEVENT
BEGIN:VEVENT
DTSTART;TZID=Europe/Berlin:20250314T190000
DTEND;TZID=Europe/Berlin:20250314T223000
DTSTAMP:20260423T050420
CREATED:20250204T105047Z
LAST-MODIFIED:20250204T105049Z
UID:10001150-1741978800-1741991400@popculture.at
SUMMARY:Glueboys - SOLD OUT
DESCRIPTION:Auf die harte Tour\, weils mit der Brechstange manchmal einfach leichter geht als mit dem Schlüssel.Getreu nach diesem Motto wird auch bei der bevorstehenden Tour der Glueboys\, lieber mit dem Kopf durch die Wand gegangen\, anstatt den Haupteingang zu verwenden.Kompromisslos\, laut und aufgerüstet mit Band kommen die drei Pinzgauer in eine Stadt in deiner Nähe.Darum sichert euch lieber schnell eure Tickets um dieses Spektakel nicht zu verpassen. \n\n\n\n Kartenvorverkauf zum günstigsten Preis auf www.sparkasse.at/ticketing\, Ermäßigung für Sparkassenkunden
URL:https://popculture.at/event/glueboys-sold-out/
CATEGORIES:Konzert
ATTACH;FMTTYPE=image/jpeg:https://popculture.at/wp-content/uploads/2025/02/470213701_992795866210266_7370871791851225494_n-e1738666193973.jpg
END:VEVENT
BEGIN:VEVENT
DTSTART;TZID=Europe/Berlin:20250314T220000
DTEND;TZID=Europe/Berlin:20250315T040000
DTSTAMP:20260423T050420
CREATED:20240725T121224Z
LAST-MODIFIED:20260414T122344Z
UID:10001162-1741989600-1742011200@popculture.at
SUMMARY:Hey Ya! Die 00er Party
DESCRIPTION:Just dance! Die besten Tracks des Jahrzehnts “Get the party started: 2000 -2009 in the mix!”“Eingenullt werden” von den unvergessenen Charthits\, den Rockhymnen aller Art\, den extrem tanzbaren Tracks aber auch fast vergessenen One-Hit-Wonder-Songs\, aufgepeppt mit einer Prise HipHop und RnB.Wir marschieren querbeet durch die Jahre 2000 bis 2009; ganz egal ob Alicia Keys\, The Black Eyed Peas\, Usher\, Linkin Park\, Gigi D’Agostino\, Eminem\, Shakira\, Christina Aguilera\, System Of A Down\, Justin Timberlake\, Enrique Iglesias\, Kylie Minogue\, Destiny’s Child\, Avril Lavigne\,  Lady Gaga\, Blue\, Nickelback\,  Rihanna\, Shaggy\, Usher\, The Gossip\, oder aber auch Groove Coverage –  tanzen\, shaken\, mitsingen! \n\n\n\n Ermäßigung für spark7 Kunden gegen Vorlage der spark7 Debitkarte oder spark7 Student Identity Debitkarte \n\n\n\nEinlass ab 18 Jahren – das ppc behält sich jederzeit Alterskontrollen vor. Dafür werden nur amtlich ausgestellte Lichtbildausweise anerkannt (z.B. Personalausweis\, Reisepass). Kopien oder Fotos von Ausweisen sind ungültig!
URL:https://popculture.at/event/hey-ya-die-00er-party-2/2025-03-14/
CATEGORIES:Party
ATTACH;FMTTYPE=image/jpeg:https://popculture.at/wp-content/uploads/2024/07/friday-flyer-00er.jpg
ORGANIZER;CN="Partystandard":MAILTO:ab 18 Jahren
END:VEVENT
BEGIN:VEVENT
DTSTART;TZID=Europe/Berlin:20250321T190000
DTEND;TZID=Europe/Berlin:20250321T223000
DTSTAMP:20260423T050420
CREATED:20241024T132828Z
LAST-MODIFIED:20241024T132830Z
UID:10001079-1742583600-1742596200@popculture.at
SUMMARY:Unicorn Rampage Tour 2025 - Anna Absolut\, Glue Crew\, BonjourTropfen
DESCRIPTION:Beritten von den Mundart-Punkern Glue Crew und BonjourTropfen sowie der Wahlaußenseiterin Anna Absolut graben drei Fabelwesen die Landeshauptstädte Wien-Graz-Linz-Salzburg um. Der Landbevölkerung graut\, was sich da in den Hochburgen der Obszönität zusammenbraut. Widerstand im Lipizzaner-Land – den Einhorn-Fans gefällt‘s! \n\n\n\nAnna Absolut: Punk aus GrazGlue Crew: Punkrock/Ska/Austropop aus SalzburgBonjourTropfen: Poppiger Punkrock aus Wien – 10 Jahres Feier \n\n\n\n Kartenvorverkauf zum günstigsten Preis auf www.sparkasse.at/ticketing\, Ermäßigung für Sparkassenkunden
URL:https://popculture.at/event/unicorn-rampage-tour-2025-anna-absolut-glue-crew-bonjourtropfen/
CATEGORIES:Konzert
ATTACH;FMTTYPE=image/png:https://popculture.at/wp-content/uploads/2024/10/uvWEof_f.png
END:VEVENT
BEGIN:VEVENT
DTSTART;TZID=Europe/Berlin:20250322T220000
DTEND;TZID=Europe/Berlin:20250323T040000
DTSTAMP:20260423T050420
CREATED:20250212T143213Z
LAST-MODIFIED:20250610T181456Z
UID:10001156-1742680800-1742702400@popculture.at
SUMMARY:ABGESAGT! WELCOME SUMMER - Weekend Special (GRATIS bis Mitternacht)
DESCRIPTION:Es ist schrecklich\, was am 10.6. in Graz passiert ist! Aus Respekt gegenüber den Betroffenen haben wir uns entschieden\, alle geplanten Veranstaltungen an diesem Wochenende abzusagen! Unsere Gedanken sind bei den Opfern\, ihren Angehörigen und allen\, die von diesem unfassbaren Ereignis betroffen sind.Wir bitten um euer Verständnis\,euer ppc-Team! \n\n\n\n \n\n\n\n———————- \n\n\n\nDer Sommer steht vor der Tür – und wir feiern ihn mit den besten Hits der 90er und 2000er!Dich erwarten unvergessliche Sommer-Sounds\, coole Vibes und die Songs\, bei denen du jede Zeile noch auswendig kannst.Kühle Getränke – heiße Beats: Von Shakira bis Scooter\, von Britney bis Blue – WELCOME SUMMER!Gratiseintritt bis Mitternacht10€ ab Mitternacht \n\n\n\n Ermäßigung für spark7 Kunden gegen Vorlage der spark7 Debitkarte oder spark7 Student Identity Debitkarte
URL:https://popculture.at/event/i-love-to-party-gratis-bis-mitternacht/2025-03-22/
CATEGORIES:Party
ATTACH;FMTTYPE=image/jpeg:https://popculture.at/wp-content/uploads/2025/02/welcome-summer-weekend_100625.jpg
END:VEVENT
BEGIN:VEVENT
DTSTART;TZID=Europe/Berlin:20250326T190000
DTEND;TZID=Europe/Berlin:20250326T230000
DTSTAMP:20260423T050420
CREATED:20231222T092548Z
LAST-MODIFIED:20250310T084348Z
UID:10000861-1743015600-1743030000@popculture.at
SUMMARY:OEHL
DESCRIPTION:& Support: KleinaberohoOehl\, die 5-köpfige Liveband um Sänger Ariel Oehl\, schmeißt eine Party\, die Tour der guten Hoffnung. Und wie bei jedem ordentlichen Festakt darf auch bei den Shows von Oehl mitgegröhlt\, geschwitzt und getanzt werden\, in ruhigen Momenten\, etwa dem Akustik-Set\, allerdings auch feuchte Augen serviert und das ein oder andere Tränchen vergossen werden.„Männer weinen Heimlich“ singt Herbert Grönemeyer 1984 im Song Männer. Nicht so Ariel Oehl\, der Sänger und Songwriter. Ariel zeigt seine Gefühle auf mittlerweile drei Platten\, im monatlichen Newsletter\, auf Instagram\, auf der Bühne. Seine Lieder gehen tief unter die Haut und sind dabei alles andere als gefühlsduselig.Sie verhandeln die großenThemen der Gesellschaft und werden auf treibenden Beats serviert\, mit lebendigen Bass-Lines und einer Sanftmut\, die im deutschsprachigen Indiepop ihresgleichen sucht.Die Musik von Oehl ist schwer und leicht zugleich\, eine Summe von Gegensätzen\, die in der Musik zusammenkommt und sich\, wie man in Österreich sagt\, ganz selbstverständlich „ausgeht“.Oehl ist seit 2019 bei Grönemeyers Label Grönland unter Vertrag und hat dort nach „Über Nacht“ (2020) und „100% Hoffnung“ (2021) im Jahr 2022 auch das Album „Keine Blumen“ veröffentlicht. 2023 rundet Oehl mit der Single “Die Arbeit des Frühlings”ab\, welche\, zusammen mit ihrem Booking beim FM4 Geburtstagsfest\, auf den Start einer neuen Kampagne spekulieren lässt. Die Zeit attestiert: „Poppig ja\, aber unverbraucht“.Der Musiker Caspar\, der Oehl’s Song Keramik schon 2018 als Song des Jahres betitelte\, nennt Oehl schlichtweg eine Mischung aus Tame Impala und Tocotronic. Eindrücke der Keine Blumen Tour 2022 gibt’s im offiziellen Tourfilm„SO SCHÖN WIE ES NIEMALS WAR“ von Regisseur Alex Lazarov (10min\, Youtube). Anspieltipps: Keramik\, Satt Werden\, Keine Angst. \n\n\n\n Kartenvorverkauf zum günstigsten Preis auf www.sparkasse.at/ticketing\, Ermäßigung für Sparkassenkunden
URL:https://popculture.at/event/oehl/
CATEGORIES:Konzert
ATTACH;FMTTYPE=image/jpeg:https://popculture.at/wp-content/uploads/2023/12/411230367_752276856928836_8532835672809137607_n.jpg
END:VEVENT
BEGIN:VEVENT
DTSTART;TZID=Europe/Berlin:20250327T190000
DTEND;TZID=Europe/Berlin:20250327T230000
DTSTAMP:20260423T050420
CREATED:20240227T143816Z
LAST-MODIFIED:20250310T084426Z
UID:10000906-1743102000-1743116400@popculture.at
SUMMARY:FIDDLER'S GREEN
DESCRIPTION:Soundportal & Mind Over Matter präsentierenFIDDLER’S GREEN & Support: Jolly Jackers \n\n\n\nirish speedfolk seit 1990Seit ihrer Gründung 1990 stehen Fiddler’s Green für ihre ganz eigene musikalische Kunstform\, die sie inzwischen weit über die Grenzen Deutschlands hinaus bekannt gemacht hat. Kurz und einprägsam IRISH SPEEDFOLK nennt das Sextett aus Erlangen seine kreative Mischung\, in der sich Folk\, Ska\, Punk\, Reggae und Einflüsse des Rock verbinden. \n\n\n\nMit nunmehr nahezu 2000 Live-Konzerten in Deutschland\, Europa und Asien haben sie sich in bald drei Jahrzehnten einen hervorragenden Ruf als Live-Band erspielt. Dass sie diesem stets gerecht werden\, beweisen die Speedfolker dabei jedoch in jeder einzelnen ihrer Shows\, in denen sie sich als eingespielte\, aber nie zu routinierte Band zeigen. Nicht nur die authentisch-herbe Musikqualität macht die einzigartige Bühnenenergie der Band aus\, sondern auch der Hang zu Humoresken und der begeisterte Austausch mit den Fans. Fiddler’s Green kreieren dabei einen zutiefst persönlichen Stil\, ganz gleich ob die Mengen zur Feierhymne im Circle Pit rotieren oder einer berührenden Ballade lauschen. \n\n\n\nVon Lowlands und Pinkpop Festival in Holland über Sweden Rock und gefeierten Auftritten beim legendären Metal-Festival in Wacken bis hin zum weltberühmten Montreux Jazzfestival und Konzerten in Russland und Japan – Fiddler’s Green haben in 29 Jahren eindrucksvoll gezeigt\, dass sie geografische und musikalische Grenzen spielend hinter sich lassen.19 Alben – davon 14 Studioalben – und vier DVDs unterstreichen den Erfolg der Band\, die dem oft inflationär gebrauchten Ausdruck des „Sich-Neu-Erfindens“ eine ganz neue Dimension verleihen. Denn Fiddler’s Green haben einen Großteil ihrer Karriere einer konsequenten kreativen Entwicklung mit Mut zu Neuem zu verdanken. Nur so konnten 29 Jahre Speedfolk mit Spaßgarantie entstehen! \n\n\n\n Kartenvorverkauf zum günstigsten Preis auf www.sparkasse.at/ticketing\, Ermäßigung für Sparkassenkunden
URL:https://popculture.at/event/fiddlers-green/
CATEGORIES:Konzert
ATTACH;FMTTYPE=image/jpeg:https://popculture.at/wp-content/uploads/2024/02/409000672_796390595850795_8326702463178792428_n.jpg
END:VEVENT
BEGIN:VEVENT
DTSTART;TZID=Europe/Berlin:20250328T220000
DTEND;TZID=Europe/Berlin:20250329T040000
DTSTAMP:20260423T050420
CREATED:20250212T143213Z
LAST-MODIFIED:20250610T181456Z
UID:10001175-1743199200-1743220800@popculture.at
SUMMARY:ABGESAGT! WELCOME SUMMER - Weekend Special (GRATIS bis Mitternacht)
DESCRIPTION:Es ist schrecklich\, was am 10.6. in Graz passiert ist! Aus Respekt gegenüber den Betroffenen haben wir uns entschieden\, alle geplanten Veranstaltungen an diesem Wochenende abzusagen! Unsere Gedanken sind bei den Opfern\, ihren Angehörigen und allen\, die von diesem unfassbaren Ereignis betroffen sind.Wir bitten um euer Verständnis\,euer ppc-Team! \n\n\n\n \n\n\n\n———————- \n\n\n\nDer Sommer steht vor der Tür – und wir feiern ihn mit den besten Hits der 90er und 2000er!Dich erwarten unvergessliche Sommer-Sounds\, coole Vibes und die Songs\, bei denen du jede Zeile noch auswendig kannst.Kühle Getränke – heiße Beats: Von Shakira bis Scooter\, von Britney bis Blue – WELCOME SUMMER!Gratiseintritt bis Mitternacht10€ ab Mitternacht \n\n\n\n Ermäßigung für spark7 Kunden gegen Vorlage der spark7 Debitkarte oder spark7 Student Identity Debitkarte
URL:https://popculture.at/event/i-love-to-party-gratis-bis-mitternacht/2025-03-28/
CATEGORIES:Party
ATTACH;FMTTYPE=image/jpeg:https://popculture.at/wp-content/uploads/2025/02/welcome-summer-weekend_100625.jpg
END:VEVENT
BEGIN:VEVENT
DTSTART;TZID=Europe/Berlin:20250329T220000
DTEND;TZID=Europe/Berlin:20250330T030000
DTSTAMP:20260423T050420
CREATED:20240725T121356Z
LAST-MODIFIED:20260414T122717Z
UID:10001157-1743285600-1743303600@popculture.at
SUMMARY:Völlig Losgelöst
DESCRIPTION:VÖLLIG LOSGELÖST! – die extrabreite Soundportal 80er-PartyDie Zeitreise in die 80er mit den Hits einer ganzen Generation! 80er Klassiker und NDW-Kulthits bei der Soundportal 80er Party \n\n\n\nDie legendäre 80ies Party mit den Soundportal DJs Drone & Joe Love \n\n\n\nSeit dem 31. Mai 2002 geht der Kultclub bereits über die Bühne und ist seitdem aus dem Grazer Eventkalender nicht mehr wegzudenken! \n\n\n\nUnsere Völlig Losgelöst Facebook Fanpage findet ihr hier \n\n\n\nEinlass ab 18 Jahren – das ppc behält sich jederzeit Alterskontrollen vor. Dafür werden nur amtlich ausgestellte Lichtbildausweise anerkannt (z.B. Personalausweis\, Reisepass). Kopien oder Fotos von Ausweisen sind ungültig!
URL:https://popculture.at/event/voellig-losgeloest-gratiseintritt-bis-mitternacht/2025-03-29/
CATEGORIES:Party
ATTACH;FMTTYPE=image/jpeg:https://popculture.at/wp-content/uploads/2023/03/voelliglosgeloest2-scaled-e1687936702673-2048x1152-1.jpg
ORGANIZER;CN="Partystandard":MAILTO:ab 18 Jahren
END:VEVENT
END:VCALENDAR