BEGIN:VCALENDAR
VERSION:2.0
PRODID:-//ppc - ECPv6.6.3//NONSGML v1.0//EN
CALSCALE:GREGORIAN
METHOD:PUBLISH
X-WR-CALNAME:ppc
X-ORIGINAL-URL:https://popculture.at
X-WR-CALDESC:Veranstaltungen für ppc
REFRESH-INTERVAL;VALUE=DURATION:PT1H
X-Robots-Tag:noindex
X-PUBLISHED-TTL:PT1H
BEGIN:VTIMEZONE
TZID:Europe/Berlin
BEGIN:DAYLIGHT
TZOFFSETFROM:+0100
TZOFFSETTO:+0200
TZNAME:CEST
DTSTART:20250330T010000
END:DAYLIGHT
BEGIN:STANDARD
TZOFFSETFROM:+0200
TZOFFSETTO:+0100
TZNAME:CET
DTSTART:20251026T010000
END:STANDARD
END:VTIMEZONE
BEGIN:VEVENT
DTSTART;TZID=Europe/Berlin:20250503T220000
DTEND;TZID=Europe/Berlin:20250504T040000
DTSTAMP:20260423T014809
CREATED:20250212T143213Z
LAST-MODIFIED:20250610T181456Z
UID:10001205-1746309600-1746331200@popculture.at
SUMMARY:ABGESAGT! WELCOME SUMMER - Weekend Special (GRATIS bis Mitternacht)
DESCRIPTION:Es ist schrecklich\, was am 10.6. in Graz passiert ist! Aus Respekt gegenüber den Betroffenen haben wir uns entschieden\, alle geplanten Veranstaltungen an diesem Wochenende abzusagen! Unsere Gedanken sind bei den Opfern\, ihren Angehörigen und allen\, die von diesem unfassbaren Ereignis betroffen sind.Wir bitten um euer Verständnis\,euer ppc-Team! \n\n\n\n \n\n\n\n———————- \n\n\n\nDer Sommer steht vor der Tür – und wir feiern ihn mit den besten Hits der 90er und 2000er!Dich erwarten unvergessliche Sommer-Sounds\, coole Vibes und die Songs\, bei denen du jede Zeile noch auswendig kannst.Kühle Getränke – heiße Beats: Von Shakira bis Scooter\, von Britney bis Blue – WELCOME SUMMER!Gratiseintritt bis Mitternacht10€ ab Mitternacht \n\n\n\n Ermäßigung für spark7 Kunden gegen Vorlage der spark7 Debitkarte oder spark7 Student Identity Debitkarte
URL:https://popculture.at/event/i-love-to-party-gratis-bis-mitternacht/2025-05-03/
CATEGORIES:Party
ATTACH;FMTTYPE=image/jpeg:https://popculture.at/wp-content/uploads/2025/02/welcome-summer-weekend_100625.jpg
END:VEVENT
BEGIN:VEVENT
DTSTART;TZID=Europe/Berlin:20250509T220000
DTEND;TZID=Europe/Berlin:20250510T040000
DTSTAMP:20260423T014809
CREATED:20240821T073536Z
LAST-MODIFIED:20251209T154345Z
UID:10001211-1746828000-1746849600@popculture.at
SUMMARY:Friday I'm In Love: I love the 90’s
DESCRIPTION:Friday I’m In Love Special: I love the 90ies!Best of Pop / Rock / Dance / Alternative / Hip-HopSpecials:* Happy Hour Specials jeden Freitag von 23:00-00:00 Uhr!* Freier Eintritt für alle mit Geburtsjahr 1990 & 2000 \n\n\n\nNO PLACE FOR RACISM\, SEXISM\, HOMOPHOPIA! \n\n\n\nEinlass ab 18 Jahren – das ppc behält sich jederzeit Alterskontrollen vor. Dafür werden nur amtlich ausgestellte Lichtbildausweise anerkannt (z.B. Personalausweis\, Reisepass). Kopien oder Fotos von Ausweisen sind ungültig!
URL:https://popculture.at/event/i-love-the-90s-2/2025-05-09/
CATEGORIES:Party
ATTACH;FMTTYPE=image/jpeg:https://popculture.at/wp-content/uploads/2024/08/friday-flyer-90er.jpg
ORGANIZER;CN="Partystandard":MAILTO:ab 18 Jahren
END:VEVENT
BEGIN:VEVENT
DTSTART;TZID=Europe/Berlin:20250510T190000
DTEND;TZID=Europe/Berlin:20250510T223000
DTSTAMP:20260423T014809
CREATED:20241113T105537Z
LAST-MODIFIED:20241127T123927Z
UID:10001099-1746903600-1746916200@popculture.at
SUMMARY:Friska Viljor
DESCRIPTION:Nach einer 17-jährigen Karriere und acht Alben im Gepäck hat das Stockholmer Indie-Pop-Duo Friska Viljor alias die lebenslangen Freunde Daniel Johansson und Joakim Sveningsson schreiben und veröffentlichen bis zum heutigen Tag Musik. Bekannt und beliebt für ihre euphorischen\, aber auch bittersüßen Live-Shows und mit bereits über 500 Auftritte auf dem europäischen Festland\, in Großbritannien und den USA absolvierten Live Shows unter dem Gürtel. \n\n\n\nIhre internationale Karriere begann nach einem Busking-Trip nach Hamburg in Deutschland\, wo sie sich mit einigen Einheimischen anfreundeten\, was zu ersten kleinen Auftritten in Plattenläden\, Bars und Wohnzimmern führte schließlich zu einem Plattenvertrag mit einem deutschen Label. Von dort aus eroberten sie die Herzen im Sturm und ihre außergewöhnlich treue Fangemeinde wuchs mit jedem Album und jeder Tournee. Auftritte auf mehreren großen europäischen Festivals trugen dazu bei\, die Band bekannt zu machen und machten sie zu einem der beliebtesten Festival-Acts der letzten Jahre.
URL:https://popculture.at/event/friska-viljor/
CATEGORIES:Konzert
ATTACH;FMTTYPE=image/jpeg:https://popculture.at/wp-content/uploads/2024/11/461092082_932900292199824_6349370549936012184_n.jpg
END:VEVENT
BEGIN:VEVENT
DTSTART;TZID=Europe/Berlin:20250513T190000
DTEND;TZID=Europe/Berlin:20250513T223000
DTSTAMP:20260423T014809
CREATED:20241024T133303Z
LAST-MODIFIED:20241024T133305Z
UID:10001080-1747162800-1747175400@popculture.at
SUMMARY:CATT - LIVE 2025
DESCRIPTION:Eine Stimme\, die die Zeit anhält. CATT verwandelt scheinbar kleine Geschichten in universelle Erzählungen über das Jetzt\, das Hier\, das Sein. Musik als Hoffnung\, voll strahlender Klarheit. Ein neuer Entwurf von Pop\, voller Tiefe\, voller Funkeln und vor allem: Ehrlichkeit. \n\n\n\n“Ich bin als Mensch und als Musikerin durch viel Veränderung gegangen. Ich glaube\, jeder bewegt sich in diesen Zeiten durch seine ganz persönliche Transformation. Wir sind alle auf einem Weg. Radikale Ehrlichkeit uns selbst gegenüber wird uns immer dorthin bringen\, wo es stimmig für uns ist. Ich hoffe\, meine Lieder können ein Zuhause sein\, vor allem\, wenn wir innerlich oder äußerlich unterwegs sind.” \n\n\n\nAufgewachsen in einem Drei-Häuser-Dorf in Norddeutschland zwischen Wäldern\, Feldern\, klassischer Klavierausbildung und Posaunenchören\, umgab sich CATT von Kindesbeinen an mit Musik. Bevor sie richtig sprechen konnte\, sang sie. Heute wechselt sie mühelos zwischen einer Vielzahl von Instrumenten und hinterlässt mit ihrer immensen Musikalität und Spielfreude auf internationalen Konzerttourneen ein begeistertes Publikum. Sowohl bei Solokonzerten\, als auch mit ihrer harmonischen\, multiinstrumentalen Band\, wird jeder Abend ein farbenreiches Erlebnis\, das Anwesende aufleuchten und aufatmen lässt. \n\n\n\nIhre zwei ersten Alben “Why\, Why” und “Change” fanden ihren Weg in unzählige Ohren und Herzen und: In überschwängliche Kritiken. CATT hat mittlerweile ihren unverkennbar eigenen Klangkosmos erschaffen\, der ihre mal ehrliche\, mal ätherische Art des Songwritings warm umhüllt. Auf der ganzen Welt vereint sie mittlerweile eine begeisterte und tief berührte Hörerschaft um sich. \n\n\n\nTauche ein in die Musik von CATT. \n\n\n\n Kartenvorverkauf zum günstigsten Preis auf www.sparkasse.at/ticketing\, Ermäßigung für Sparkassenkunden
URL:https://popculture.at/event/catt-live-2025/
CATEGORIES:Konzert
ATTACH;FMTTYPE=image/jpeg:https://popculture.at/wp-content/uploads/2024/10/CATT_by_Karine_Bravo_-HEADER.jpg
END:VEVENT
BEGIN:VEVENT
DTSTART;TZID=Europe/Berlin:20250514T190000
DTEND;TZID=Europe/Berlin:20250514T220000
DTSTAMP:20260423T014809
CREATED:20240909T075305Z
LAST-MODIFIED:20250313T082342Z
UID:10001033-1747249200-1747260000@popculture.at
SUMMARY:IAMX - FAULT LINES² Tour 2025
DESCRIPTION:& Support: DUCTAPE  \n\n\n\nIm Frühjahr 2025 kehren Chris Corner von IAMX und seine Band für eine ausgedehnte Tournee durch Europa und das Vereinigte Königreich zurück. Das düstere\, elektronische Outfit wird das Publikum bei 20 verschiedenen Terminen begeistern.Die FAULT LINES² Tour wird IAMX-Kultklassiker mit den Lieblingssongs des Fault Lines-Album-Duos vereinen\, begleitet von auffälligen Visuals und von Corner programmierten Lichtern\, was eine explosive und leidenschaftliche Performance verspricht. Jede der kultigen Shows wird den Besuchern eine unvergessliche Nacht voller Glam\, Schmutz\,Rausch und Lust bescheren. \n\n\n\n Kartenvorverkauf zum günstigsten Preis auf www.sparkasse.at/ticketing\, Ermäßigung für Sparkassenkunden
URL:https://popculture.at/event/iamx-fault-lines%c2%b2-tour-2025/
CATEGORIES:Konzert
ATTACH;FMTTYPE=image/jpeg:https://popculture.at/wp-content/uploads/2024/09/458965395_922291223260731_6099587356077561012_n.jpg
END:VEVENT
BEGIN:VEVENT
DTSTART;TZID=Europe/Berlin:20250523T190000
DTEND;TZID=Europe/Berlin:20250523T233000
DTSTAMP:20260423T014809
CREATED:20250422T075229Z
LAST-MODIFIED:20250422T075232Z
UID:10001203-1748026800-1748043000@popculture.at
SUMMARY:FEM:POP Night w/ Riley Tamper\, Romana Schmat\, Junes Ivy
DESCRIPTION:Mit fem:pop betritt ein Event die Bühne\, das ganz der Vielfalt und Stärke weiblicher Stimmen gewidmet ist. Am 23.05.2025 verwandelt sich die PPC Bar in einen Klangraum voller Energie\, Emotion und Empowerment – mit einem Line-up\, das ausschließlich aus weiblichen Sängerinnen besteht. \n\n\n\nVon Indie-Vibes über Dialektsound bis hin zum Singer-Songwriter-Pop – fem:pop feiert musikalische Vielfalt und gibt Frauen im Musikbusiness den Raum\, den sie verdienen. Das Konzert setzt ein bewusstes Zeichen für Sichtbarkeit und kreative Freiheit. \n\n\n\nMit dabei sind \n\n\n\n🎤 Riley Tamper – Texte\, die treffen. Melodien\, die bleiben. (Deutschpop) \n\n\n\n🎤 Romana Schmat – Geschichten im Dialekt mit Tiefgang (Dialektrockpop) \n\n\n\n🎤 Junes Ivy – Indie-Vibes zwischen Melancholie und Mut (Indiepop) \n\n\n\nfem:pop ist mehr als ein Konzert – es ist ein Statement. Für mehr Repräsentation. Und für ein Publikum\, das Empowerment hören\, fühlen und teilen will. \n\n\n\n📅 Datum: 23.05.2025 \n\n\n\n📍 Ort: Neubauasse 6\, 8020 Graz \n\n\n\n🕗 Beginn: 19:30\, Einlass 19:00 \n\n\n\n📱 Mehr Infos unter: @rileytamper\, @romsch.musik\, @junesivy \n\n\n\n🎟️ Tickets direkt hier im Vorverkauf und an der Abendkasse vor Ort!
URL:https://popculture.at/event/fempop-night-w-riley-tamper-romana-schmat-junes-ivy/
CATEGORIES:Konzert
ATTACH;FMTTYPE=image/png:https://popculture.at/wp-content/uploads/2025/04/FEM-POP-Titelbild_-e1745308233131.png
END:VEVENT
BEGIN:VEVENT
DTSTART;TZID=Europe/Berlin:20250523T220000
DTEND;TZID=Europe/Berlin:20250524T040000
DTSTAMP:20260423T014809
CREATED:20240725T121224Z
LAST-MODIFIED:20260414T122344Z
UID:10001191-1748037600-1748059200@popculture.at
SUMMARY:Hey Ya! Die 00er Party
DESCRIPTION:Just dance! Die besten Tracks des Jahrzehnts “Get the party started: 2000 -2009 in the mix!”“Eingenullt werden” von den unvergessenen Charthits\, den Rockhymnen aller Art\, den extrem tanzbaren Tracks aber auch fast vergessenen One-Hit-Wonder-Songs\, aufgepeppt mit einer Prise HipHop und RnB.Wir marschieren querbeet durch die Jahre 2000 bis 2009; ganz egal ob Alicia Keys\, The Black Eyed Peas\, Usher\, Linkin Park\, Gigi D’Agostino\, Eminem\, Shakira\, Christina Aguilera\, System Of A Down\, Justin Timberlake\, Enrique Iglesias\, Kylie Minogue\, Destiny’s Child\, Avril Lavigne\,  Lady Gaga\, Blue\, Nickelback\,  Rihanna\, Shaggy\, Usher\, The Gossip\, oder aber auch Groove Coverage –  tanzen\, shaken\, mitsingen! \n\n\n\n Ermäßigung für spark7 Kunden gegen Vorlage der spark7 Debitkarte oder spark7 Student Identity Debitkarte \n\n\n\nEinlass ab 18 Jahren – das ppc behält sich jederzeit Alterskontrollen vor. Dafür werden nur amtlich ausgestellte Lichtbildausweise anerkannt (z.B. Personalausweis\, Reisepass). Kopien oder Fotos von Ausweisen sind ungültig!
URL:https://popculture.at/event/hey-ya-die-00er-party-2/2025-05-23/
CATEGORIES:Party
ATTACH;FMTTYPE=image/jpeg:https://popculture.at/wp-content/uploads/2024/07/friday-flyer-00er.jpg
ORGANIZER;CN="Partystandard":MAILTO:ab 18 Jahren
END:VEVENT
BEGIN:VEVENT
DTSTART;TZID=Europe/Berlin:20250530T220000
DTEND;TZID=Europe/Berlin:20250531T040000
DTSTAMP:20260423T014809
CREATED:20240821T073536Z
LAST-MODIFIED:20251209T154345Z
UID:10001192-1748642400-1748664000@popculture.at
SUMMARY:Friday I'm In Love: I love the 90’s
DESCRIPTION:Friday I’m In Love Special: I love the 90ies!Best of Pop / Rock / Dance / Alternative / Hip-HopSpecials:* Happy Hour Specials jeden Freitag von 23:00-00:00 Uhr!* Freier Eintritt für alle mit Geburtsjahr 1990 & 2000 \n\n\n\nNO PLACE FOR RACISM\, SEXISM\, HOMOPHOPIA! \n\n\n\nEinlass ab 18 Jahren – das ppc behält sich jederzeit Alterskontrollen vor. Dafür werden nur amtlich ausgestellte Lichtbildausweise anerkannt (z.B. Personalausweis\, Reisepass). Kopien oder Fotos von Ausweisen sind ungültig!
URL:https://popculture.at/event/i-love-the-90s-2/2025-05-30/
CATEGORIES:Party
ATTACH;FMTTYPE=image/jpeg:https://popculture.at/wp-content/uploads/2024/08/friday-flyer-90er.jpg
ORGANIZER;CN="Partystandard":MAILTO:ab 18 Jahren
END:VEVENT
BEGIN:VEVENT
DTSTART;TZID=Europe/Berlin:20250531T220000
DTEND;TZID=Europe/Berlin:20250601T040000
DTSTAMP:20260423T014809
CREATED:20240725T121356Z
LAST-MODIFIED:20260414T122717Z
UID:10001187-1748728800-1748750400@popculture.at
SUMMARY:Völlig Losgelöst
DESCRIPTION:VÖLLIG LOSGELÖST! – die extrabreite Soundportal 80er-PartyDie Zeitreise in die 80er mit den Hits einer ganzen Generation! 80er Klassiker und NDW-Kulthits bei der Soundportal 80er Party \n\n\n\nDie legendäre 80ies Party mit den Soundportal DJs Drone & Joe Love \n\n\n\nSeit dem 31. Mai 2002 geht der Kultclub bereits über die Bühne und ist seitdem aus dem Grazer Eventkalender nicht mehr wegzudenken! \n\n\n\nUnsere Völlig Losgelöst Facebook Fanpage findet ihr hier \n\n\n\nEinlass ab 18 Jahren – das ppc behält sich jederzeit Alterskontrollen vor. Dafür werden nur amtlich ausgestellte Lichtbildausweise anerkannt (z.B. Personalausweis\, Reisepass). Kopien oder Fotos von Ausweisen sind ungültig!
URL:https://popculture.at/event/voellig-losgeloest-gratiseintritt-bis-mitternacht/2025-05-31/
CATEGORIES:Party
ATTACH;FMTTYPE=image/jpeg:https://popculture.at/wp-content/uploads/2023/03/voelliglosgeloest2-scaled-e1687936702673-2048x1152-1.jpg
ORGANIZER;CN="Partystandard":MAILTO:ab 18 Jahren
END:VEVENT
END:VCALENDAR