BEGIN:VCALENDAR
VERSION:2.0
PRODID:-//ppc - ECPv6.6.3//NONSGML v1.0//EN
CALSCALE:GREGORIAN
METHOD:PUBLISH
X-WR-CALNAME:ppc
X-ORIGINAL-URL:https://popculture.at
X-WR-CALDESC:Veranstaltungen für ppc
REFRESH-INTERVAL;VALUE=DURATION:PT1H
X-Robots-Tag:noindex
X-PUBLISHED-TTL:PT1H
BEGIN:VTIMEZONE
TZID:Europe/Berlin
BEGIN:DAYLIGHT
TZOFFSETFROM:+0100
TZOFFSETTO:+0200
TZNAME:CEST
DTSTART:20250330T010000
END:DAYLIGHT
BEGIN:STANDARD
TZOFFSETFROM:+0200
TZOFFSETTO:+0100
TZNAME:CET
DTSTART:20251026T010000
END:STANDARD
END:VTIMEZONE
BEGIN:VEVENT
DTSTART;TZID=Europe/Berlin:20250613T220000
DTEND;TZID=Europe/Berlin:20250614T040000
DTSTAMP:20260423T002426
CREATED:20250212T143213Z
LAST-MODIFIED:20250610T181456Z
UID:10001224-1749852000-1749873600@popculture.at
SUMMARY:ABGESAGT! WELCOME SUMMER - Weekend Special (GRATIS bis Mitternacht)
DESCRIPTION:Es ist schrecklich\, was am 10.6. in Graz passiert ist! Aus Respekt gegenüber den Betroffenen haben wir uns entschieden\, alle geplanten Veranstaltungen an diesem Wochenende abzusagen! Unsere Gedanken sind bei den Opfern\, ihren Angehörigen und allen\, die von diesem unfassbaren Ereignis betroffen sind.Wir bitten um euer Verständnis\,euer ppc-Team! \n\n\n\n \n\n\n\n———————- \n\n\n\nDer Sommer steht vor der Tür – und wir feiern ihn mit den besten Hits der 90er und 2000er!Dich erwarten unvergessliche Sommer-Sounds\, coole Vibes und die Songs\, bei denen du jede Zeile noch auswendig kannst.Kühle Getränke – heiße Beats: Von Shakira bis Scooter\, von Britney bis Blue – WELCOME SUMMER!Gratiseintritt bis Mitternacht10€ ab Mitternacht \n\n\n\n Ermäßigung für spark7 Kunden gegen Vorlage der spark7 Debitkarte oder spark7 Student Identity Debitkarte
URL:https://popculture.at/event/i-love-to-party-gratis-bis-mitternacht/2025-06-13/
CATEGORIES:Party
ATTACH;FMTTYPE=image/jpeg:https://popculture.at/wp-content/uploads/2025/02/welcome-summer-weekend_100625.jpg
END:VEVENT
BEGIN:VEVENT
DTSTART;TZID=Europe/Berlin:20250614T220000
DTEND;TZID=Europe/Berlin:20250615T040000
DTSTAMP:20260423T002426
CREATED:20250212T143213Z
LAST-MODIFIED:20250610T181456Z
UID:10001223-1749938400-1749960000@popculture.at
SUMMARY:ABGESAGT! WELCOME SUMMER - Weekend Special (GRATIS bis Mitternacht)
DESCRIPTION:Es ist schrecklich\, was am 10.6. in Graz passiert ist! Aus Respekt gegenüber den Betroffenen haben wir uns entschieden\, alle geplanten Veranstaltungen an diesem Wochenende abzusagen! Unsere Gedanken sind bei den Opfern\, ihren Angehörigen und allen\, die von diesem unfassbaren Ereignis betroffen sind.Wir bitten um euer Verständnis\,euer ppc-Team! \n\n\n\n \n\n\n\n———————- \n\n\n\nDer Sommer steht vor der Tür – und wir feiern ihn mit den besten Hits der 90er und 2000er!Dich erwarten unvergessliche Sommer-Sounds\, coole Vibes und die Songs\, bei denen du jede Zeile noch auswendig kannst.Kühle Getränke – heiße Beats: Von Shakira bis Scooter\, von Britney bis Blue – WELCOME SUMMER!Gratiseintritt bis Mitternacht10€ ab Mitternacht \n\n\n\n Ermäßigung für spark7 Kunden gegen Vorlage der spark7 Debitkarte oder spark7 Student Identity Debitkarte
URL:https://popculture.at/event/i-love-to-party-gratis-bis-mitternacht/2025-06-14/
CATEGORIES:Party
ATTACH;FMTTYPE=image/jpeg:https://popculture.at/wp-content/uploads/2025/02/welcome-summer-weekend_100625.jpg
END:VEVENT
BEGIN:VEVENT
DTSTART;TZID=Europe/Berlin:20250620T230000
DTEND;TZID=Europe/Berlin:20250621T040000
DTSTAMP:20260423T002426
CREATED:20210916T090746Z
LAST-MODIFIED:20250630T105125Z
UID:10001243-1750460400-1750478400@popculture.at
SUMMARY:Hey Ya! Die 00er Party (Gratis bis Mitternacht)
DESCRIPTION:Just dance! Die besten Tracks des Jahrzehnts “Get the party started: 2000 -2009 in the mix!”“Eingenullt werden” von den unvergessenen Charthits\, den Rockhymnen aller Art\, den extrem tanzbaren Tracks aber auch fast vergessenen One-Hit-Wonder-Songs\, aufgepeppt mit einer Prise HipHop und RnB.Wir marschieren querbeet durch die Jahre 2000 bis 2009; ganz egal ob Alicia Keys\, The Black Eyed Peas\, Usher\, Linkin Park\, Gigi D’Agostino\, Eminem\, Shakira\, Christina Aguilera\, System Of A Down\, Justin Timberlake\, Enrique Iglesias\, Kylie Minogue\, Destiny’s Child\, Avril Lavigne\,  Lady Gaga\, Blue\, Nickelback\,  Rihanna\, Shaggy\, Usher\, The Gossip\, oder aber auch Groove Coverage –  tanzen\, shaken\, mitsingen! \n\n\n\nSUMMERSPECIALGRATISEINTRITT bis Mitternachtab 24 Uhr: 10€Die Facebook Fanpage (Gratis-Eintritt gewinnen!) zur 00er Party \n\n\n\n Ermäßigung für spark7 Kunden gegen Vorlage der spark7 Debitkarte oder spark7 Student Identity Debitkarte \n\n\n\nEinlass ab 18 Jahren – das ppc behält sich jederzeit Alterskontrollen vor. Dafür werden nur amtlich ausgestellte Lichtbildausweise anerkannt (z.B. Personalausweis\, Reisepass). Kopien oder Fotos von Ausweisen sind ungültig!
URL:https://popculture.at/event/hey-ya-die-00er-party/2025-06-20/
CATEGORIES:Party
ATTACH;FMTTYPE=image/jpeg:https://popculture.at/wp-content/uploads/2025/06/hayya.jpg
END:VEVENT
END:VCALENDAR