BEGIN:VCALENDAR
VERSION:2.0
PRODID:-//ppc - ECPv6.6.3//NONSGML v1.0//EN
CALSCALE:GREGORIAN
METHOD:PUBLISH
X-WR-CALNAME:ppc
X-ORIGINAL-URL:https://popculture.at
X-WR-CALDESC:Veranstaltungen für ppc
REFRESH-INTERVAL;VALUE=DURATION:PT1H
X-Robots-Tag:noindex
X-PUBLISHED-TTL:PT1H
BEGIN:VTIMEZONE
TZID:Europe/Berlin
BEGIN:DAYLIGHT
TZOFFSETFROM:+0100
TZOFFSETTO:+0200
TZNAME:CEST
DTSTART:20250330T010000
END:DAYLIGHT
BEGIN:STANDARD
TZOFFSETFROM:+0200
TZOFFSETTO:+0100
TZNAME:CET
DTSTART:20251026T010000
END:STANDARD
END:VTIMEZONE
BEGIN:VEVENT
DTSTART;TZID=Europe/Berlin:20250906T220000
DTEND;TZID=Europe/Berlin:20250907T040000
DTSTAMP:20260422T202538
CREATED:20241203T080954Z
LAST-MODIFIED:20260126T103347Z
UID:10001256-1757196000-1757217600@popculture.at
SUMMARY:KAYKO - Best of K-Pop & Anime Sound
DESCRIPTION:KAYKO steht für K-Pop\, Anime\, Cosplay und eine Szene die nicht mehr auf zu halten ist! Wir präsentieren euch die größten K-Pop Hymnen unserer Zeit kombiniert mit Tracks eurer Lieblings Anime Serien!Egal ob K-Pop Fan\, Anime Addict oder Cosplayer bei uns kommt jeder auf seine Kosten! Sei Teil der immer größer werdenden Community!Mit Songs von BTS\, Girls Generation\, SHINee\, UNB\, Stray Kids\, SEVENTEEN\, PSY\, PENTAGON\, ONEUS\, KARA\, Jessi\, Jay Park\, IZ*ONE\, iKON\, GOT7\, EXO\, Everglow\, BLACKPINK\, BIGBANG\, 2PM\, 2NE1\, SUPER JUNIOR\, und viele mehr! \n\n\n\nEinlass ab 16 Jahren – das ppc behält sich jederzeit Alterskontrollen vor. Dafür werden nur amtlich ausgestellte Lichtbildausweise anerkannt (z.B. Personalausweis\, Reisepass). Kopien oder Fotos von Ausweisen sind ungültig!
URL:https://popculture.at/event/kayko-best-of-k-pop-anime-sound/2025-09-06/
CATEGORIES:Party
ATTACH;FMTTYPE=image/jpeg:https://popculture.at/wp-content/uploads/2024/12/321351570_1191930291699118_7704028316076173610_n-e1735552834590.jpg
END:VEVENT
BEGIN:VEVENT
DTSTART;TZID=Europe/Berlin:20250913T190000
DTEND;TZID=Europe/Berlin:20250913T223000
DTSTAMP:20260422T202538
CREATED:20250310T143447Z
LAST-MODIFIED:20250913T103954Z
UID:10001179-1757790000-1757802600@popculture.at
SUMMARY:Cara Rose - SOLD OUT
DESCRIPTION:Soulful singer-songwriter Cara Rose continues her rapid rise on the live circuit with her 5th European tour. Having sold out multiple shows in her native Glasgow and across the UK\, Cara is now captivating audiences across Europe with her direct\, passionate and insightful lyrics. Following sold out dates in Germany\, Austria\, Switzerland\, Belgium\, France and the Netherlands\, Cara brings her powerful live show to new cities in September 2025.  \n\n\n\nTickets ab sofort unter https://bit.ly/CaraRoseGRZ25
URL:https://popculture.at/event/cara-rose/
CATEGORIES:Konzert
ATTACH;FMTTYPE=image/jpeg:https://popculture.at/wp-content/uploads/2025/03/482090536_995076559390036_6028981775984958167_n.jpg
END:VEVENT
BEGIN:VEVENT
DTSTART;TZID=Europe/Berlin:20250920T190000
DTEND;TZID=Europe/Berlin:20250920T223000
DTSTAMP:20260422T202538
CREATED:20241209T090437Z
LAST-MODIFIED:20241209T090439Z
UID:10001112-1758394800-1758407400@popculture.at
SUMMARY:TAGTRAEUMER
DESCRIPTION:Schon klar: Offiziell war es kein Comeback\, als Tagtraeumer sich im Juli 2023 mit der ersten neuen Musik seit viereinhalb Jahren zurückmeldeten – schließlich hatten sie sich nie offiziell getrennt. Nah dran waren sie trotzdem\, was ihr Nicht-Comeback umso besonderer machte. Denn sie hätten nicht weitermachen müssen – sie wollten es. Tom\, Kevin und Tobias mussten alles ablegen\, was mit dem Stempel „Eine der erfolgreichsten Bands Österreichs“ einherging – und sich auf das besinnen\, was sie ursprünglich verband: ihre Freundschaft. Womöglich liegt darin ein Grund\, dass ihr Songwriting nun fokussierter wirkt als je zuvor. Die Bilder? Noch stärker. Die Melodien? Noch eingängiger. Und die Emotionen? Noch intensiver gefühlt. \n\n\n\nIhr neues Album wird 2025 erscheinen und im Herbst 2025 geht es dann auf Album Tour durch Österreich. Salzburg\, Linz\, Klagenfurt\, Graz und Wien werden die Stationen sein. \n\n\n\n Kartenvorverkauf zum günstigsten Preis auf www.sparkasse.at/ticketing\, Ermäßigung für Sparkassenkunden
URL:https://popculture.at/event/tagtraeumer/
CATEGORIES:Konzert
ATTACH;FMTTYPE=image/png:https://popculture.at/wp-content/uploads/2024/12/5-e1733735001563.png
END:VEVENT
BEGIN:VEVENT
DTSTART;TZID=Europe/Berlin:20250920T223000
DTEND;TZID=Europe/Berlin:20250921T040000
DTSTAMP:20260422T202538
CREATED:20250805T073540Z
LAST-MODIFIED:20250911T080912Z
UID:10001282-1758407400-1758427200@popculture.at
SUMMARY:PARTYSAHNE! 100% deutschsprachige Hits!
DESCRIPTION:DEUTSCHSPRACHIGE HITS DIE GANZE NACHT? LIEBEN WIR!Tanzen\, mitgrölen\, fühlen – alles auf Deutsch. Ohne Cringe.PARTYSAHNE ist die Nacht\, in der wir feiern\, was Pop\, Rock\, Indie und Rap auf deutsch alles zu bieten hat – von den Straßen bis in die Clubs.!Kraftklub\, Nina Chuba\, Apache 207\, Ski Aggu\, Annenmaykantereit\, Ayliva\, Shirin David\, Seeed\, Ikkimel\, Deichkind\, K.I.Z.\, Alligatoah\, Die Ärzte\, Die Toten Hosen\, Sportfreunde Stiller\, Cro\, Bilderbuch\, Bibiza\, RAF Camora\, Edwin Rosen\, Mayberg\, Ennio\, Luciano\, Madsen und Co – alles\, was du bei Festivals fühlst\, läuft bei uns an diesem Abend auf Anschlag. \n\n\n\nZwischen Kopfnicken & Mitgrölen – Hauptsache auf Deutsch.Laut. Ech(t). Und nur ein bisschen drüber.Deutschhits? Lieben wir. Punkt \n\n\n\nEintritt:8 € bis Mitternacht\, 10 € ab Mitternacht  \n\n\n\nEinlass ab 18 Jahren – das ppc behält sich jederzeit Alterskontrollen vor. Dafür werden nur amtlich ausgestellte Lichtbildausweise anerkannt (z.B. Personalausweis\, Reisepass). Kopien oder Fotos von Ausweisen sind ungültig!
URL:https://popculture.at/event/partysahne/
CATEGORIES:Party
ATTACH;FMTTYPE=image/png:https://popculture.at/wp-content/uploads/2025/08/partysahne-e1754378882341.png
END:VEVENT
BEGIN:VEVENT
DTSTART;TZID=Europe/Berlin:20250925T220000
DTEND;TZID=Europe/Berlin:20250926T040000
DTSTAMP:20260422T202538
CREATED:20230719T081310Z
LAST-MODIFIED:20250827T113157Z
UID:10000739-1758837600-1758859200@popculture.at
SUMMARY:Semester Opening - Erstsemestrigenparty
DESCRIPTION:Du bist neu in der Stadt und suchst Anschluss?Der Ernst des Studienlebens beginnt mit einer Party\, Anwesenheitspflicht!Die Soundportal Erstsemestrigen-Welcomeparty90s/00er/10er/ trash & fresh sounds \n\n\n\n presented by AK young – die Jugendmarke der Arbeiterkammer SteiermarkFresh sounds for fresh people Soundportal bringt die Party für alle Erstsemestrigen ins ppc!In Kooperation mit der Universität Grazals besonderes SPECIAL gibt es für alle Besucher*innen der Welcome Days ein Free Ticket!Supported by Brot & Spiele – Billard\, Burger und über 130 Biersorten \n\n\n\n\n\n\nSupported by Steiermärkische Sparkasse – Mehr Freiraum beim Studieren mit dem Studentenpackage der Steiermärkischen Sparkasse!Alle Vorteile vereint – Full-Service rund um dein Studierendenleben – Infos auf http://www.steiermaerkische.at
URL:https://popculture.at/event/erstsemestrigenparty-2-2/
CATEGORIES:Party
ATTACH;FMTTYPE=image/jpeg:https://popculture.at/wp-content/uploads/2021/08/partysujet.jpg
ORGANIZER;CN="Partystandard":MAILTO:ab 18 Jahren
END:VEVENT
BEGIN:VEVENT
DTSTART;TZID=Europe/Berlin:20250926T230000
DTEND;TZID=Europe/Berlin:20250927T040000
DTSTAMP:20260422T202538
CREATED:20250904T121606Z
LAST-MODIFIED:20250909T094329Z
UID:10001305-1758927600-1758945600@popculture.at
SUMMARY:25 Years Soundportal - Birthday Bash (Gratis bis Mitternacht)
DESCRIPTION:The very best of 25 years of #goodmusicforgoodpeople Radio Soundportal feiert das Jubiläum mit den besten Tracks aus 25 Jahren Radio Soundportal das ganze Monat lang onair und am 26. September im ppc!GRATISEINTRITT bis Mitternacht10€ Eintritt ab Mitternacht
URL:https://popculture.at/event/25-years-soundportal-birthday-bash/
CATEGORIES:Party
ATTACH;FMTTYPE=image/jpeg:https://popculture.at/wp-content/uploads/2025/09/25-slider.jpg
END:VEVENT
BEGIN:VEVENT
DTSTART;TZID=Europe/Berlin:20250927T190000
DTEND;TZID=Europe/Berlin:20250927T223000
DTSTAMP:20260422T202538
CREATED:20250207T100601Z
LAST-MODIFIED:20250207T100603Z
UID:10001164-1758999600-1759012200@popculture.at
SUMMARY:Max von Milland
DESCRIPTION:Der Südtiroler Singer/Songwriter hat im vergangenen Jahr viel Zeit mit sich selbst verbracht und sich dabei in einen klostergleichen Rückzug begeben.Fast 30 Tage hat die Entsagung gehalten und ihm ist danach schnell klar geworden\, dass das Schreiben von Liedern sich noch nie so direkt und echt angefühlt hat\, wie in dieser Zeit.Nach München (seiner Wahlheimat) zurückgegehrt\, brachte er ganze 5 neue Songs zu seinem neuen Produzenten Kilian Reischl\, Gitarrist und Bandmitglieder der Band Cosby. In einer gemeinsamen Studiosession mit Max wurden die Songs veredelt. \n\n\n\n„HOI“ schlägt den Anfang zu einem neuen Kapitel auf. Musikalisch mutig mit einer uptempo Tonalität\, wie man sie bisher so nicht von Max zu hören bekommen hat\, wurden die neuen Songs zu einer Art Potpourri aus folkloristischer Tradition mit alternativen Klangstrukturen verarbeitet. \n\n\n\nNun schickt sich Max an\, diese Songs in Eigenregie via recordJet in regelmäßiger Taktung zu veröffentlichen und kündigt dazu gleich eine neue Tour für 2025 an\, davor wird MAX VON MILLAND u.a. mit seiner Band also Special Guest der Fäaschtbänklern im ausverkauften Circus Krone in München live zu erleben sein. \n\n\n\n Kartenvorverkauf zum günstigsten Preis auf www.sparkasse.at/ticketing\, Ermäßigung für Sparkassenkunden
URL:https://popculture.at/event/max-von-milland/
CATEGORIES:Konzert
ATTACH;FMTTYPE=image/jpeg:https://popculture.at/wp-content/uploads/2025/02/MaxMilland25-AW-060225-GRZ28.jpg
END:VEVENT
BEGIN:VEVENT
DTSTART;TZID=Europe/Berlin:20250927T220000
DTEND;TZID=Europe/Berlin:20250928T040000
DTSTAMP:20260422T202538
CREATED:20231123T131612Z
LAST-MODIFIED:20260331T202241Z
UID:10001304-1759010400-1759032000@popculture.at
SUMMARY:BLACK PARADE // XL SPECIAL GRAZ - 4 YEARS ANNIVERSARY / 2 Floors
DESCRIPTION:BLACK PARADE bringt dir everything EMO AND SCENE von den 2000ern bis heute. Das bedeutet: WIR BRINGEN DIR DEINE FAVOURITE TRACKS UND HYMNEN VON DAMALS\, aber auch natürlich neuere tracks der Bands.  \n\n\n\nDIESMAL AUF 2 FLOORS \n\n\n\npop-punk\, metalcore\, screamo\, post hardcore\, rock\, deathcore\, nu metal und viel mehr \n\n\n\nWERDE EIN TEIL DES GRÖSSTEN UND BEKANNTESTEN EVENTS FÜR ALTERNATIVE MUSIK // join our beautiful parade \n\n\n\nAM MAIN FLOOR: wie gewohnt Tracks von: MY CHEMICAL ROMANCE\, BILLY TALENT\, FALL OUT BOY\, GOOD CHARLOTTE\, SUM41\, BLINK 182\, GREEN DAY\, LINKIN PARK\, AVENGED SEVENFOLD\, PANIC AT THE DISCO\, PAPA ROACH\, PARAMORE\, BRING ME THE HORIZON\, ESCAPE THE FATE\, JENNIFER ROSTOCK\, BLACK VEIL BRIDES\, AVRIL LAVIGNE\, THE USED\, BULLET FOR MY VALENTINE\, MUSE\, SLIPKNOT\, SYSTEM OF A DOWN\, LIMP BIZKIT UND VIELEN VIELEN MEHR!  \n\n\n\nAM CORE FLOOR: die härteren klassiker von ASKING ALEXANDRIA\, den alten BMTH tracks\, tracks aus der MYSPACE ERA von ATTACK ATTACK!\, BLESSTHEFALL\, ENTER SHIKARI\, und vielen mehr als auch das beste was METALCORE\, HARDCORE und DEATHCORE zu bieten hat von unter anderem: LORNA SHORE\, ARCHITECTS\, SUICIDE SILENCE\, WE CAME AS ROMANS\, PARKWAY DRIVE\, MOTIONLESS IN WHITE\, KNOCKED LOOSE\, KILLSWITCH ENGAGE\, ELECTRIC CALLBOY\, THE BUCHER SISTER UVM.  \n\n\n\nIT WAS NEVER A PHASE MUM \n\n\n\negal ob du immernoch die tracks von damals hörst\, oder diese wunderbare Musik erst neu für dich entdeckt hast\, wenn man einmal emo war stirbt dieser teil in dir NIE! \n\n\n\nAlso hol die Ripped Skinny-Jeans aus dem Schrank\, hau schwarzen Lack auf die Fingernägel\, gönn dir den härtesten Haarspray mit dem du eigentlich einen Wandschrank festkleben könntest\, und komm am 16.5. zu uns in das PPC GRAZ \n\n\n\nWELCOME TO THE BLACK PARADE \n\n\n\n16.5..26. \n\n\n\nPPC GRAZ \n\n\n\n18+ \n\n\n\n22:00 \n\n\n\nWir empfehlen ein VVK Ticket zu kaufen\, und bei kurzentschlossenen bereits früh genug an der Kassa zu sein. Danke für euer Verständnis und wir freuen uns auf euch! \n\n\n\nVVK: 12 EUROAK: 15 EURO
URL:https://popculture.at/event/black-parade-best-of-emo-and-scene-music/2025-09-27/
CATEGORIES:Party
ATTACH;FMTTYPE=image/png:https://popculture.at/wp-content/uploads/2023/11/FANTICKET-1-e1774988391365.png
END:VEVENT
END:VCALENDAR