BEGIN:VCALENDAR
VERSION:2.0
PRODID:-//ppc - ECPv6.6.3//NONSGML v1.0//EN
CALSCALE:GREGORIAN
METHOD:PUBLISH
X-WR-CALNAME:ppc
X-ORIGINAL-URL:https://popculture.at
X-WR-CALDESC:Veranstaltungen für ppc
REFRESH-INTERVAL;VALUE=DURATION:PT1H
X-Robots-Tag:noindex
X-PUBLISHED-TTL:PT1H
BEGIN:VTIMEZONE
TZID:Europe/Berlin
BEGIN:DAYLIGHT
TZOFFSETFROM:+0100
TZOFFSETTO:+0200
TZNAME:CEST
DTSTART:20250330T010000
END:DAYLIGHT
BEGIN:STANDARD
TZOFFSETFROM:+0200
TZOFFSETTO:+0100
TZNAME:CET
DTSTART:20251026T010000
END:STANDARD
END:VTIMEZONE
BEGIN:VEVENT
DTSTART;TZID=Europe/Berlin:20251101T220000
DTEND;TZID=Europe/Berlin:20251102T040000
DTSTAMP:20260422T173318
CREATED:20240725T121356Z
LAST-MODIFIED:20260414T122717Z
UID:10001334-1762034400-1762056000@popculture.at
SUMMARY:Völlig Losgelöst
DESCRIPTION:VÖLLIG LOSGELÖST! – die extrabreite Soundportal 80er-PartyDie Zeitreise in die 80er mit den Hits einer ganzen Generation! 80er Klassiker und NDW-Kulthits bei der Soundportal 80er Party \n\n\n\nDie legendäre 80ies Party mit den Soundportal DJs Drone & Joe Love \n\n\n\nSeit dem 31. Mai 2002 geht der Kultclub bereits über die Bühne und ist seitdem aus dem Grazer Eventkalender nicht mehr wegzudenken! \n\n\n\nUnsere Völlig Losgelöst Facebook Fanpage findet ihr hier \n\n\n\nEinlass ab 18 Jahren – das ppc behält sich jederzeit Alterskontrollen vor. Dafür werden nur amtlich ausgestellte Lichtbildausweise anerkannt (z.B. Personalausweis\, Reisepass). Kopien oder Fotos von Ausweisen sind ungültig!
URL:https://popculture.at/event/voellig-losgeloest-gratiseintritt-bis-mitternacht/2025-11-01/
CATEGORIES:Party
ATTACH;FMTTYPE=image/jpeg:https://popculture.at/wp-content/uploads/2023/03/voelliglosgeloest2-scaled-e1687936702673-2048x1152-1.jpg
ORGANIZER;CN="Partystandard":MAILTO:ab 18 Jahren
END:VEVENT
BEGIN:VEVENT
DTSTART;TZID=Europe/Berlin:20251106T190000
DTEND;TZID=Europe/Berlin:20251106T223000
DTSTAMP:20260422T173318
CREATED:20241210T131953Z
LAST-MODIFIED:20241210T131955Z
UID:10001116-1762455600-1762468200@popculture.at
SUMMARY:WALLNERS
DESCRIPTION:End of Circle Tour 2025Vier Geschwister aus Wien\, die faszinierende Songs irgendwo dazwischen zwischen Rhye\, James Blake\, Lana Del Rey oder Daughter produzieren. Wallners begeistert vor allem durch ihre nostalgische Texte kombiniert mit dem Look & Feel einer Cali Surf Gang. Nicht nur als Familie\, sondern auch als Band geben sie ein harmonisch eingespieltes Team ab. \n\n\n\n Kartenvorverkauf zum günstigsten Preis auf www.sparkasse.at/ticketing\, Ermäßigung für Sparkassenkunden
URL:https://popculture.at/event/wallners/
CATEGORIES:Konzert
ATTACH;FMTTYPE=image/jpeg:https://popculture.at/wp-content/uploads/2024/12/Wallners_Games_Pressphoto_3_c_Tim-Cavadini_1124-1920x1080-1.jpg
END:VEVENT
BEGIN:VEVENT
DTSTART;TZID=Europe/Berlin:20251107T220000
DTEND;TZID=Europe/Berlin:20251108T040000
DTSTAMP:20260422T173318
CREATED:20240725T121224Z
LAST-MODIFIED:20260414T122344Z
UID:10001324-1762552800-1762574400@popculture.at
SUMMARY:Hey Ya! Die 00er Party
DESCRIPTION:Just dance! Die besten Tracks des Jahrzehnts “Get the party started: 2000 -2009 in the mix!”“Eingenullt werden” von den unvergessenen Charthits\, den Rockhymnen aller Art\, den extrem tanzbaren Tracks aber auch fast vergessenen One-Hit-Wonder-Songs\, aufgepeppt mit einer Prise HipHop und RnB.Wir marschieren querbeet durch die Jahre 2000 bis 2009; ganz egal ob Alicia Keys\, The Black Eyed Peas\, Usher\, Linkin Park\, Gigi D’Agostino\, Eminem\, Shakira\, Christina Aguilera\, System Of A Down\, Justin Timberlake\, Enrique Iglesias\, Kylie Minogue\, Destiny’s Child\, Avril Lavigne\,  Lady Gaga\, Blue\, Nickelback\,  Rihanna\, Shaggy\, Usher\, The Gossip\, oder aber auch Groove Coverage –  tanzen\, shaken\, mitsingen! \n\n\n\n Ermäßigung für spark7 Kunden gegen Vorlage der spark7 Debitkarte oder spark7 Student Identity Debitkarte \n\n\n\nEinlass ab 18 Jahren – das ppc behält sich jederzeit Alterskontrollen vor. Dafür werden nur amtlich ausgestellte Lichtbildausweise anerkannt (z.B. Personalausweis\, Reisepass). Kopien oder Fotos von Ausweisen sind ungültig!
URL:https://popculture.at/event/hey-ya-die-00er-party-2/2025-11-07/
CATEGORIES:Party
ATTACH;FMTTYPE=image/jpeg:https://popculture.at/wp-content/uploads/2024/07/friday-flyer-00er.jpg
ORGANIZER;CN="Partystandard":MAILTO:ab 18 Jahren
END:VEVENT
BEGIN:VEVENT
DTSTART;TZID=Europe/Berlin:20251108T190000
DTEND;TZID=Europe/Berlin:20251108T220000
DTSTAMP:20260422T173318
CREATED:20251007T140412Z
LAST-MODIFIED:20251007T140416Z
UID:10001322-1762628400-1762639200@popculture.at
SUMMARY:KIPOD - ALBUM RELEASE SHOW
DESCRIPTION:KIPOD – die aktuellen  Local Heroes Styria Gewinner – feiern ihr Debütalbum Release Show im P.P.C.!Es ist ihre erste große Veröffentlichung nach Jahren gemeinsamer Auftritte mit mehrsprachigen Songs\, die alternativen Pop mit ihren mediterranen Wurzeln verbinden.Sehen wir uns\, Yalla!
URL:https://popculture.at/event/kipod-album-release-show/
CATEGORIES:Konzert
ATTACH;FMTTYPE=image/jpeg:https://popculture.at/wp-content/uploads/2025/10/KIPOD-7-©-Vanessa-Hechenberger-scaled-e1759845786693.jpg
END:VEVENT
BEGIN:VEVENT
DTSTART;TZID=Europe/Berlin:20251108T220000
DTEND;TZID=Europe/Berlin:20251109T040000
DTSTAMP:20260422T173319
CREATED:20241203T080954Z
LAST-MODIFIED:20260126T103347Z
UID:10001338-1762639200-1762660800@popculture.at
SUMMARY:KAYKO - Best of K-Pop & Anime Sound
DESCRIPTION:KAYKO steht für K-Pop\, Anime\, Cosplay und eine Szene die nicht mehr auf zu halten ist! Wir präsentieren euch die größten K-Pop Hymnen unserer Zeit kombiniert mit Tracks eurer Lieblings Anime Serien!Egal ob K-Pop Fan\, Anime Addict oder Cosplayer bei uns kommt jeder auf seine Kosten! Sei Teil der immer größer werdenden Community!Mit Songs von BTS\, Girls Generation\, SHINee\, UNB\, Stray Kids\, SEVENTEEN\, PSY\, PENTAGON\, ONEUS\, KARA\, Jessi\, Jay Park\, IZ*ONE\, iKON\, GOT7\, EXO\, Everglow\, BLACKPINK\, BIGBANG\, 2PM\, 2NE1\, SUPER JUNIOR\, und viele mehr! \n\n\n\nEinlass ab 16 Jahren – das ppc behält sich jederzeit Alterskontrollen vor. Dafür werden nur amtlich ausgestellte Lichtbildausweise anerkannt (z.B. Personalausweis\, Reisepass). Kopien oder Fotos von Ausweisen sind ungültig!
URL:https://popculture.at/event/kayko-best-of-k-pop-anime-sound/2025-11-08/
CATEGORIES:Party
ATTACH;FMTTYPE=image/jpeg:https://popculture.at/wp-content/uploads/2024/12/321351570_1191930291699118_7704028316076173610_n-e1735552834590.jpg
END:VEVENT
BEGIN:VEVENT
DTSTART;TZID=Europe/Berlin:20251113T190000
DTEND;TZID=Europe/Berlin:20251113T223000
DTSTAMP:20260422T173319
CREATED:20250806T143457Z
LAST-MODIFIED:20251112T091158Z
UID:10001286-1763060400-1763073000@popculture.at
SUMMARY:Livin’ Vintage - EP-Release Show
DESCRIPTION:Special Guest: Taineh \n\n\n\nLivin’ Vintage ist eine Indie-Pop-Band aus Graz\, die Soul\, Funk und Jazz mit modernen Indie-Einflüssen kombiniert. Gegründet 2020\, besticht das Sextett mit einer einzigartigen Mischung aus Retro- Sounds im tanzbaren Popgewand. Ihre Musik ist eine atmosphärische Reise durch komplexe Harmonien\, eingängige Melodien und präzisen Grooves. Durch energetische\, aber dennoch stets ehrliche und intime Liveshows hat die Band eine stetig wachsende Fangemeinde erlangt \n\n\n\n Kartenvorverkauf zum günstigsten Preis auf www.sparkasse.at/ticketing\, Ermäßigung für Sparkassenkunden
URL:https://popculture.at/event/livin-vintage-ep-release-show/
CATEGORIES:Konzert
ATTACH;FMTTYPE=image/jpeg:https://popculture.at/wp-content/uploads/2025/08/525921299_1170508938438957_8095903399728770806_n.jpg
END:VEVENT
BEGIN:VEVENT
DTSTART;TZID=Europe/Berlin:20251115T190000
DTEND;TZID=Europe/Berlin:20251115T223000
DTSTAMP:20260422T173319
CREATED:20250806T144125Z
LAST-MODIFIED:20251105T085217Z
UID:10001288-1763233200-1763245800@popculture.at
SUMMARY:Ansa Sauermann & Band
DESCRIPTION:„2014 erschien die erste Single „Foto“ auf der gleichnamigen EP. Seitdem hat Ansa Sauermann drei Alben und 40 Songs veröffentlicht. 2017 „Weisse Liebe“\, 2020 „Trümmerlotte“ und 2023 schliesslich „Du kriegst was du brauchst“. \n\n\n\nNoch bevor die vierte Platte dann herauskommen wird\, sind die fünf Dresdner jetzt noch einmal unterwegs\, um alle zwölf Songs des kommenden Albums live vorzustellen. \n\n\n\nMomentan stecken sie mitten in den Vorbereitungen für die Aufnahmen zum vierten Album\, welches voraussichtlich im März 2026 erscheinen wird. Nachdem auf dem dritten und letzten Album „Du kriegst was du brauchst“ vor allem mit sanfteren Tönen überzeugt wurde\, wird auf der vierten Scheibe nun zum großen Rundumschlag ausgeholt. Die in der Vergangenheit dominierende Akustikgitarre wird immer öfter gegen e-Gitarren eingetauscht und melancholische Verträumtheit weicht wütender Fassungslosigkeit. Dabei geht es nicht darum\, mit dem Finger auf andere zu zeigen\, sondern vielmehr darum\, diesen unbequem und pointiert in die Wunden unserer Zeit zulegen. Aber wie immer kommt bei Ansa Sauermann dennoch die Romantik nicht zu kurz\, die uns in Zeiten zunehmender Unsicherheit & Spaltung\, Halt und Zuversicht gibt. Denn wofür sonst lohnt es sich zu kämpfen und die Hoffnung hochzuhalten\, wenn nicht für die Liebe \n\n\n\n Kartenvorverkauf zum günstigsten Preis auf www.sparkasse.at/ticketing\, Ermäßigung für Sparkassenkunden
URL:https://popculture.at/event/ansa-sauermann-band/
CATEGORIES:Konzert
ATTACH;FMTTYPE=image/jpeg:https://popculture.at/wp-content/uploads/2025/08/504684210_1125772202912631_1814224092851026156_n.jpg
END:VEVENT
BEGIN:VEVENT
DTSTART;TZID=Europe/Berlin:20251116T170000
DTEND;TZID=Europe/Berlin:20251116T230000
DTSTAMP:20260422T173319
CREATED:20231106T150531Z
LAST-MODIFIED:20251104T093810Z
UID:10000823-1763312400-1763334000@popculture.at
SUMMARY:LOCAL HEROES Styria - Finale
DESCRIPTION:Was haben Millions Of Dreads\, Eliah\, Gnackwatschn oder Jimmy & The Goofballs gemeinsam? \n\n\n\nSie alle sind natürlich grossartige Künstler\, herausragende Performer\, fantastische Live Bands. Und sie alle machten ihre ersten grossen Erfahrungen im Rahmen des Soundportal Bandcontests! \n\n\n\nSeit 2005 wird im PPC der steirische LOCAL HERO gekürt. Fast 1.000 Bands haben mittlerweile die Challenge angenommen und die PPC Bühne gerockt! \n\n\n\nDie jungen Nachwuchsbands\, -künstlerInnen erhalten die Möglichkeit unter professionellsten Bedingungen live aufzutreten\, wichtige Erfahrungen zu sammeln\, neue Bands und Veranstalter kennenzulernen. Das Netzwerk „MUSICBIZ“ ist hier keine leer Hülse\, sondern wird tatsächlich auch gelebt: Radio\, Print & Onlinemedien\, Promoter\, Booking Agenturen\, Szene – und Labelvertreter werden eingebunden und begleiten den Contest. \n\n\n\nAlle weiteren Infos auf http://localheroes.st/
URL:https://popculture.at/event/local-heroes-finale/
CATEGORIES:Konzert
ATTACH;FMTTYPE=image/jpeg:https://popculture.at/wp-content/uploads/2023/11/lhstyria-2048x758-1.jpg
END:VEVENT
BEGIN:VEVENT
DTSTART;TZID=Europe/Berlin:20251121T190000
DTEND;TZID=Europe/Berlin:20251121T223000
DTSTAMP:20260422T173319
CREATED:20250310T143036Z
LAST-MODIFIED:20250310T143040Z
UID:10001178-1763751600-1763764200@popculture.at
SUMMARY:MOLA - Liebe Brutal Tour 25
DESCRIPTION:MOLA – das ist Unaussprechlichkeiten à la »Mama\, ich will keine Mama sein« freimütig bisfeierlich in die Welt hinausschmettern; das ist die dramatisch aufgeladene letzte Kippe; das istintoxikiertes Fliegen und intoxikiertes Fallen. MOLA – das sind schmissige Gossenpop-Ohrwürmerund herzzerreißende Soul-Balladen\, die nach Punk-Lederjacke riechen; das sind Pathos-getränkteItalo-Schnulzen im Gewitterregen\, das sind Bittersweet Symphonies aus dem Indierock-Rumpelkeller. MOLA – das sind die mal knautschig geraunten\, mal glorios röhrendenGesangsbögen von Isabella Streifeneder; das sind eingängig-barsche Gitarrenriffs\, quietschendeSynths und staubige Drums; das ist die unverkennbare Handschrift des achtarmigenMultiinstrumentalisten und Produzenten Markus Sebastian Harbauer. MOLA – das sind wahlweisewehmütige\, gnädige oder galgenhumorige Hymnen auf bröckelnde Träume\, Eskapaden\, dieBeschissenheit der Dinge und das Leben ohne Führerschein; das sind schroffe Punchlines gegen dieLügen der Erwachsenen\, das sind Balgereien mit dem eigenen Herzen\, das ist »alles groß oder allesegal«. MOLA – das ist ein rote Herzen kotzendes\, monsterartiges Wesen mit giftgrünen Augen; dasist radikale Reibung\, das ist »Schnee im Sommer«\, das ist »Liebe Brutal«.»Liebe Brutal«\, so soll es heißen – das dritte\, im Sommer 2025 erscheinende und am heutigenFreitag hochoffiziell angekündigte dritte MOLA-Album. Es klingt ein gutes Stück zackiger\, agiler\,auch spritziger als seine Vorgänger – und doch so unverblümt und kratzig wie MOLA-Musik ebenklingen muss. »Liebe Brutal« handelt vom Herzen-Zerbersten und von Herzschmerzen; vom durchdie Nacht preschen und zerknittert Aufwachen\, vom Berufsjugendlichen-Dasein\, vom – in welchemKontext auch immer – aus der Bahn fliegen\, auch und häufig vom Sich-Verweigern. Ein Song\, derquasi sämtliche Kernthemen der LP streift? Das unverfälscht-impulsgeladene\, von flippigen Drumsund zerrenden Indiepop-Gitarren getragene »Mama«. Die zweite Vorab-Single aus »Liebe Brutal«ist MOLAs bossy-entschlossener Konter gegen jedes an sie und ihren Körper adressiertealtmodisch-patriarchale Anspruchsdenken. »Mama« erscheint nicht durch Zufall vierundzwanzigStunden vor dem feministischen Kampftag. Das Stück feiert die weibliche Selbstbestimmung undden bewussten Entschluss\, dem süßen Leben zu frönen\, statt sich halbfreiwillig zur Gebärmaschinemachen zu lassen: »Mama sein\, warum denn jetzt? Party ohne Ende\, verlier’ mein eig’nesSorgerecht«.Apropos Sorgerecht: Isabella Streifeneder aka MOLA ist in Italien zur Welt gekommen und untertendenziell stressigen Bedingungen in München groß geworden\, wo sie bis heute lebt. Lange warsie zwischen Jazzgesangsstudium und Bandprojekten vergeblich auf der Suche nach einerkünstlerischen Vision: Klimpern\, kritzeln\, zerknüllen\, kellnern\, kellnern\, kellnern – so ging dasjahrelang. Als MOLA 2017 begann\, mit Produzent Markus Sebastian Harbauer zu arbeiten\, platzteder Knoten. Plötzlich klangen Isabellas Songs wie die Geschichten\, die sie erzählen: Ziemlichschroff und rotzig\, dabei immer ein bisschen marode und verlottert und trotzdem ultraromantisch\,symphonisch\, inbrünstig und groß. Zwischen 2017 und 2020 wuchs MOLAs bundesweiterBekanntheitsgrad – stark beschleunigt durch das Stück »Alles gelogen« mit Majan – stetig. Das ersteGroßprojekt »Schnee im Sommer«\, auf dem Gastparts von Roy Bianco & den Abbrunzati Boys\,Haiyti und Fatoni zu finden waren\, sorgte 2021 für den endgültigen Durchbruch und reichlichRadiorotation. Es folgten: Der Gewinn des Panikpreises der Udo Lindenberg Stiftung und mehrereNominierungen beim Preis für Popkultur.MOLA hat in den letzten Jahren auf etlichen namhaften Festivals à la Lollapalooza\, Deichbrand\,Open Flair oder Rocco del Schlacco gespielt\, Artists wie Bibiza\, Tiavo\, Il Civetto\, Oehl oder AmiWarning gefeaturet und als Support-Act für Wanda\, Großstadtgeflüster\, die Antilopen Gang oderMilliarden geglänzt. Infolge der Veröffentlichung des verflixten zweiten Albums »Das Leben istschön« im Herbst 2023 ging MOLA samt Band auf nahezu ausverkaufte Headliner-Tournee. Bereitsim Januar 2024 starteten Isabella und Markus in die Arbeiten am nahenden dritten Album. Währendzwischen München und Berlin neue Songs entstanden\, war MOLA auf dem Coveralbum »WolfBiermann Re:Imagined – Lieder für jetzt« vertreten und im Programm des Bayerischen Rundfunksdauerpräsent. \n\n\n\n Kartenvorverkauf zum günstigsten Preis auf www.sparkasse.at/ticketing\, Ermäßigung für Sparkassenkunden
URL:https://popculture.at/event/mola-liebe-brutal-tour-25/
CATEGORIES:Konzert
ATTACH;FMTTYPE=image/jpeg:https://popculture.at/wp-content/uploads/2025/03/mola.jpg
END:VEVENT
BEGIN:VEVENT
DTSTART;TZID=Europe/Berlin:20251122T220000
DTEND;TZID=Europe/Berlin:20251123T040000
DTSTAMP:20260422T173319
CREATED:20240725T121356Z
LAST-MODIFIED:20260414T122717Z
UID:10001341-1763848800-1763870400@popculture.at
SUMMARY:Völlig Losgelöst
DESCRIPTION:VÖLLIG LOSGELÖST! – die extrabreite Soundportal 80er-PartyDie Zeitreise in die 80er mit den Hits einer ganzen Generation! 80er Klassiker und NDW-Kulthits bei der Soundportal 80er Party \n\n\n\nDie legendäre 80ies Party mit den Soundportal DJs Drone & Joe Love \n\n\n\nSeit dem 31. Mai 2002 geht der Kultclub bereits über die Bühne und ist seitdem aus dem Grazer Eventkalender nicht mehr wegzudenken! \n\n\n\nUnsere Völlig Losgelöst Facebook Fanpage findet ihr hier \n\n\n\nEinlass ab 18 Jahren – das ppc behält sich jederzeit Alterskontrollen vor. Dafür werden nur amtlich ausgestellte Lichtbildausweise anerkannt (z.B. Personalausweis\, Reisepass). Kopien oder Fotos von Ausweisen sind ungültig!
URL:https://popculture.at/event/voellig-losgeloest-gratiseintritt-bis-mitternacht/2025-11-22/
CATEGORIES:Party
ATTACH;FMTTYPE=image/jpeg:https://popculture.at/wp-content/uploads/2023/03/voelliglosgeloest2-scaled-e1687936702673-2048x1152-1.jpg
ORGANIZER;CN="Partystandard":MAILTO:ab 18 Jahren
END:VEVENT
BEGIN:VEVENT
DTSTART;TZID=Europe/Berlin:20251128T183000
DTEND;TZID=Europe/Berlin:20251128T223000
DTSTAMP:20260422T173319
CREATED:20250331T131223Z
LAST-MODIFIED:20251128T105325Z
UID:10001195-1764354600-1764369000@popculture.at
SUMMARY:Julia Meladin
DESCRIPTION:Soundportal präsentiert \n\n\n\nJulia Meladin“Perlen um den Hals” Tour 2025 + Support: Sandra Hesch  \n\n\n\nJulia Meladin – Aus der Provinz zur Stimme einer Generation \n\n\n\nWenn Julia Meladin über ihre Anfänge spricht\, klingt das fast wie ein modernes Märchen – nur ohne Glitzer\, dafür mit viel Realität. Aufgewachsen in einem winzigen Dorf in Brandenburg\, wo die Straßen früh leer und die Träume oft leise sind\, wusste sie schon als Kind\, dass sie mehr wollte. Ihr Vater spielte Gitarre\, schrieb Songs\, und Julia begann bald\, es ihm gleichzutun. Mit acht Jahren schrieb sie ihre ersten Lieder – „über Liebe in falschem Englisch“\, wie sie lachend erzählt – und fühlte schon damals\, dass Musik für sie kein Hobby\, sondern ein innerer Drang war. \n\n\n\nNach dem Abitur zog sie mit 17 nach Berlin\, um zu studieren – und um endlich zu zeigen\, was in ihr steckt. Zwischen Vorlesungen und WG-Küche lud sie 2021 ihren Song „Angst“ auf TikTok hoch. Ein unscheinbarer Clip\, aufgenommen in ihrem Zimmer\, am Klavier – und plötzlich hörten ihr Tausende zu. Der Song\, ein ehrliches Bekenntnis über Selbstzweifel und innere Kämpfe\, ging viral und wurde zum Soundtrack einer Generation\, die zwischen Pandemie\, Druck und Orientierungslosigkeit erwachsen werden musste. \n\n\n\n„Ich hätte nie gedacht\, dass so viele Menschen sich in meinen Worten wiederfinden“\, sagt Julia rückblickend. „Plötzlich haben mir Leute ihre Geschichten geschickt – und ich habe gemerkt\, dass Musik wirklich etwas bewegen kann.“ Binnen Wochen folgten ihr zehntausende Menschen. Heute sind es über 300.000 allein auf TikTok\, Millionen Streams auf Spotify und YouTube\, ein Plattenvertrag bei Sony Music und mit „Perlen um den Hals“ ein Debütalbum in den Charts. \n\n\n\nSongs\, die bewegen – ehrlich\, direkt\, unverstellt \n\n\n\nAus gutem Grund: Julia Meladins Songs sind keine flüchtigen Popmomente\, sondern ehrliche Alltagsgeschichten. Sie schreibt über Bodyshaming („10 von 10“)\, Victim Blaming („Deine Schuld“)\, Leistungsdruck („Beispiel daran“) oder den Wunsch\, sich selbst treu zu bleiben. Ihre Texte entstehen oft aus Kommentaren und Nachrichten ihrer Fans. „Ich fand es unglaublich zu sehen\, dass Menschen mir ihre Geschichten anvertrauen und daraus gemeinsame Momente entstehen können“\, erzählt sie. \n\n\n\nDabei bleibt sie immer sie selbst – emotional\, direkt\, manchmal scharfzüngig\, aber nie zynisch. In einer Welt\, in der viele auf Social Media lieber Perfektion inszenieren\, steht Julia bewusst für das Gegenteil: Echtheit statt Filter\, Gefühl statt Glitzer. Sie zeigt\, dass Verletzlichkeit keine Schwäche ist – und dass man auch ohne Bling Bling\, Clickbait und Dauerlächeln Menschen berühren kann. Ihr Pop-Entwurf ist klar\, modern und trägt eine rockige Attitüde in sich. Live schafft sie das Kunststück\, intime Nähe und große Energie zu verbinden. Bei ihrer ersten eigenen Tour im Frühjahr 2025 spielte sie in acht von zehn Städten vor ausverkauften Häusern. Nach jeder Show blieb sie\, um mit Fans zu sprechen\, Fotos zu machen und zuzuhören – so wie jemand\, der nie vergessen hat\, woher er kommt. \n\n\n\n„Perlen um den Hals“ – jetzt als Deluxe-Version mit neuen Songs und neuem „Angst“ \n\n\n\nMit ihrem Debütalbum „Perlen um den Hals“ hat Julia Meladin im Frühjahr 2025 endgültig bewiesen\, dass sie keine Eintagsfliege ist. Zwischen Pop\, Rock und emotionalen Songs erzählt sie darin von Selbstzweifel\, Mut und Identität – immer nah an ihren Hörer:innen. Jetzt erscheint das Album in einer Deluxe-Edition als CD – mit 18 Songs\, darunter fünf brandneue Titel wie „Pokerface“\, „Oldtimer“ oder „Ist das okay“. \n\n\n\nBesonders emotional: die Neuaufnahme ihrer Debütsingle „Angst“. Drei Jahre nach dem Original zeigt sie denselben Song in einem neuen Licht – mit gereifter Stimme\, weiterem Horizont und einer neuen musikalischen Tiefe. „Ich wollte zeigen\, wie viel in diesen Jahren passiert ist“\, sagt Julia. „‚Angst‘ war der Anfang von allem – und jetzt fühlt es sich an wie ein Kreis\, der sich schließt.“ \n\n\n\nMit der Bonus Edition schlägt Julia ein neues Kapitel auf: mutiger\, erwachsener\, aber ohne ihre Nahbarkeit zu verlieren. Songs wie „Oldtimer“ oder „Pokerface“ zeigen eine Künstlerin\, die sich nicht mehr nur mit Ängsten\, sondern auch mit Liebe\, Freiheit und Selbstvertrauen auseinandersetzt – und dabei ein Gespür für Ohrwürmer und Bildsprache beweist\, das ihresgleichen sucht. „Ich habe jetzt den Mut\, Dinge zu machen\, die einfach Spaß machen\, ohne darüber nachzudenken\, ob sie viral gehen“\, erzählt sie. „Das ist ein schönes Gefühl von Freiheit.“ \n\n\n\nDie neue Tour 2025 – dorthin\, wo ihre Fans leben \n\n\n\nNach ihrer erfolgreichen ersten Tour im Frühjahr bringt Julia Meladin ihre Show im November 2025 wieder auf die Bühne – diesmal bewusst nicht nur in den Metropolen\, sondern dort\, wo viele ihrer Hörer:innen zu Hause sind. Statt in Berlin\, Köln oder München spielt sie in Städten wie Hameln\, Celle\, Fulda oder Annaberg-Buchholz\, aber auch in Österreich: Graz und Kufstein. \n\n\n\n„Ich wollte zu den Menschen gehen\, die mich von Anfang an begleitet haben“\, sagt Julia. „Es gibt überall junge Menschen mit Träumen – nicht nur in Großstädten. Und ich will alle erreichen.“ Ihre zweite Tour ist damit mehr als eine Konzertreihe: Sie ist ein Dankeschön an die Fans\, die ihre Musik tragen\, teilen und weitersingen. Mit im Gepäck: die Deluxe-Version ihres Albums\, neue Songs\, vertraute Hits und eine Show\, die Nähe statt Distanz sucht. \n\n\n\nZwischen leisen Klaviermomenten und rockigen Höhepunkten entsteht das\, was ihre Konzerte so besonders macht – ein Gefühl von Gemeinschaft. Und wenn sie am Ende des Abends fragt: „Wer will Beispiel daran mit mir singen?“\, dann wird klar\, was Julia Meladin ausmacht – eine Künstlerin\, die ihre Bühne teilt\, ihre Geschichten öffnet und mit jedem Song zeigt\, dass Musik am schönsten ist\, wenn sie verbindet. \n\n\n\n Kartenvorverkauf zum günstigsten Preis auf www.sparkasse.at/ticketing\, Ermäßigung für Sparkassenkunden
URL:https://popculture.at/event/julia-meladin/
CATEGORIES:Konzert
ATTACH;FMTTYPE=image/jpeg:https://popculture.at/wp-content/uploads/2025/03/FB-EH-JuliaM25.jpg
END:VEVENT
END:VCALENDAR