BEGIN:VCALENDAR
VERSION:2.0
PRODID:-//ppc - ECPv6.6.3//NONSGML v1.0//EN
CALSCALE:GREGORIAN
METHOD:PUBLISH
X-WR-CALNAME:ppc
X-ORIGINAL-URL:https://popculture.at
X-WR-CALDESC:Veranstaltungen für ppc
REFRESH-INTERVAL;VALUE=DURATION:PT1H
X-Robots-Tag:noindex
X-PUBLISHED-TTL:PT1H
BEGIN:VTIMEZONE
TZID:Europe/Berlin
BEGIN:DAYLIGHT
TZOFFSETFROM:+0100
TZOFFSETTO:+0200
TZNAME:CEST
DTSTART:20250330T010000
END:DAYLIGHT
BEGIN:STANDARD
TZOFFSETFROM:+0200
TZOFFSETTO:+0100
TZNAME:CET
DTSTART:20251026T010000
END:STANDARD
BEGIN:DAYLIGHT
TZOFFSETFROM:+0100
TZOFFSETTO:+0200
TZNAME:CEST
DTSTART:20260329T010000
END:DAYLIGHT
BEGIN:STANDARD
TZOFFSETFROM:+0200
TZOFFSETTO:+0100
TZNAME:CET
DTSTART:20261025T010000
END:STANDARD
END:VTIMEZONE
BEGIN:VEVENT
DTSTART;TZID=Europe/Berlin:20251203T190000
DTEND;TZID=Europe/Berlin:20251203T230000
DTSTAMP:20260422T154727
CREATED:20250428T143223Z
LAST-MODIFIED:20251020T070038Z
UID:10001208-1764788400-1764802800@popculture.at
SUMMARY:Freude
DESCRIPTION:& Support: Sanna Frankie  \n\n\n\nFREUDE ist der Soundtrack für alle\, die sich zwischen Vergangenheit & Zukunft\, zwischen Melancholie & Euphorie\, zwischen Chaos & Klarheit bewegen. Die Welt von FREUDE ist ein Widerspruch. Nostalgisch\, aber futuristisch. Warm\, aber rau. Zwischen zwei Welten. Nach ihrer ersten eigenen Tour im November vergangenen Jahres\, bringt das Trio im November & Dezember 2025 ihren nostalgischen Wien-Pop mit Inhalt und Haltung erneut auf die Bühnen des deutschsprachigen Raumes. Sie spielen 13 Konzerte in Deutschland\, Österreich und der Schweiz und präsentieren dabei nicht nur altbekannte\, sondern auch ganz neue Musik. \n\n\n\nHerzlich Willkommen in der Zwischenwelt: Wo niemand auf dich wartet\, dich aber auch nicht aufhält. \n\n\n\nTickets unter: freudemusik.eu
URL:https://popculture.at/event/freude-2/
CATEGORIES:Konzert
ATTACH;FMTTYPE=image/jpeg:https://popculture.at/wp-content/uploads/2025/04/031225freude.jpg
END:VEVENT
BEGIN:VEVENT
DTSTART;TZID=Europe/Berlin:20251204T190000
DTEND;TZID=Europe/Berlin:20251204T223000
DTSTAMP:20260422T154727
CREATED:20241203T145518Z
LAST-MODIFIED:20241203T145519Z
UID:10001104-1764874800-1764887400@popculture.at
SUMMARY:20 JAHRE FUZZMAN
DESCRIPTION:Nach seiner vielgelobten musikalischen Leitung der Wiener Festwochen ist Fuzzman mal eben so abgetaucht. War am Berg. Unerreichbar. Kurz weg. Nachdenken. Dann ist er vom Berg runtergekommen und ihm fiel auf; „es waren 20 Jahre!“ \n\n\n\n20 Jahre Fuzzman! \n\n\n\nDie kurze Schaffenspause\, nach der enorm hohen Schlagzahl der letzten Jahre mit all ihren erfolgreichen Seitenabstechern war fruchtbar. In puncto Side-Quests ist neben den Festwochen\, hier die zweifache Kuratierung des Popfests\, sein eigenes Bergfestival Fuzzstock sowie zahlreiche Ausflüge in die Film- und Fernsehwelt als Soundtrack-Komponist zu nennen.Aber auch die eigentliche Haupt-Straße war gut vom umtriebigen Beute-Kärntner befahren.Die letzen drei Alben „Willkommen im Nichts“\, „Endlich Vernunft“ und „Hände weg von Allem“\, allesamt in den letzten fünf Jahren veröffentlicht waren eine Triologie\, in der sich der Künstler Zamernik neu fand; ernsthafter und dringlicher wurde.Dazu das durchgeknallt eklektische Werk davor mit seinem irrlichternden Mix aus Soul-Pop\, Indie-Disco\, Noise-Folk\, Kärntnerlied und Schlager. \n\n\n\nEs war ein langer und ein schillernder Weg gewesen. Ziel gab es dabei nie eines. Und nun ist es erstmals an der Zeit zurückzublicken\, bevor die neuen Abenteuer warten.Mit 20 Jahren Fuzzman soll das geschehen. Fuzzman geht auf Tour und spielt ein Pottpurri aus Klassikern und Querschlägern\, Obskuritäten und Hits. \n\n\n\nDanach beginnt die Zukunft… \n\n\n\n Kartenvorverkauf zum günstigsten Preis auf www.sparkasse.at/ticketing\, Ermäßigung für Sparkassenkunden
URL:https://popculture.at/event/20-jahre-fuzzman/
CATEGORIES:Konzert
ATTACH;FMTTYPE=image/jpeg:https://popculture.at/wp-content/uploads/2024/12/469021996_986012363555283_6436790956433121874_n.jpg
END:VEVENT
BEGIN:VEVENT
DTSTART;TZID=Europe/Berlin:20251205T190000
DTEND;TZID=Europe/Berlin:20251205T223000
DTSTAMP:20260422T154727
CREATED:20250225T083317Z
LAST-MODIFIED:20250225T083320Z
UID:10001172-1764961200-1764973800@popculture.at
SUMMARY:OIMARA - "Kimm ma ned auf de Tour" 2025
DESCRIPTION:Der Stenz vom Berg ist längst in den Tälern angekommen und wird von Festivalpeople bis Feinschmecker als „Zebro“ oder „Dialektumami“ gefeiert. Als moderner Gstanzler\, bayerischer Rockstar\, Improvisateur und Liedermacher kommt ihm jedes Genre ungerade recht. \n\n\n\nSeine Kindheit verbachte er „wirtuos“ auf der heimischen Hafner-Alm und wurde wegen seines musikalischen Talents förmlich zu Live-Sessions gezwungen. Seine Lehre machte der “Lieblingsdepp” vom Tegernsee – nach ausreichend Schnitzelklopferfahrung und einem verkürzten Internatsausflug – mit 16 Jahren noch als Koch auf Malle. Kraft seines kreativ-ungehorsamen Wesens wurde er mit seinem “Bierle in da Sun” aber zum erhörten Allrounder der zwischen-nationalen Musikszene. \n\n\n\nRelaxte Gitarrensounds im Stil von John Mayer und treibende Stompbox-Beats treffen in seinem musikalischen Menü auf fast schon valentineske Wortspiele und eine Verschmitztheit\, die an eine jugendliche und extrem coole Version von Fredl Fesl denken lässt. Getragen von den Vibes des Publikums lässt sich der Hafner Beni (so steht’s in seinem Pass) vom siebten Sinn treiben und besingt alles\, was ihm das Leben und die Weltlage vor der Nase so bietet. \n\n\n\n“Zebrastreifenpferd” meets “Busheislparty” und “Cocktailschirm im Arsch” folgt “Wackelkontakt”. „Es duad ma leid Mama“\, aber es gibt hoid koane Wunschkonzerte…also „Kimm ma ned auf de Tour“. \n\n\n\n Kartenvorverkauf zum günstigsten Preis auf www.sparkasse.at/ticketing\, Ermäßigung für Sparkassenkunden
URL:https://popculture.at/event/oimara-kimm-ma-ned-auf-de-tour-2025/
CATEGORIES:Konzert
ATTACH;FMTTYPE=image/jpeg:https://popculture.at/wp-content/uploads/2025/02/480898053_1045474270942425_6439285146351355984_n-e1740472316527.jpg
END:VEVENT
BEGIN:VEVENT
DTSTART;TZID=Europe/Berlin:20251205T223000
DTEND;TZID=Europe/Berlin:20251206T040000
DTSTAMP:20260422T154727
CREATED:20240725T121224Z
LAST-MODIFIED:20260414T122344Z
UID:10001345-1764973800-1764993600@popculture.at
SUMMARY:Hey Ya! Die 00er Party
DESCRIPTION:Just dance! Die besten Tracks des Jahrzehnts “Get the party started: 2000 -2009 in the mix!”“Eingenullt werden” von den unvergessenen Charthits\, den Rockhymnen aller Art\, den extrem tanzbaren Tracks aber auch fast vergessenen One-Hit-Wonder-Songs\, aufgepeppt mit einer Prise HipHop und RnB.Wir marschieren querbeet durch die Jahre 2000 bis 2009; ganz egal ob Alicia Keys\, The Black Eyed Peas\, Usher\, Linkin Park\, Gigi D’Agostino\, Eminem\, Shakira\, Christina Aguilera\, System Of A Down\, Justin Timberlake\, Enrique Iglesias\, Kylie Minogue\, Destiny’s Child\, Avril Lavigne\,  Lady Gaga\, Blue\, Nickelback\,  Rihanna\, Shaggy\, Usher\, The Gossip\, oder aber auch Groove Coverage –  tanzen\, shaken\, mitsingen! \n\n\n\n Ermäßigung für spark7 Kunden gegen Vorlage der spark7 Debitkarte oder spark7 Student Identity Debitkarte \n\n\n\nEinlass ab 18 Jahren – das ppc behält sich jederzeit Alterskontrollen vor. Dafür werden nur amtlich ausgestellte Lichtbildausweise anerkannt (z.B. Personalausweis\, Reisepass). Kopien oder Fotos von Ausweisen sind ungültig!
URL:https://popculture.at/event/hey-ya-die-00er-party-2/2025-12-05/
CATEGORIES:Party
ATTACH;FMTTYPE=image/jpeg:https://popculture.at/wp-content/uploads/2024/07/friday-flyer-00er.jpg
ORGANIZER;CN="Partystandard":MAILTO:ab 18 Jahren
END:VEVENT
BEGIN:VEVENT
DTSTART;TZID=Europe/Berlin:20251206T190000
DTEND;TZID=Europe/Berlin:20251206T223000
DTSTAMP:20260422T154727
CREATED:20250527T071724Z
LAST-MODIFIED:20251205T134251Z
UID:10001238-1765047600-1765060200@popculture.at
SUMMARY:MAVI PHOENIX - ABGESAGT
DESCRIPTION:Das Konzert muss leider krankheitsbedingt abgesagt werden – Tickets können an den jeweiligen VVK Stellen zurückgegeben werden!  \n\n\n\n——– \n\n\n\nMavi Phoenix’ Album Drama Cowboy ist eine tiefgreifende Auseinandersetzung mit radikaler Selbstakzeptanz. Nach über einem Jahrzehnt persönlicher und musikalischer Entwicklung ist Mavi an einem Punkt angekommen\, an dem er seine Intensität nicht nur annimmt\, sondern sie bewusst in Szene setzt. Damit übernimmt er eine doppelte Rolle: als Dramaturg und als Dramatiker\, der das Album in ein theatralisches Gesamtkunstwerk verwandelt; eine Mischung aus Performance und persönlichem Manifest \n\n\n\n Kartenvorverkauf zum günstigsten Preis auf www.sparkasse.at/ticketing\, Ermäßigung für Sparkassenkunden
URL:https://popculture.at/event/mavi-phoenix/
CATEGORIES:Konzert
ATTACH;FMTTYPE=image/jpeg:https://popculture.at/wp-content/uploads/2025/05/499709199_1310608284128843_4295989241403320895_n.jpg
END:VEVENT
BEGIN:VEVENT
DTSTART;TZID=Europe/Berlin:20251206T220000
DTEND;TZID=Europe/Berlin:20251207T040000
DTSTAMP:20260422T154727
CREATED:20241203T080954Z
LAST-MODIFIED:20260126T103347Z
UID:10001356-1765058400-1765080000@popculture.at
SUMMARY:KAYKO - Best of K-Pop & Anime Sound
DESCRIPTION:KAYKO steht für K-Pop\, Anime\, Cosplay und eine Szene die nicht mehr auf zu halten ist! Wir präsentieren euch die größten K-Pop Hymnen unserer Zeit kombiniert mit Tracks eurer Lieblings Anime Serien!Egal ob K-Pop Fan\, Anime Addict oder Cosplayer bei uns kommt jeder auf seine Kosten! Sei Teil der immer größer werdenden Community!Mit Songs von BTS\, Girls Generation\, SHINee\, UNB\, Stray Kids\, SEVENTEEN\, PSY\, PENTAGON\, ONEUS\, KARA\, Jessi\, Jay Park\, IZ*ONE\, iKON\, GOT7\, EXO\, Everglow\, BLACKPINK\, BIGBANG\, 2PM\, 2NE1\, SUPER JUNIOR\, und viele mehr! \n\n\n\nEinlass ab 16 Jahren – das ppc behält sich jederzeit Alterskontrollen vor. Dafür werden nur amtlich ausgestellte Lichtbildausweise anerkannt (z.B. Personalausweis\, Reisepass). Kopien oder Fotos von Ausweisen sind ungültig!
URL:https://popculture.at/event/kayko-best-of-k-pop-anime-sound/2025-12-06/
CATEGORIES:Party
ATTACH;FMTTYPE=image/jpeg:https://popculture.at/wp-content/uploads/2024/12/321351570_1191930291699118_7704028316076173610_n-e1735552834590.jpg
END:VEVENT
BEGIN:VEVENT
DTSTART;TZID=Europe/Berlin:20251208T190000
DTEND;TZID=Europe/Berlin:20251208T230000
DTSTAMP:20260422T154727
CREATED:20231031T101206Z
LAST-MODIFIED:20251119T110455Z
UID:10000821-1765220400-1765234800@popculture.at
SUMMARY:NESS
DESCRIPTION:Leben Überleben Tour \n\n\n\nNESS auf „LEBEN ÜBERLEBEN“ Tour 2025 Nach zwei ausverkauften Headliner-Tourneen\, Festivalgigs beim Donauinselfest und dem CSD Köln und mit vielen neuen Releases im Gepäck geht NESS im November 2025 auf große „LEBEN ÜBERLEBEN“-Tour durch Deutschland\, Österreich und die Schweiz. On top erscheint vor der Tour ihre von den Fans bereits gespannt erwartete neue EP! \n\n\n\nMit über 2\,3 Millionen monatlichen Hörer:innen auf Spotify zählt NESS zu den meist gestreamten Künstler:innen Österreichs. Auch auf Social Media ist die 20-jährige Singer-Songwriterin längst kein Geheimtipp mehr – über 177.000 Follower auf Instagram und 288.000 auf TikTok begleiten ihre Karriere\, die sie innerhalb weniger Jahre vom Newcomer zur relevanten Stimme ihrer Generation gemacht hat. Im Mai 2025 landete NESS gemeinsam mit Kontra K und Unheilig den Top-5-Hit „Geboren um zu leben“\, der auf Platz 4 der Deutschen Single-Charts einstieg – ein weiterer Beweis für ihre Relevanz in der deutschsprachigen Musikszene. \n\n\n\nDer nächste Meilenstein ihrer Karriere ist nun die „LEBEN ÜBERLEBEN“-Tour 2025 – der Tourtitel nimmt Bezug auf ihre gleichnamige Single „Leben überleben“\, die Ende Juni erschien. Der Sound ist emotional und direkt – typisch NESS: ehrlich\, klar und nahbar. Die Botschaft des Songs ist persönlich: NESS schrieb ihn für eine enge Freundin\, die gerade durch eine sehr schwere Phase geht. Ihre Message ist klar: „Du bist nicht allein. Es wird wieder besser.“ Mit dem Track spricht NESS Menschen an\, die akut mit mentalen oder körperlichen Herausforderungen kämpfen – und setzt gleichzeitig ein klares Zeichen für mehr Zusammenhalt in schwierigen Zeiten. \n\n\n\n„Lass uns gemeinsam unser Leben überleben\, wir sind schon viel zu weit gekommen\, um umzudrehen“ – diese Zeile aus dem Refrain bringt das Gefühl des Tracks auf den Punkt. Es geht ums Durchhalten\, ums Weitermachen\, ums gegenseitige Stützen. Doch „Leben überleben“ ist nicht nur ein Song für Einzelne – er hat auch eine gesellschaftliche Dimension. In einer Welt\, die von Konflikten\, Krisen und Digitalisierung geprägt ist\, erinnert NESS daran\, dass wir nur gemeinsam durch emotionale Tiefs kommen\, und setzt ein Zeichen für mehr Miteinander\, für Empathie und dafür\, sich gegenseitig nicht aus den Augen zu verlieren – gerade in einer Zeit\, in der vieles auseinanderzudriften scheint. Diese Haltung zieht sich durch ihr ganzes Schaffen – musikalisch wie menschlich. \n\n\n\nNESS’ Liveshows sind kraftvoll\, emotional – und voll spürbarer Nähe zum Publikum. Ihre neuen Live- Arrangements bringen mehr Druck auf die Bühne – die Songs wirken dadurch noch direkter und gehen \n\n\n\nlive spürbar tiefer unter die Haut. Die Stimmung ist intensiv und authentisch – wer sie live erlebt\, nimmt Gänsehaut-Momente mit nach Hause.Im November 2025 geht NESS auf große Headliner-Tour durch Österreich\, Deutschland und die Schweiz und lädt mit der „LEBEN ÜBERLEBEN“ Tour 2025 ihre Community ein\, diesen Weg gemeinsamweiterzugehen – laut\, ehrlich und nah.
URL:https://popculture.at/event/ness/
CATEGORIES:Konzert
ATTACH;FMTTYPE=image/jpeg:https://popculture.at/wp-content/uploads/2023/10/4-NESS@Jeanette.sophie-scaled-e1751460462132.jpeg
END:VEVENT
BEGIN:VEVENT
DTSTART;TZID=Europe/Berlin:20251210T190000
DTEND;TZID=Europe/Berlin:20251210T223000
DTSTAMP:20260422T154727
CREATED:20230807T124414Z
LAST-MODIFIED:20250812T072000Z
UID:10000748-1765393200-1765405800@popculture.at
SUMMARY:Shantel & Bucovina Club Soundsystem
DESCRIPTION:Partizani Super Sonic Live Tour 2025 \n\n\n\nMit seinem internationalen Megahit Disko Partizani wurde Shantel weltweit das hörbare Gesicht einer neuen Musik und Dance Culture. Er war der Erste\, der aufgrund seiner vielschichtigen familiären Wurzeln der aktuellen Popkultur einen kosmopolitischen Sound verpasste. Bei Shantel ist Migration hör- und tanzbar. Musikalische Preziosen aus Südosteuropa\, Griechenland und dem Nahen Osten erscheinen in einem neuen\, vielschichtigen Kontext. \n\n\n\n\n\n\n\n\n\n Kartenvorverkauf zum günstigsten Preis auf www.sparkasse.at/ticketing\, Ermäßigung für Sparkassenkunden
URL:https://popculture.at/event/shantel/
CATEGORIES:Konzert
ATTACH;FMTTYPE=image/jpeg:https://popculture.at/wp-content/uploads/2023/08/454625976_901117242044796_302136435458901198_n.jpg
END:VEVENT
BEGIN:VEVENT
DTSTART;TZID=Europe/Berlin:20251211T190000
DTEND;TZID=Europe/Berlin:20251211T223000
DTSTAMP:20260422T154727
CREATED:20250618T072539Z
LAST-MODIFIED:20250918T070602Z
UID:10001245-1765479600-1765492200@popculture.at
SUMMARY:FIVA // "Alles Leuchtet 2025"
DESCRIPTION:Support: Mina Richmann Weihnachten fahren alle nach Hause. Und so ist es auch FIVAs Plan in diesem Jahr. Denn\, es ist schon viel zu lange her\, dass die Münchner Künstlerin ihre Homebase in Österreich musikalisch besucht hat. Wien\, Linz und Graz waren spätestens seit dem Album „Alles leuchtet“ jährlich in FIVAs Tourterminen. Dort wurde „Einen Sommer lang getanzt“ und sich versprochen „Das das Beste noch nicht vorbei ist“. Dann kamen die Pandemie und viele andere schöne und große Projekte dazwischen und jetzt ist es an der Zeit\, wieder zurückzukommen und die Frage aller Frage zu stellen: „Gehört die Stadt wieder mir?“. Wir hoffen doch! \n\n\n\nWir\, das sind FIVA\,Herbert Pirker (Drums)\, Phil Nykrin (Keys) und Tobi Wöhrer (Bass) . \n\n\n\nUnd natürlich ein paar tolle Gäste. \n\n\n\n Kartenvorverkauf zum günstigsten Preis auf www.sparkasse.at/ticketing\, Ermäßigung für Sparkassenkunden
URL:https://popculture.at/event/fiva-alles-leuchtet-2025/
CATEGORIES:Konzert
ATTACH;FMTTYPE=image/jpeg:https://popculture.at/wp-content/uploads/2025/06/PresseFIVA-Fotograf-Bernhard-Schinn-scaled.jpg
END:VEVENT
BEGIN:VEVENT
DTSTART;TZID=Europe/Berlin:20251212T220000
DTEND;TZID=Europe/Berlin:20251213T040000
DTSTAMP:20260422T154727
CREATED:20240821T073536Z
LAST-MODIFIED:20251209T154345Z
UID:10001362-1765576800-1765598400@popculture.at
SUMMARY:Friday I'm In Love: I love the 90’s
DESCRIPTION:Friday I’m In Love Special: I love the 90ies!Best of Pop / Rock / Dance / Alternative / Hip-HopSpecials:* Happy Hour Specials jeden Freitag von 23:00-00:00 Uhr!* Freier Eintritt für alle mit Geburtsjahr 1990 & 2000 \n\n\n\nNO PLACE FOR RACISM\, SEXISM\, HOMOPHOPIA! \n\n\n\nEinlass ab 18 Jahren – das ppc behält sich jederzeit Alterskontrollen vor. Dafür werden nur amtlich ausgestellte Lichtbildausweise anerkannt (z.B. Personalausweis\, Reisepass). Kopien oder Fotos von Ausweisen sind ungültig!
URL:https://popculture.at/event/i-love-the-90s-2/2025-12-12/
CATEGORIES:Party
ATTACH;FMTTYPE=image/jpeg:https://popculture.at/wp-content/uploads/2024/08/friday-flyer-90er.jpg
ORGANIZER;CN="Partystandard":MAILTO:ab 18 Jahren
END:VEVENT
BEGIN:VEVENT
DTSTART;TZID=Europe/Berlin:20251213T190000
DTEND;TZID=Europe/Berlin:20251213T223000
DTSTAMP:20260422T154727
CREATED:20250326T103635Z
LAST-MODIFIED:20251212T101908Z
UID:10001193-1765652400-1765665000@popculture.at
SUMMARY:Heinz aus Wien
DESCRIPTION:2026 feiern Heinz aus Wien ihr 30 jähriges Bühnenjubiläum.Das erste Konzert fand im Juni 1996 in der Wiener Sommer-Arena statt\, als Vorgruppe der deutschenBand Selig. Gegründet wurde die Band aber bereits 1995. Und so wollen die Herren schon 2025 mitden Jubiläumsfeierlichkeiten beginnen30 Jahre HEINZ AUS WIEN Vol. 11995 war die musikalische Welt in Österreich noch eine andere.Die Schröders hatten mit „Lass uns schmutzig Liebe machen“ die einzige deutschsprachige #1 derAustria Top 40\, Die Kelly Family sorgte mit „An Angel“ für leuchtende Augen bei den einen undblutende Ohren bei den anderen und „Cotton Eye Joe“ von Rednex verursachte seltsameBewegnungsabläufe auf den Tanzflächen des ganzen Landes.Und da waren auch diese vier jungen Männer\, die kannten sich aus der Wiener Indie-Musikszene undbeschlossen gemeinsam Musik zu machen\, einfach nur so\, mal nur mit deutschen Texten anstatt denenglischen\, zu denen die vier bisher musiziert hatten. Tagsüber gingen sie dem Brotjob nach\, abendstrafen sie sich im Studio\, schrieben Nummern und nahmen sie gleich auf. So führte das eine zumNächsten und sie hatten nicht nur eine Band mit dem Namen Heinz\, sondern ein Jahr später auchgleich einen internationalen Plattenvertrag in der Tasche. Und das war erst der Anfang.1997 waren Heinz aus Wien erstmals in Graz und ab dann sehr gerne immer wieder. Ob PPC\,Orpheum\, Arcadium oder bei Zelhesten im Augarten\, die Herren aus Wien fühlten sich in dersteirischen Hauptstadt immer sehr wohl und den Menschen da verbunden.In der Zwischenzeit sind unzählige Autobahnkilometer\, unzählige weitere Konzerte in fast jedemWinkel des mitteleuropäischen deutschsprachigen Universums\, einige Plattenverträge\, vieleKooperationen – ja\, auch mit einem Bundespräsidenten der dann auch zu einem gemeinsamenAuftritt im Grazer PPC erschien – und zahlreiche Alben ins Land gezogen. Man kann ruhig sagen: mitviel Freude haben sie mit ihrer Musik die Zeit begleitet.Und heute gibt es sie immer noch. Vier Freunde die gerne gemeinsam Musik machen und ab und zumal noch auf die Bühne steigen\, um das zu machen\, was sie schon immer konnten: Ihr Live-Publikumbis zur Erschöpfung zu begeistern. Heinz aus Wien also\, weiter gehts. \n\n\n\n Kartenvorverkauf zum günstigsten Preis auf www.sparkasse.at/ticketing\, Ermäßigung für Sparkassenkunden
URL:https://popculture.at/event/heinz-aus-wien/
CATEGORIES:Konzert
ATTACH;FMTTYPE=image/png:https://popculture.at/wp-content/uploads/2025/03/fb-ev-heinz.png
END:VEVENT
BEGIN:VEVENT
DTSTART;TZID=Europe/Berlin:20251213T223000
DTEND;TZID=Europe/Berlin:20251214T040000
DTSTAMP:20260422T154727
CREATED:20251202T104534Z
LAST-MODIFIED:20251205T081859Z
UID:10000465-1765665000-1765684800@popculture.at
SUMMARY:X-Mas Winter Wonderlend Party
DESCRIPTION:Vorgeglüht (im wahrsten Sinne des Wortes) wird bei Glühwein und Punsch am wunderbaren Winter Wonderlend am Mariahilferplatz – ab 20 Uhr gibt’s für die ersten 100 Glühweine bei der Hütte 1 FREETICKETS für’s ppc! Durch die Nacht gefeiert wird dann ab 22:30 Uhr im ppc mit 80ies/90ies/00er/10er und den größten aktuellen Hits  \n\n\n\n Ermäßigung für spark7 Kunden gegen Vorlage der spark7 Debitkarte oder spark7 Student Identity Debitkarte
URL:https://popculture.at/event/i-love-to-party-4/
CATEGORIES:Party
ATTACH;FMTTYPE=image/png:https://popculture.at/wp-content/uploads/2025/12/xmas-party-16x9-1.png
ORGANIZER;CN="8 / 10":MAILTO:ab 18 Jahren
END:VEVENT
BEGIN:VEVENT
DTSTART;TZID=Europe/Berlin:20251220T220000
DTEND;TZID=Europe/Berlin:20251221T040000
DTSTAMP:20260422T154727
CREATED:20231123T131612Z
LAST-MODIFIED:20260331T202241Z
UID:10001350-1766268000-1766289600@popculture.at
SUMMARY:BLACK PARADE // XL SPECIAL GRAZ - 4 YEARS ANNIVERSARY / 2 Floors
DESCRIPTION:BLACK PARADE bringt dir everything EMO AND SCENE von den 2000ern bis heute. Das bedeutet: WIR BRINGEN DIR DEINE FAVOURITE TRACKS UND HYMNEN VON DAMALS\, aber auch natürlich neuere tracks der Bands.  \n\n\n\nDIESMAL AUF 2 FLOORS \n\n\n\npop-punk\, metalcore\, screamo\, post hardcore\, rock\, deathcore\, nu metal und viel mehr \n\n\n\nWERDE EIN TEIL DES GRÖSSTEN UND BEKANNTESTEN EVENTS FÜR ALTERNATIVE MUSIK // join our beautiful parade \n\n\n\nAM MAIN FLOOR: wie gewohnt Tracks von: MY CHEMICAL ROMANCE\, BILLY TALENT\, FALL OUT BOY\, GOOD CHARLOTTE\, SUM41\, BLINK 182\, GREEN DAY\, LINKIN PARK\, AVENGED SEVENFOLD\, PANIC AT THE DISCO\, PAPA ROACH\, PARAMORE\, BRING ME THE HORIZON\, ESCAPE THE FATE\, JENNIFER ROSTOCK\, BLACK VEIL BRIDES\, AVRIL LAVIGNE\, THE USED\, BULLET FOR MY VALENTINE\, MUSE\, SLIPKNOT\, SYSTEM OF A DOWN\, LIMP BIZKIT UND VIELEN VIELEN MEHR!  \n\n\n\nAM CORE FLOOR: die härteren klassiker von ASKING ALEXANDRIA\, den alten BMTH tracks\, tracks aus der MYSPACE ERA von ATTACK ATTACK!\, BLESSTHEFALL\, ENTER SHIKARI\, und vielen mehr als auch das beste was METALCORE\, HARDCORE und DEATHCORE zu bieten hat von unter anderem: LORNA SHORE\, ARCHITECTS\, SUICIDE SILENCE\, WE CAME AS ROMANS\, PARKWAY DRIVE\, MOTIONLESS IN WHITE\, KNOCKED LOOSE\, KILLSWITCH ENGAGE\, ELECTRIC CALLBOY\, THE BUCHER SISTER UVM.  \n\n\n\nIT WAS NEVER A PHASE MUM \n\n\n\negal ob du immernoch die tracks von damals hörst\, oder diese wunderbare Musik erst neu für dich entdeckt hast\, wenn man einmal emo war stirbt dieser teil in dir NIE! \n\n\n\nAlso hol die Ripped Skinny-Jeans aus dem Schrank\, hau schwarzen Lack auf die Fingernägel\, gönn dir den härtesten Haarspray mit dem du eigentlich einen Wandschrank festkleben könntest\, und komm am 16.5. zu uns in das PPC GRAZ \n\n\n\nWELCOME TO THE BLACK PARADE \n\n\n\n16.5..26. \n\n\n\nPPC GRAZ \n\n\n\n18+ \n\n\n\n22:00 \n\n\n\nWir empfehlen ein VVK Ticket zu kaufen\, und bei kurzentschlossenen bereits früh genug an der Kassa zu sein. Danke für euer Verständnis und wir freuen uns auf euch! \n\n\n\nVVK: 12 EUROAK: 15 EURO
URL:https://popculture.at/event/black-parade-best-of-emo-and-scene-music/2025-12-20/
CATEGORIES:Party
ATTACH;FMTTYPE=image/png:https://popculture.at/wp-content/uploads/2023/11/FANTICKET-1-e1774988391365.png
END:VEVENT
BEGIN:VEVENT
DTSTART;TZID=Europe/Berlin:20251227T230000
DTEND;TZID=Europe/Berlin:20251228T040000
DTSTAMP:20260422T154727
CREATED:20240429T112051Z
LAST-MODIFIED:20251127T122434Z
UID:10000950-1766876400-1766894400@popculture.at
SUMMARY:Slay!
DESCRIPTION:LET‘S SLAY AGAIN! 💖Am 27. Dezember feiern wir im @p.p.c.graz wieder auf der SLAY – die bunteste X-Mas Party!: Tanzt mit uns und mit jeder Menge Glitzer\, Pop und Trash durch die Nacht. Everyone welcome! 💖✨⭐️ LGBTIQ-CLUBBING⭐️ EVERYONE WELCOME⭐️ NO DRESSCODESLAY! 🦄27.12. / 11 pm@p.p.c.graz https://www.instagram.com/slaypartygraz/ \n\n\n\nSEE YOU THERE 💖 \n\n\n\nVVK 13€Abendkasse 15€ \n\n\n\n\n\n\n\n\n\nEinlass ab 18 Jahren – das ppc behält sich jederzeit Alterskontrollen vor. Dafür werden nur amtlich ausgestellte Lichtbildausweise anerkannt (z.B. Personalausweis\, Reisepass). Kopien oder Fotos von Ausweisen sind ungültig!
URL:https://popculture.at/event/slay/
CATEGORIES:Party
ATTACH;FMTTYPE=image/jpeg:https://popculture.at/wp-content/uploads/2024/04/541581266_18137465941438012_2850914810777788039_n-e1759908755329.jpg
END:VEVENT
BEGIN:VEVENT
DTSTART;TZID=Europe/Berlin:20251231T230000
DTEND;TZID=Europe/Berlin:20260101T040000
DTSTAMP:20260422T154727
CREATED:20221213T124739Z
LAST-MODIFIED:20251112T092718Z
UID:10001353-1767222000-1767240000@popculture.at
SUMMARY:I Love Silvester
DESCRIPTION:Mit den fettesten Partykrachern aus mehreren Jahrzehnten gemeinsam ins neue Jahr durchstarten! \n\n\n\nIn das neue Jahr 2026 mit den größten Hits der letzten Jahrzehnte im ultimativen Silvester Mix. \n\n\n\nMitsingen\, Mittanzen\, Mitfeiern! Gemeinsam in das Jahr 2026 starten! \n\n\n\n Ermäßigung für spark7 Kunden gegen Vorlage der spark7 Debitkarte oder spark7 Student Identity Debitkarte
URL:https://popculture.at/event/ilovesilvester/2025-12-31/
CATEGORIES:Party
ATTACH;FMTTYPE=image/png:https://popculture.at/wp-content/uploads/2022/12/silvester-ppc.png
ORGANIZER;CN="Partystandard":MAILTO:ab 18 Jahren
END:VEVENT
END:VCALENDAR