BEGIN:VCALENDAR
VERSION:2.0
PRODID:-//ppc - ECPv6.6.3//NONSGML v1.0//EN
CALSCALE:GREGORIAN
METHOD:PUBLISH
X-WR-CALNAME:ppc
X-ORIGINAL-URL:https://popculture.at
X-WR-CALDESC:Veranstaltungen für ppc
REFRESH-INTERVAL;VALUE=DURATION:PT1H
X-Robots-Tag:noindex
X-PUBLISHED-TTL:PT1H
BEGIN:VTIMEZONE
TZID:Europe/Berlin
BEGIN:DAYLIGHT
TZOFFSETFROM:+0100
TZOFFSETTO:+0200
TZNAME:CEST
DTSTART:20260329T010000
END:DAYLIGHT
BEGIN:STANDARD
TZOFFSETFROM:+0200
TZOFFSETTO:+0100
TZNAME:CET
DTSTART:20261025T010000
END:STANDARD
END:VTIMEZONE
BEGIN:VEVENT
DTSTART;TZID=Europe/Berlin:20260206T220000
DTEND;TZID=Europe/Berlin:20260207T040000
DTSTAMP:20260422T125721
CREATED:20240725T121224Z
LAST-MODIFIED:20260414T122344Z
UID:10001384-1770415200-1770436800@popculture.at
SUMMARY:Hey Ya! Die 00er Party
DESCRIPTION:Just dance! Die besten Tracks des Jahrzehnts “Get the party started: 2000 -2009 in the mix!”“Eingenullt werden” von den unvergessenen Charthits\, den Rockhymnen aller Art\, den extrem tanzbaren Tracks aber auch fast vergessenen One-Hit-Wonder-Songs\, aufgepeppt mit einer Prise HipHop und RnB.Wir marschieren querbeet durch die Jahre 2000 bis 2009; ganz egal ob Alicia Keys\, The Black Eyed Peas\, Usher\, Linkin Park\, Gigi D’Agostino\, Eminem\, Shakira\, Christina Aguilera\, System Of A Down\, Justin Timberlake\, Enrique Iglesias\, Kylie Minogue\, Destiny’s Child\, Avril Lavigne\,  Lady Gaga\, Blue\, Nickelback\,  Rihanna\, Shaggy\, Usher\, The Gossip\, oder aber auch Groove Coverage –  tanzen\, shaken\, mitsingen! \n\n\n\n Ermäßigung für spark7 Kunden gegen Vorlage der spark7 Debitkarte oder spark7 Student Identity Debitkarte \n\n\n\nEinlass ab 18 Jahren – das ppc behält sich jederzeit Alterskontrollen vor. Dafür werden nur amtlich ausgestellte Lichtbildausweise anerkannt (z.B. Personalausweis\, Reisepass). Kopien oder Fotos von Ausweisen sind ungültig!
URL:https://popculture.at/event/hey-ya-die-00er-party-2/2026-02-06/
CATEGORIES:Party
ATTACH;FMTTYPE=image/jpeg:https://popculture.at/wp-content/uploads/2024/07/friday-flyer-00er.jpg
ORGANIZER;CN="Partystandard":MAILTO:ab 18 Jahren
END:VEVENT
BEGIN:VEVENT
DTSTART;TZID=Europe/Berlin:20260207T220000
DTEND;TZID=Europe/Berlin:20260208T040000
DTSTAMP:20260422T125721
CREATED:20241203T080954Z
LAST-MODIFIED:20260126T103347Z
UID:10001398-1770501600-1770523200@popculture.at
SUMMARY:KAYKO - Best of K-Pop & Anime Sound
DESCRIPTION:KAYKO steht für K-Pop\, Anime\, Cosplay und eine Szene die nicht mehr auf zu halten ist! Wir präsentieren euch die größten K-Pop Hymnen unserer Zeit kombiniert mit Tracks eurer Lieblings Anime Serien!Egal ob K-Pop Fan\, Anime Addict oder Cosplayer bei uns kommt jeder auf seine Kosten! Sei Teil der immer größer werdenden Community!Mit Songs von BTS\, Girls Generation\, SHINee\, UNB\, Stray Kids\, SEVENTEEN\, PSY\, PENTAGON\, ONEUS\, KARA\, Jessi\, Jay Park\, IZ*ONE\, iKON\, GOT7\, EXO\, Everglow\, BLACKPINK\, BIGBANG\, 2PM\, 2NE1\, SUPER JUNIOR\, und viele mehr! \n\n\n\nEinlass ab 16 Jahren – das ppc behält sich jederzeit Alterskontrollen vor. Dafür werden nur amtlich ausgestellte Lichtbildausweise anerkannt (z.B. Personalausweis\, Reisepass). Kopien oder Fotos von Ausweisen sind ungültig!
URL:https://popculture.at/event/kayko-best-of-k-pop-anime-sound/2026-02-07/
CATEGORIES:Party
ATTACH;FMTTYPE=image/jpeg:https://popculture.at/wp-content/uploads/2024/12/321351570_1191930291699118_7704028316076173610_n-e1735552834590.jpg
END:VEVENT
BEGIN:VEVENT
DTSTART;TZID=Europe/Berlin:20260211T190000
DTEND;TZID=Europe/Berlin:20260211T230000
DTSTAMP:20260422T125721
CREATED:20250514T082143Z
LAST-MODIFIED:20260211T111546Z
UID:10001216-1770836400-1770850800@popculture.at
SUMMARY:CLOCKCLOCK - SOLD OUT
DESCRIPTION:Dream Forever Tour 2026CLOCKCLOCK starten 2026 ihre dritte Headliner-Tour und setzen der „Dreamers“-Ära einenemotionalen Schlusspunkt. Unter dem Titel „Dream Forever“ kündigt das Trio rund um FrontsängerBoki\, aktuell in der VOX-Show „Sing meinen Song“ zu sehen\, ihre neue Tournee an. Die Konzertemarkieren das Ende einer Ära\, die von Chart-Erfolgen\, dem Release des Albums „Dreamers“ undgefeierten Liveshows geprägt war. Ein letztes Versprechen: Die „Dream Forever“-Tour spielt mit derHoffnung\, dass Träume nicht enden – und bringt ab Februar 2026 den unverkennbaren CLOCKCLOCK-Sound auf die Bühnen in Deutschland und Österreich. Tickets sind ab sofort überall erhältlich \n\n\n\n Kartenvorverkauf zum günstigsten Preis auf www.sparkasse.at/ticketing\, Ermäßigung für Sparkassenkunden
URL:https://popculture.at/event/clockclock/
CATEGORIES:Konzert
ATTACH;FMTTYPE=image/jpeg:https://popculture.at/wp-content/uploads/2025/05/CLOCKCLOCK_Dream_Forever_Tour_2026_@NiklasKamp-scaled-e1747210843660.jpg
END:VEVENT
BEGIN:VEVENT
DTSTART;TZID=Europe/Berlin:20260228T220000
DTEND;TZID=Europe/Berlin:20260301T040000
DTSTAMP:20260422T125721
CREATED:20240725T121356Z
LAST-MODIFIED:20260414T122717Z
UID:10001389-1772316000-1772337600@popculture.at
SUMMARY:Völlig Losgelöst
DESCRIPTION:VÖLLIG LOSGELÖST! – die extrabreite Soundportal 80er-PartyDie Zeitreise in die 80er mit den Hits einer ganzen Generation! 80er Klassiker und NDW-Kulthits bei der Soundportal 80er Party \n\n\n\nDie legendäre 80ies Party mit den Soundportal DJs Drone & Joe Love \n\n\n\nSeit dem 31. Mai 2002 geht der Kultclub bereits über die Bühne und ist seitdem aus dem Grazer Eventkalender nicht mehr wegzudenken! \n\n\n\nUnsere Völlig Losgelöst Facebook Fanpage findet ihr hier \n\n\n\nEinlass ab 18 Jahren – das ppc behält sich jederzeit Alterskontrollen vor. Dafür werden nur amtlich ausgestellte Lichtbildausweise anerkannt (z.B. Personalausweis\, Reisepass). Kopien oder Fotos von Ausweisen sind ungültig!
URL:https://popculture.at/event/voellig-losgeloest-gratiseintritt-bis-mitternacht/2026-02-28/
CATEGORIES:Party
ATTACH;FMTTYPE=image/jpeg:https://popculture.at/wp-content/uploads/2023/03/voelliglosgeloest2-scaled-e1687936702673-2048x1152-1.jpg
ORGANIZER;CN="Partystandard":MAILTO:ab 18 Jahren
END:VEVENT
END:VCALENDAR