BEGIN:VCALENDAR
VERSION:2.0
PRODID:-//ppc - ECPv6.6.3//NONSGML v1.0//EN
CALSCALE:GREGORIAN
METHOD:PUBLISH
X-WR-CALNAME:ppc
X-ORIGINAL-URL:https://popculture.at
X-WR-CALDESC:Veranstaltungen für ppc
REFRESH-INTERVAL;VALUE=DURATION:PT1H
X-Robots-Tag:noindex
X-PUBLISHED-TTL:PT1H
BEGIN:VTIMEZONE
TZID:Europe/Berlin
BEGIN:DAYLIGHT
TZOFFSETFROM:+0100
TZOFFSETTO:+0200
TZNAME:CEST
DTSTART:20260329T010000
END:DAYLIGHT
BEGIN:STANDARD
TZOFFSETFROM:+0200
TZOFFSETTO:+0100
TZNAME:CET
DTSTART:20261025T010000
END:STANDARD
BEGIN:DAYLIGHT
TZOFFSETFROM:+0100
TZOFFSETTO:+0200
TZNAME:CEST
DTSTART:20270328T010000
END:DAYLIGHT
BEGIN:STANDARD
TZOFFSETFROM:+0200
TZOFFSETTO:+0100
TZNAME:CET
DTSTART:20271031T010000
END:STANDARD
BEGIN:DAYLIGHT
TZOFFSETFROM:+0100
TZOFFSETTO:+0200
TZNAME:CEST
DTSTART:20280326T010000
END:DAYLIGHT
BEGIN:STANDARD
TZOFFSETFROM:+0200
TZOFFSETTO:+0100
TZNAME:CET
DTSTART:20281029T010000
END:STANDARD
BEGIN:DAYLIGHT
TZOFFSETFROM:+0100
TZOFFSETTO:+0200
TZNAME:CEST
DTSTART:20290325T010000
END:DAYLIGHT
BEGIN:STANDARD
TZOFFSETFROM:+0200
TZOFFSETTO:+0100
TZNAME:CET
DTSTART:20291028T010000
END:STANDARD
BEGIN:DAYLIGHT
TZOFFSETFROM:+0100
TZOFFSETTO:+0200
TZNAME:CEST
DTSTART:20300331T010000
END:DAYLIGHT
BEGIN:STANDARD
TZOFFSETFROM:+0200
TZOFFSETTO:+0100
TZNAME:CET
DTSTART:20301027T010000
END:STANDARD
BEGIN:DAYLIGHT
TZOFFSETFROM:+0100
TZOFFSETTO:+0200
TZNAME:CEST
DTSTART:20310330T010000
END:DAYLIGHT
BEGIN:STANDARD
TZOFFSETFROM:+0200
TZOFFSETTO:+0100
TZNAME:CET
DTSTART:20311026T010000
END:STANDARD
BEGIN:DAYLIGHT
TZOFFSETFROM:+0100
TZOFFSETTO:+0200
TZNAME:CEST
DTSTART:20320328T010000
END:DAYLIGHT
BEGIN:STANDARD
TZOFFSETFROM:+0200
TZOFFSETTO:+0100
TZNAME:CET
DTSTART:20321031T010000
END:STANDARD
BEGIN:DAYLIGHT
TZOFFSETFROM:+0100
TZOFFSETTO:+0200
TZNAME:CEST
DTSTART:20330327T010000
END:DAYLIGHT
BEGIN:STANDARD
TZOFFSETFROM:+0200
TZOFFSETTO:+0100
TZNAME:CET
DTSTART:20331030T010000
END:STANDARD
BEGIN:DAYLIGHT
TZOFFSETFROM:+0100
TZOFFSETTO:+0200
TZNAME:CEST
DTSTART:20340326T010000
END:DAYLIGHT
BEGIN:STANDARD
TZOFFSETFROM:+0200
TZOFFSETTO:+0100
TZNAME:CET
DTSTART:20341029T010000
END:STANDARD
BEGIN:DAYLIGHT
TZOFFSETFROM:+0100
TZOFFSETTO:+0200
TZNAME:CEST
DTSTART:20350325T010000
END:DAYLIGHT
BEGIN:STANDARD
TZOFFSETFROM:+0200
TZOFFSETTO:+0100
TZNAME:CET
DTSTART:20351028T010000
END:STANDARD
BEGIN:DAYLIGHT
TZOFFSETFROM:+0100
TZOFFSETTO:+0200
TZNAME:CEST
DTSTART:20360330T010000
END:DAYLIGHT
BEGIN:STANDARD
TZOFFSETFROM:+0200
TZOFFSETTO:+0100
TZNAME:CET
DTSTART:20361026T010000
END:STANDARD
BEGIN:DAYLIGHT
TZOFFSETFROM:+0100
TZOFFSETTO:+0200
TZNAME:CEST
DTSTART:20370329T010000
END:DAYLIGHT
BEGIN:STANDARD
TZOFFSETFROM:+0200
TZOFFSETTO:+0100
TZNAME:CET
DTSTART:20371025T010000
END:STANDARD
END:VTIMEZONE
BEGIN:VEVENT
DTSTART;TZID=Europe/Berlin:20260424T220000
DTEND;TZID=Europe/Berlin:20260425T040000
DTSTAMP:20260420T155344
CREATED:20250805T075709Z
LAST-MODIFIED:20260414T123155Z
UID:10001413-1777068000-1777089600@popculture.at
SUMMARY:FRIDAY I'M IN LOVE - 90s & 2000s CLUB
DESCRIPTION:THE SOUNDTRACK OF YOUR LIFE – every friday @ppc!  Best of Pop / Rock / Dance / Alternative / Hip-Hop Everything from the 90s till today curated by DJ Naastik & DJ Twio Specials:* Happy Hour Specials jeden Freitag von 23:00-00:00 Uhr!* Freier Eintritt für alle mit Geburtsjahr 1990 & 2000NO PLACE FOR RACISM\, SEXISM\, HOMOPHOPIA! \n\n\n\nEinlass ab 18 Jahren – das ppc behält sich jederzeit Alterskontrollen vor. Dafür werden nur amtlich ausgestellte Lichtbildausweise anerkannt (z.B. Personalausweis\, Reisepass). Kopien oder Fotos von Ausweisen sind ungültig! \n\n\n\n\n\n\nErmäßigung für spark7 Kunden gegen Vorlage der spark7 Debitkarte oder spark7 Student Identity Debitkarte
URL:https://popculture.at/event/friday-im-in-love-90s-2000s-club/2026-04-24/
CATEGORIES:Party
ATTACH;FMTTYPE=image/jpeg:https://popculture.at/wp-content/uploads/2025/08/1920-1080-max-e1754380575746.jpg
ORGANIZER;CN="Partystandard":MAILTO:ab 18 Jahren
END:VEVENT
BEGIN:VEVENT
DTSTART;TZID=Europe/Berlin:20260501T220000
DTEND;TZID=Europe/Berlin:20260504T040000
DTSTAMP:20260420T155344
CREATED:20240725T121224Z
LAST-MODIFIED:20260414T122344Z
UID:10001441-1777672800-1777867200@popculture.at
SUMMARY:Hey Ya! Die 00er Party
DESCRIPTION:Just dance! Die besten Tracks des Jahrzehnts “Get the party started: 2000 -2009 in the mix!”“Eingenullt werden” von den unvergessenen Charthits\, den Rockhymnen aller Art\, den extrem tanzbaren Tracks aber auch fast vergessenen One-Hit-Wonder-Songs\, aufgepeppt mit einer Prise HipHop und RnB.Wir marschieren querbeet durch die Jahre 2000 bis 2009; ganz egal ob Alicia Keys\, The Black Eyed Peas\, Usher\, Linkin Park\, Gigi D’Agostino\, Eminem\, Shakira\, Christina Aguilera\, System Of A Down\, Justin Timberlake\, Enrique Iglesias\, Kylie Minogue\, Destiny’s Child\, Avril Lavigne\,  Lady Gaga\, Blue\, Nickelback\,  Rihanna\, Shaggy\, Usher\, The Gossip\, oder aber auch Groove Coverage –  tanzen\, shaken\, mitsingen! \n\n\n\n Ermäßigung für spark7 Kunden gegen Vorlage der spark7 Debitkarte oder spark7 Student Identity Debitkarte \n\n\n\nEinlass ab 18 Jahren – das ppc behält sich jederzeit Alterskontrollen vor. Dafür werden nur amtlich ausgestellte Lichtbildausweise anerkannt (z.B. Personalausweis\, Reisepass). Kopien oder Fotos von Ausweisen sind ungültig!
URL:https://popculture.at/event/hey-ya-die-00er-party-2/2026-05-01/
CATEGORIES:Party
ATTACH;FMTTYPE=image/jpeg:https://popculture.at/wp-content/uploads/2024/07/friday-flyer-00er.jpg
ORGANIZER;CN="Partystandard":MAILTO:ab 18 Jahren
END:VEVENT
BEGIN:VEVENT
DTSTART;TZID=Europe/Berlin:20260508T220000
DTEND;TZID=Europe/Berlin:20260509T040000
DTSTAMP:20260420T155344
CREATED:20250805T075709Z
LAST-MODIFIED:20260414T123155Z
UID:10001414-1778277600-1778299200@popculture.at
SUMMARY:FRIDAY I'M IN LOVE - 90s & 2000s CLUB
DESCRIPTION:THE SOUNDTRACK OF YOUR LIFE – every friday @ppc!  Best of Pop / Rock / Dance / Alternative / Hip-Hop Everything from the 90s till today curated by DJ Naastik & DJ Twio Specials:* Happy Hour Specials jeden Freitag von 23:00-00:00 Uhr!* Freier Eintritt für alle mit Geburtsjahr 1990 & 2000NO PLACE FOR RACISM\, SEXISM\, HOMOPHOPIA! \n\n\n\nEinlass ab 18 Jahren – das ppc behält sich jederzeit Alterskontrollen vor. Dafür werden nur amtlich ausgestellte Lichtbildausweise anerkannt (z.B. Personalausweis\, Reisepass). Kopien oder Fotos von Ausweisen sind ungültig! \n\n\n\n\n\n\nErmäßigung für spark7 Kunden gegen Vorlage der spark7 Debitkarte oder spark7 Student Identity Debitkarte
URL:https://popculture.at/event/friday-im-in-love-90s-2000s-club/2026-05-08/
CATEGORIES:Party
ATTACH;FMTTYPE=image/jpeg:https://popculture.at/wp-content/uploads/2025/08/1920-1080-max-e1754380575746.jpg
ORGANIZER;CN="Partystandard":MAILTO:ab 18 Jahren
END:VEVENT
BEGIN:VEVENT
DTSTART;TZID=Europe/Berlin:20260515T223000
DTEND;TZID=Europe/Berlin:20260516T040000
DTSTAMP:20260420T155344
CREATED:20250805T075709Z
LAST-MODIFIED:20260414T123155Z
UID:10001415-1778884200-1778904000@popculture.at
SUMMARY:FRIDAY I'M IN LOVE - 90s & 2000s CLUB
DESCRIPTION:THE SOUNDTRACK OF YOUR LIFE – every friday @ppc!  Best of Pop / Rock / Dance / Alternative / Hip-Hop Everything from the 90s till today curated by DJ Naastik & DJ Twio Specials:* Happy Hour Specials jeden Freitag von 23:00-00:00 Uhr!* Freier Eintritt für alle mit Geburtsjahr 1990 & 2000NO PLACE FOR RACISM\, SEXISM\, HOMOPHOPIA! \n\n\n\nEinlass ab 18 Jahren – das ppc behält sich jederzeit Alterskontrollen vor. Dafür werden nur amtlich ausgestellte Lichtbildausweise anerkannt (z.B. Personalausweis\, Reisepass). Kopien oder Fotos von Ausweisen sind ungültig! \n\n\n\n\n\n\nErmäßigung für spark7 Kunden gegen Vorlage der spark7 Debitkarte oder spark7 Student Identity Debitkarte
URL:https://popculture.at/event/friday-im-in-love-90s-2000s-club/2026-05-15/
CATEGORIES:Party
ATTACH;FMTTYPE=image/jpeg:https://popculture.at/wp-content/uploads/2025/08/1920-1080-max-e1754380575746.jpg
ORGANIZER;CN="Partystandard":MAILTO:ab 18 Jahren
END:VEVENT
BEGIN:VEVENT
DTSTART;TZID=Europe/Berlin:20260522T220000
DTEND;TZID=Europe/Berlin:20260523T040000
DTSTAMP:20260420T155344
CREATED:20250805T075709Z
LAST-MODIFIED:20260414T123155Z
UID:10001444-1779487200-1779508800@popculture.at
SUMMARY:FRIDAY I'M IN LOVE - 90s & 2000s CLUB
DESCRIPTION:THE SOUNDTRACK OF YOUR LIFE – every friday @ppc!  Best of Pop / Rock / Dance / Alternative / Hip-Hop Everything from the 90s till today curated by DJ Naastik & DJ Twio Specials:* Happy Hour Specials jeden Freitag von 23:00-00:00 Uhr!* Freier Eintritt für alle mit Geburtsjahr 1990 & 2000NO PLACE FOR RACISM\, SEXISM\, HOMOPHOPIA! \n\n\n\nEinlass ab 18 Jahren – das ppc behält sich jederzeit Alterskontrollen vor. Dafür werden nur amtlich ausgestellte Lichtbildausweise anerkannt (z.B. Personalausweis\, Reisepass). Kopien oder Fotos von Ausweisen sind ungültig! \n\n\n\n\n\n\nErmäßigung für spark7 Kunden gegen Vorlage der spark7 Debitkarte oder spark7 Student Identity Debitkarte
URL:https://popculture.at/event/friday-im-in-love-90s-2000s-club/2026-05-22/
CATEGORIES:Party
ATTACH;FMTTYPE=image/jpeg:https://popculture.at/wp-content/uploads/2025/08/1920-1080-max-e1754380575746.jpg
ORGANIZER;CN="Partystandard":MAILTO:ab 18 Jahren
END:VEVENT
BEGIN:VEVENT
DTSTART;TZID=Europe/Berlin:20260529T220000
DTEND;TZID=Europe/Berlin:20260530T040000
DTSTAMP:20260420T155344
CREATED:20250805T075709Z
LAST-MODIFIED:20260414T123155Z
UID:10001416-1780092000-1780113600@popculture.at
SUMMARY:FRIDAY I'M IN LOVE - 90s & 2000s CLUB
DESCRIPTION:THE SOUNDTRACK OF YOUR LIFE – every friday @ppc!  Best of Pop / Rock / Dance / Alternative / Hip-Hop Everything from the 90s till today curated by DJ Naastik & DJ Twio Specials:* Happy Hour Specials jeden Freitag von 23:00-00:00 Uhr!* Freier Eintritt für alle mit Geburtsjahr 1990 & 2000NO PLACE FOR RACISM\, SEXISM\, HOMOPHOPIA! \n\n\n\nEinlass ab 18 Jahren – das ppc behält sich jederzeit Alterskontrollen vor. Dafür werden nur amtlich ausgestellte Lichtbildausweise anerkannt (z.B. Personalausweis\, Reisepass). Kopien oder Fotos von Ausweisen sind ungültig! \n\n\n\n\n\n\nErmäßigung für spark7 Kunden gegen Vorlage der spark7 Debitkarte oder spark7 Student Identity Debitkarte
URL:https://popculture.at/event/friday-im-in-love-90s-2000s-club/2026-05-29/
CATEGORIES:Party
ATTACH;FMTTYPE=image/jpeg:https://popculture.at/wp-content/uploads/2025/08/1920-1080-max-e1754380575746.jpg
ORGANIZER;CN="Partystandard":MAILTO:ab 18 Jahren
END:VEVENT
BEGIN:VEVENT
DTSTART;TZID=Europe/Berlin:20260530T220000
DTEND;TZID=Europe/Berlin:20260531T040000
DTSTAMP:20260420T155344
CREATED:20240725T121356Z
LAST-MODIFIED:20260414T122717Z
UID:10001443-1780178400-1780200000@popculture.at
SUMMARY:Völlig Losgelöst
DESCRIPTION:VÖLLIG LOSGELÖST! – die extrabreite Soundportal 80er-PartyDie Zeitreise in die 80er mit den Hits einer ganzen Generation! 80er Klassiker und NDW-Kulthits bei der Soundportal 80er Party \n\n\n\nDie legendäre 80ies Party mit den Soundportal DJs Drone & Joe Love \n\n\n\nSeit dem 31. Mai 2002 geht der Kultclub bereits über die Bühne und ist seitdem aus dem Grazer Eventkalender nicht mehr wegzudenken! \n\n\n\nUnsere Völlig Losgelöst Facebook Fanpage findet ihr hier \n\n\n\nEinlass ab 18 Jahren – das ppc behält sich jederzeit Alterskontrollen vor. Dafür werden nur amtlich ausgestellte Lichtbildausweise anerkannt (z.B. Personalausweis\, Reisepass). Kopien oder Fotos von Ausweisen sind ungültig!
URL:https://popculture.at/event/voellig-losgeloest-gratiseintritt-bis-mitternacht/2026-05-30/
CATEGORIES:Party
ATTACH;FMTTYPE=image/jpeg:https://popculture.at/wp-content/uploads/2023/03/voelliglosgeloest2-scaled-e1687936702673-2048x1152-1.jpg
ORGANIZER;CN="Partystandard":MAILTO:ab 18 Jahren
END:VEVENT
BEGIN:VEVENT
DTSTART;TZID=Europe/Berlin:20260612T220000
DTEND;TZID=Europe/Berlin:20260613T040000
DTSTAMP:20260420T155344
CREATED:20250805T075709Z
LAST-MODIFIED:20260414T123155Z
UID:10001417-1781301600-1781323200@popculture.at
SUMMARY:FRIDAY I'M IN LOVE - 90s & 2000s CLUB
DESCRIPTION:THE SOUNDTRACK OF YOUR LIFE – every friday @ppc!  Best of Pop / Rock / Dance / Alternative / Hip-Hop Everything from the 90s till today curated by DJ Naastik & DJ Twio Specials:* Happy Hour Specials jeden Freitag von 23:00-00:00 Uhr!* Freier Eintritt für alle mit Geburtsjahr 1990 & 2000NO PLACE FOR RACISM\, SEXISM\, HOMOPHOPIA! \n\n\n\nEinlass ab 18 Jahren – das ppc behält sich jederzeit Alterskontrollen vor. Dafür werden nur amtlich ausgestellte Lichtbildausweise anerkannt (z.B. Personalausweis\, Reisepass). Kopien oder Fotos von Ausweisen sind ungültig! \n\n\n\n\n\n\nErmäßigung für spark7 Kunden gegen Vorlage der spark7 Debitkarte oder spark7 Student Identity Debitkarte
URL:https://popculture.at/event/friday-im-in-love-90s-2000s-club/2026-06-12/
CATEGORIES:Party
ATTACH;FMTTYPE=image/jpeg:https://popculture.at/wp-content/uploads/2025/08/1920-1080-max-e1754380575746.jpg
ORGANIZER;CN="Partystandard":MAILTO:ab 18 Jahren
END:VEVENT
BEGIN:VEVENT
DTSTART;TZID=Europe/Berlin:20260619T220000
DTEND;TZID=Europe/Berlin:20260620T040000
DTSTAMP:20260420T155344
CREATED:20250805T075709Z
LAST-MODIFIED:20260414T123155Z
UID:10001418-1781906400-1781928000@popculture.at
SUMMARY:FRIDAY I'M IN LOVE - 90s & 2000s CLUB
DESCRIPTION:THE SOUNDTRACK OF YOUR LIFE – every friday @ppc!  Best of Pop / Rock / Dance / Alternative / Hip-Hop Everything from the 90s till today curated by DJ Naastik & DJ Twio Specials:* Happy Hour Specials jeden Freitag von 23:00-00:00 Uhr!* Freier Eintritt für alle mit Geburtsjahr 1990 & 2000NO PLACE FOR RACISM\, SEXISM\, HOMOPHOPIA! \n\n\n\nEinlass ab 18 Jahren – das ppc behält sich jederzeit Alterskontrollen vor. Dafür werden nur amtlich ausgestellte Lichtbildausweise anerkannt (z.B. Personalausweis\, Reisepass). Kopien oder Fotos von Ausweisen sind ungültig! \n\n\n\n\n\n\nErmäßigung für spark7 Kunden gegen Vorlage der spark7 Debitkarte oder spark7 Student Identity Debitkarte
URL:https://popculture.at/event/friday-im-in-love-90s-2000s-club/2026-06-19/
CATEGORIES:Party
ATTACH;FMTTYPE=image/jpeg:https://popculture.at/wp-content/uploads/2025/08/1920-1080-max-e1754380575746.jpg
ORGANIZER;CN="Partystandard":MAILTO:ab 18 Jahren
END:VEVENT
BEGIN:VEVENT
DTSTART;TZID=Europe/Berlin:20260626T220000
DTEND;TZID=Europe/Berlin:20260627T040000
DTSTAMP:20260420T155344
CREATED:20250805T075709Z
LAST-MODIFIED:20260414T123155Z
UID:10001419-1782511200-1782532800@popculture.at
SUMMARY:FRIDAY I'M IN LOVE - 90s & 2000s CLUB
DESCRIPTION:THE SOUNDTRACK OF YOUR LIFE – every friday @ppc!  Best of Pop / Rock / Dance / Alternative / Hip-Hop Everything from the 90s till today curated by DJ Naastik & DJ Twio Specials:* Happy Hour Specials jeden Freitag von 23:00-00:00 Uhr!* Freier Eintritt für alle mit Geburtsjahr 1990 & 2000NO PLACE FOR RACISM\, SEXISM\, HOMOPHOPIA! \n\n\n\nEinlass ab 18 Jahren – das ppc behält sich jederzeit Alterskontrollen vor. Dafür werden nur amtlich ausgestellte Lichtbildausweise anerkannt (z.B. Personalausweis\, Reisepass). Kopien oder Fotos von Ausweisen sind ungültig! \n\n\n\n\n\n\nErmäßigung für spark7 Kunden gegen Vorlage der spark7 Debitkarte oder spark7 Student Identity Debitkarte
URL:https://popculture.at/event/friday-im-in-love-90s-2000s-club/2026-06-26/
CATEGORIES:Party
ATTACH;FMTTYPE=image/jpeg:https://popculture.at/wp-content/uploads/2025/08/1920-1080-max-e1754380575746.jpg
ORGANIZER;CN="Partystandard":MAILTO:ab 18 Jahren
END:VEVENT
BEGIN:VEVENT
DTSTART;TZID=Europe/Berlin:20410627T220000
DTEND;TZID=Europe/Berlin:20410704T120000
DTSTAMP:20260420T155344
CREATED:20240725T121224Z
LAST-MODIFIED:20260414T122344Z
UID:10001442-2255983200-2256552000@popculture.at
SUMMARY:Hey Ya! Die 00er Party
DESCRIPTION:Just dance! Die besten Tracks des Jahrzehnts “Get the party started: 2000 -2009 in the mix!”“Eingenullt werden” von den unvergessenen Charthits\, den Rockhymnen aller Art\, den extrem tanzbaren Tracks aber auch fast vergessenen One-Hit-Wonder-Songs\, aufgepeppt mit einer Prise HipHop und RnB.Wir marschieren querbeet durch die Jahre 2000 bis 2009; ganz egal ob Alicia Keys\, The Black Eyed Peas\, Usher\, Linkin Park\, Gigi D’Agostino\, Eminem\, Shakira\, Christina Aguilera\, System Of A Down\, Justin Timberlake\, Enrique Iglesias\, Kylie Minogue\, Destiny’s Child\, Avril Lavigne\,  Lady Gaga\, Blue\, Nickelback\,  Rihanna\, Shaggy\, Usher\, The Gossip\, oder aber auch Groove Coverage –  tanzen\, shaken\, mitsingen! \n\n\n\n Ermäßigung für spark7 Kunden gegen Vorlage der spark7 Debitkarte oder spark7 Student Identity Debitkarte \n\n\n\nEinlass ab 18 Jahren – das ppc behält sich jederzeit Alterskontrollen vor. Dafür werden nur amtlich ausgestellte Lichtbildausweise anerkannt (z.B. Personalausweis\, Reisepass). Kopien oder Fotos von Ausweisen sind ungültig!
URL:https://popculture.at/event/hey-ya-die-00er-party-2/2041-06-27/
CATEGORIES:Party
ATTACH;FMTTYPE=image/jpeg:https://popculture.at/wp-content/uploads/2024/07/friday-flyer-00er.jpg
ORGANIZER;CN="Partystandard":MAILTO:ab 18 Jahren
END:VEVENT
END:VCALENDAR